BEGIN:VCALENDAR
VERSION:2.0
PRODID:-//Ayuntamiento de Valdeolmos-Alalpardo - ECPv6.15.12.2//NONSGML v1.0//EN
CALSCALE:GREGORIAN
METHOD:PUBLISH
X-ORIGINAL-URL:https://www.valdeolmos-alalpardo.org
X-WR-CALDESC:Eventos para Ayuntamiento de Valdeolmos-Alalpardo
REFRESH-INTERVAL;VALUE=DURATION:PT1H
X-Robots-Tag:noindex
X-PUBLISHED-TTL:PT1H
BEGIN:VTIMEZONE
TZID:Europe/Madrid
BEGIN:DAYLIGHT
TZOFFSETFROM:+0100
TZOFFSETTO:+0200
TZNAME:CEST
DTSTART:20200329T010000
END:DAYLIGHT
BEGIN:STANDARD
TZOFFSETFROM:+0200
TZOFFSETTO:+0100
TZNAME:CET
DTSTART:20201025T010000
END:STANDARD
BEGIN:DAYLIGHT
TZOFFSETFROM:+0100
TZOFFSETTO:+0200
TZNAME:CEST
DTSTART:20210328T010000
END:DAYLIGHT
BEGIN:STANDARD
TZOFFSETFROM:+0200
TZOFFSETTO:+0100
TZNAME:CET
DTSTART:20211031T010000
END:STANDARD
BEGIN:DAYLIGHT
TZOFFSETFROM:+0100
TZOFFSETTO:+0200
TZNAME:CEST
DTSTART:20220327T010000
END:DAYLIGHT
BEGIN:STANDARD
TZOFFSETFROM:+0200
TZOFFSETTO:+0100
TZNAME:CET
DTSTART:20221030T010000
END:STANDARD
BEGIN:DAYLIGHT
TZOFFSETFROM:+0100
TZOFFSETTO:+0200
TZNAME:CEST
DTSTART:20230326T010000
END:DAYLIGHT
BEGIN:STANDARD
TZOFFSETFROM:+0200
TZOFFSETTO:+0100
TZNAME:CET
DTSTART:20231029T010000
END:STANDARD
END:VTIMEZONE
BEGIN:VEVENT
DTSTART;TZID=Europe/Madrid:20211215T080000
DTEND;TZID=Europe/Madrid:20220107T233000
DTSTAMP:20260423T112808
CREATED:20211208T202130Z
LAST-MODIFIED:20220108T200140Z
UID:27863-1639555200-1641598200@www.valdeolmos-alalpardo.org
SUMMARY:Del 15 de diciembre al 8 de enero: Programación navideña (Suspendido desde el 23 de diciembre)
DESCRIPTION:Consulta la Programación de Navidad en el municipio del 15 de diciembre al 8 de enero. \n  \nPROGRAMACIÓN NAVIDAD 2022_v2
URL:https://www.valdeolmos-alalpardo.org/evento/del-15-de-diciembre-al-8-de-enero-programacion-navidena/
LOCATION:Madrid
ATTACH;FMTTYPE=image/png:https://www.valdeolmos-alalpardo.org/wp-content/uploads/2021/12/Copia-de-Diseno-sin-nombre.png
END:VEVENT
BEGIN:VEVENT
DTSTART;TZID=Europe/Madrid:20220105T183000
DTEND;TZID=Europe/Madrid:20220105T200000
DTSTAMP:20260423T112808
CREATED:20211221T131215Z
LAST-MODIFIED:20220105T124840Z
UID:28112-1641407400-1641412800@www.valdeolmos-alalpardo.org
SUMMARY:5 de enero: Recorrido de la Cabalgata de Reyes
DESCRIPTION:El 5 de enero a las 18:30 horas se celebrará finamente la Cabalgata de Reyes.  \nAunque la programación navideña se suspendió el 23 de diciembre\, los Reyes Magos de Oriente sí recorrerán las calles de Valdeolmos y de Alalpardo. No habrá fiesta de epifanía ni tampoco entrega de regalos\, roscón y chocolate. \nEs obligatoria la mascarilla y también respetas la distancia de seguridad para evitar los contagios de covid. La precaución es fundamental. \n    \n 
URL:https://www.valdeolmos-alalpardo.org/evento/5-de-enero-finalmente-si-se-celebrara-la-cabalgata-de-reyes/
LOCATION:Madrid
ATTACH;FMTTYPE=image/png:https://www.valdeolmos-alalpardo.org/wp-content/uploads/2021/12/ok.png
END:VEVENT
BEGIN:VEVENT
DTSTART;TZID=Europe/Madrid:20220116T103000
DTEND;TZID=Europe/Madrid:20220116T150000
DTSTAMP:20260423T112808
CREATED:20211024T101129Z
LAST-MODIFIED:20251105T180142Z
UID:27413-1642329000-1642345200@www.valdeolmos-alalpardo.org
SUMMARY:16 de enero: X Trail del Serrucho
DESCRIPTION:El Alalpardo Running Team organiza la décima edición del Trail del Serrucho el 16 de enero de 2022. Te esperan 24 kilómetros de sana competencia\, diversión y un avituallamiento donde no faltará de nada. \nTrail del Serrucho 10 v2 \n       \n  \nPuedes venir con los tuyos porque habrá guardería para los más peques. El lugar de recepción será el polideportivo cubierto con buena calefacción\, duchas y el calor de todos los voluntarios\, verdaderos protagonistas de este evento.\n\nEl parking estará en el antiguo campo de fútbol al lado del mismo polideportivo.\n\nSe cumplirán con las medidas actuales sanitarias\, según la normativa vigente de las autoridades nacionales y comunitarias (Madrid) con respecto a la Covid19.\n\nHa habido ediciones anteriores con mucho viento y frío\, barro\, nieve\, seco… ¿Qué sorpresa tendremos este enero de 2022?\n\n Precio 15€\, donativo 1 euro para Cáritas.\n 
URL:https://www.valdeolmos-alalpardo.org/evento/16-de-enero-x-trail-del-serrucho/
LOCATION:Plaza de Toros de Alalpardo
ATTACH;FMTTYPE=image/jpeg:https://www.valdeolmos-alalpardo.org/wp-content/uploads/2021/10/Trail-del-Serrucho-10-v2_page-0001.jpg
END:VEVENT
BEGIN:VEVENT
DTSTART;TZID=Europe/Madrid:20220119T180000
DTEND;TZID=Europe/Madrid:20220129T180000
DTSTAMP:20260423T112808
CREATED:20220119T184639Z
LAST-MODIFIED:20220119T184639Z
UID:28203-1642615200-1643479200@www.valdeolmos-alalpardo.org
SUMMARY:Enero: Proyecto de Dinamización Ambiental con iniciativas sostenibles\, taller y excursión
DESCRIPTION:Proyecto de Dinamización Ambiental enero 2022. \nInscripción desde el 23 de diciembre.  \nEl Ayuntamiento de Valdeolmos-Alalpardo\, junto con la Consejería de Educación y Juventud de la Comunidad de Madrid\, creó un Proyecto de Dinamización Ambiental para niños\, jóvenes y adultos del municipio en el 2021 y duración  hasta junio de 2022. \nEste proyecto precisa de continuidad en la asistencia por parte de los alumnos\, por lo tanto dispondrán de preferencia para la realización de las actividades de fin de semana todos aquellos que acudan a las actividades de los miércoles. \nLas plazas son preferentes para personas empadronadas\, las no empadronadas pasarán a una lista de reserva y serán notificadas en el caso de quedar plazas disponibles. \nPara confirmar asistencia es preciso realizar inscripción en el Ayuntamiento o por teléfono 916202153\, donde previa confirmación de plaza disponible se enviará por mail la inscripción para ser remitida debidamente cumplimentada. \nLa no asistencia a una actividad confirmada\, sin la debida justificación\, supondrá la pérdida del derecho de asistencia al resto del proyecto. \nLas actividades están sujetas a cambios de última hora por circunstancias meteorológicas o de organización. \nTodas aquellas actividades que tengan coste quedarán confirmadas tras el pago de las mismas. \nNo se realizarán reservas de plaza. \nSolo se podrán realizar 4 inscripciones máximo por familia\, exceptuando familias numerosas previa presentación del Libro de Familia. \nLas plazas están indicadas para las personas nacidas en los años y edades correspondientes a la actividad\, pasando a lista de espera las personas que no cumplan los requisitos siempre que se adecuen a las características de la actividad. \nLa participación de menores en las actividades siempre debe ir sujeta a la autorización por parte de los padres/madres/tutores/as. \nProyecto Dinamización Ambiental enero 2022: \nSe potenciarán nuevas iniciativas de sostenibilidad (mayores de 18 años)\, taller de ropa sostenible reutilizando calcetines y camisetas (entre 6 y 12 años) y excursión de raquetas de nieve por la sierra de Guadarrama. \nPROYECTO DE DINAMIZACIÓN AMBIENTAL_ENE \n   
URL:https://www.valdeolmos-alalpardo.org/evento/enero-proyecto-de-dinamizacion-ambiental-con-iniciativas-sostenibles-taller-y-excursion/
LOCATION:Madrid
ATTACH;FMTTYPE=image/jpeg:https://www.valdeolmos-alalpardo.org/wp-content/uploads/2021/12/PROYECTO-DE-DINAMIZACION-AMBIENTAL_ENE_page-0001.jpg
END:VEVENT
BEGIN:VEVENT
DTSTART;TZID=Europe/Madrid:20220121T203000
DTEND;TZID=Europe/Madrid:20220121T213000
DTSTAMP:20260423T112808
CREATED:20220110T102241Z
LAST-MODIFIED:20220110T102333Z
UID:28142-1642797000-1642800600@www.valdeolmos-alalpardo.org
SUMMARY:21 de enero: Show musical 'La esencia de Camilo Sesto'
DESCRIPTION:El 21 de enero no te pierdas el estreno del show musical más esperado de Niurka en la Casa de la Cultura de Alalpardo a las 20:30 horas. \n‘La esencia de Camilo Sesto’ te hará vibrar con el gran Salva García y Niurka en el escenario. \nNo te quedes sin entrada para recordar al excepcional cantante Camilo Sesto\, fallecido en 2019\, uno de los mejores cantantes y compositores de este país. \nPrecio entrada anticipada: 8 euros.  \nPrecio entrada en puerta 10 euros.  \n 
URL:https://www.valdeolmos-alalpardo.org/evento/21-de-enero-show-musical-la-esencia-de-camilo-sesto/
LOCATION:Casa de Cultura de Alalpardo\, C/ Ejidos\, 8\, Alalpardo\, Madrid\, 28130\, España
ATTACH;FMTTYPE=image/jpeg:https://www.valdeolmos-alalpardo.org/wp-content/uploads/2022/01/ok.jpg
END:VEVENT
BEGIN:VEVENT
DTSTART;TZID=Europe/Madrid:20220126T180000
DTEND;TZID=Europe/Madrid:20220126T193000
DTSTAMP:20260423T112808
CREATED:20220119T192212Z
LAST-MODIFIED:20220125T114740Z
UID:28205-1643220000-1643225400@www.valdeolmos-alalpardo.org
SUMMARY:26 de enero: Taller de ropa sostenible dentro del Proyecto de Dinamización Ambiental
DESCRIPTION:Taller de ropa sostenible dentro del Proyecto de Dinamización Ambiental en el Aula de la Casa de la Cultura de Alalpardo. \n26 de enero de 18:00 a 19:30 horas. \nPara jóvenes de 6 a 12 años. Se reutilizarán calcetines y camisetas. Cada asistente reciclará en el Taller sus propias camisetas y calcetines en desuso. \n \n  \n 
URL:https://www.valdeolmos-alalpardo.org/evento/19-de-enero-iniciativas-de-sostenibilidad-dentro-del-proyecto-de-dinamizacion-ambiental/
LOCATION:Aula Casa de la Cultura de Alalpardo\, Calle Egidos\, 8\, Alalpardo\, Madrid\, 28130\, España
ATTACH;FMTTYPE=image/png:https://www.valdeolmos-alalpardo.org/wp-content/uploads/2022/01/Copia-de-Miercoles-1-de-diciembre-de-1900-a-2030-horas.png
END:VEVENT
BEGIN:VEVENT
DTSTART;TZID=Europe/Madrid:20220129T093000
DTEND;TZID=Europe/Madrid:20220129T173000
DTSTAMP:20260423T112808
CREATED:20220120T122429Z
LAST-MODIFIED:20220127T112016Z
UID:28218-1643448600-1643477400@www.valdeolmos-alalpardo.org
SUMMARY:29 enero: Excursión de senderismo en lugar de raquetas por falta de nieve
DESCRIPTION:Excursión de senderismo en lugar de raquetas por falta de nieve el sábado 29 de enero. Actividad dentro del Proyecto de Dinamización Ambiental.  \nLa excursión por la Laguna de Peñalara está dirigida a todos los vecinos y vecinas del municipio sin límite de edad. \nPrecio 10 euros. Es necesario inscribirse.  \nSalida: 9:30 horas desde el Consultorio de Alalpardo. Llegada a las 17:30 horas. \n 
URL:https://www.valdeolmos-alalpardo.org/evento/29-enero-excursion-de-raquetas-de-nieve-por-la-sierra-de-guadarrama/
LOCATION:Madrid
ATTACH;FMTTYPE=image/png:https://www.valdeolmos-alalpardo.org/wp-content/uploads/2022/01/thumbnail.png
END:VEVENT
END:VCALENDAR