BEGIN:VCALENDAR
VERSION:2.0
PRODID:-//Ayuntamiento de Valdeolmos-Alalpardo - ECPv6.15.12.2//NONSGML v1.0//EN
CALSCALE:GREGORIAN
METHOD:PUBLISH
X-ORIGINAL-URL:https://www.valdeolmos-alalpardo.org
X-WR-CALDESC:Eventos para Ayuntamiento de Valdeolmos-Alalpardo
REFRESH-INTERVAL;VALUE=DURATION:PT1H
X-Robots-Tag:noindex
X-PUBLISHED-TTL:PT1H
BEGIN:VTIMEZONE
TZID:Europe/Madrid
BEGIN:DAYLIGHT
TZOFFSETFROM:+0100
TZOFFSETTO:+0200
TZNAME:CEST
DTSTART:20250330T010000
END:DAYLIGHT
BEGIN:STANDARD
TZOFFSETFROM:+0200
TZOFFSETTO:+0100
TZNAME:CET
DTSTART:20251026T010000
END:STANDARD
BEGIN:DAYLIGHT
TZOFFSETFROM:+0100
TZOFFSETTO:+0200
TZNAME:CEST
DTSTART:20260329T010000
END:DAYLIGHT
BEGIN:STANDARD
TZOFFSETFROM:+0200
TZOFFSETTO:+0100
TZNAME:CET
DTSTART:20261025T010000
END:STANDARD
BEGIN:DAYLIGHT
TZOFFSETFROM:+0100
TZOFFSETTO:+0200
TZNAME:CEST
DTSTART:20270328T010000
END:DAYLIGHT
BEGIN:STANDARD
TZOFFSETFROM:+0200
TZOFFSETTO:+0100
TZNAME:CET
DTSTART:20271031T010000
END:STANDARD
END:VTIMEZONE
BEGIN:VEVENT
DTSTART;TZID=Europe/Madrid:20260501T090000
DTEND;TZID=Europe/Madrid:20260501T213000
DTSTAMP:20260424T081210
CREATED:20260421T214057Z
LAST-MODIFIED:20260421T214057Z
UID:41858-1777626000-1777671000@www.valdeolmos-alalpardo.org
SUMMARY:1 de mayo: X Torneo de Fútbol Cadete Vicente del Bosque 'Villa de Alalpardo'
DESCRIPTION:X Torneo de Fútbol Cadete Vicente del Bosque ‘Villa de Alalpardo’\n\nViernes 1 de mayo\nDe 9:00 a 21:30 horas\nCampo de Fútbol Municipal de Alalpardo\n\n  \n\n\n\n\n\nTorneo masculino: Atlético de Madrid\, Rayo Vallecano\, Getafe S.F\, A.D Alcobendas Intersoccer\, C.D Leganés y C.F Alalpardo.\nTorneo femenino: Real Madrid y Atlético de Madrid\n\n\n\n\n\n     
URL:https://www.valdeolmos-alalpardo.org/evento/1-de-mayo-x-torneo-de-futbol-cadete-vicente-del-bosque-villa-de-alalpardo/
LOCATION:Campo de Fútbol Municipal de Alalpardo\, Calle Alcalá\, 25\, Alalpardo\, Madrid\, 28130\, España
ATTACH;FMTTYPE=image/jpeg:https://www.valdeolmos-alalpardo.org/wp-content/uploads/2026/04/WhatsApp-Image-2026-04-21-at-14.38.41-1.jpeg
END:VEVENT
END:VCALENDAR