BEGIN:VCALENDAR
VERSION:2.0
PRODID:-//Ayuntamiento de Valdeolmos-Alalpardo - ECPv6.15.12.2//NONSGML v1.0//EN
CALSCALE:GREGORIAN
METHOD:PUBLISH
X-ORIGINAL-URL:https://www.valdeolmos-alalpardo.org
X-WR-CALDESC:Eventos para Ayuntamiento de Valdeolmos-Alalpardo
REFRESH-INTERVAL;VALUE=DURATION:PT1H
X-Robots-Tag:noindex
X-PUBLISHED-TTL:PT1H
BEGIN:VTIMEZONE
TZID:Europe/Madrid
BEGIN:DAYLIGHT
TZOFFSETFROM:+0100
TZOFFSETTO:+0200
TZNAME:CEST
DTSTART:20210328T010000
END:DAYLIGHT
BEGIN:STANDARD
TZOFFSETFROM:+0200
TZOFFSETTO:+0100
TZNAME:CET
DTSTART:20211031T010000
END:STANDARD
BEGIN:DAYLIGHT
TZOFFSETFROM:+0100
TZOFFSETTO:+0200
TZNAME:CEST
DTSTART:20220327T010000
END:DAYLIGHT
BEGIN:STANDARD
TZOFFSETFROM:+0200
TZOFFSETTO:+0100
TZNAME:CET
DTSTART:20221030T010000
END:STANDARD
BEGIN:DAYLIGHT
TZOFFSETFROM:+0100
TZOFFSETTO:+0200
TZNAME:CEST
DTSTART:20230326T010000
END:DAYLIGHT
BEGIN:STANDARD
TZOFFSETFROM:+0200
TZOFFSETTO:+0100
TZNAME:CET
DTSTART:20231029T010000
END:STANDARD
END:VTIMEZONE
BEGIN:VEVENT
DTSTART;TZID=Europe/Madrid:20221223T193000
DTEND;TZID=Europe/Madrid:20221223T210000
DTSTAMP:20260425T123324
CREATED:20221206T135308Z
LAST-MODIFIED:20221212T122921Z
UID:31376-1671823800-1671829200@www.valdeolmos-alalpardo.org
SUMMARY:23 de diciembre: Concierto Extraordinario de Navidad con preciosos villancicos
DESCRIPTION:Concierto Extraordinario de Navidad a cargo del Coro ‘ El Molino de Santa Isabel’ de Madrid el viernes 23 de diciembre en la Sala Al-Artis\nEscucharemos las grandes voces del Tenor\, Jonatán Martínez\, la Soprano María Luisa Bringas\, amenizadas por la pianista Marija Pendeva. \nNo puedes perderte el gran Concierto de villancicos. El acceso se realizará mediante invitación a recoger en el Ayuntamiento a partir del día 19 en el Ayuntamiento. \n23-12-22_Cartel concierto extraordinario de Navidad
URL:https://www.valdeolmos-alalpardo.org/evento/23-de-diciembre-concierto-extraordinario-de-navidad-con-preciosos-villancidos/
LOCATION:Sala Al Artis\, Calle Egidos\, 8\, Valdeolmos-Alalpardo\, Madrid\, 28130\, España
ATTACH;FMTTYPE=image/jpeg:https://www.valdeolmos-alalpardo.org/wp-content/uploads/2022/12/23-12-22_Cartel-concierto-extraordinario-de-Navidad_page-0001.jpg
END:VEVENT
END:VCALENDAR