BEGIN:VCALENDAR
VERSION:2.0
PRODID:-//Ayuntamiento de Valdeolmos-Alalpardo - ECPv6.15.12.2//NONSGML v1.0//EN
CALSCALE:GREGORIAN
METHOD:PUBLISH
X-WR-CALNAME:Ayuntamiento de Valdeolmos-Alalpardo
X-ORIGINAL-URL:https://www.valdeolmos-alalpardo.org
X-WR-CALDESC:Eventos para Ayuntamiento de Valdeolmos-Alalpardo
REFRESH-INTERVAL;VALUE=DURATION:PT1H
X-Robots-Tag:noindex
X-PUBLISHED-TTL:PT1H
BEGIN:VTIMEZONE
TZID:Europe/Madrid
BEGIN:DAYLIGHT
TZOFFSETFROM:+0100
TZOFFSETTO:+0200
TZNAME:CEST
DTSTART:20240331T010000
END:DAYLIGHT
BEGIN:STANDARD
TZOFFSETFROM:+0200
TZOFFSETTO:+0100
TZNAME:CET
DTSTART:20241027T010000
END:STANDARD
BEGIN:DAYLIGHT
TZOFFSETFROM:+0100
TZOFFSETTO:+0200
TZNAME:CEST
DTSTART:20250330T010000
END:DAYLIGHT
BEGIN:STANDARD
TZOFFSETFROM:+0200
TZOFFSETTO:+0100
TZNAME:CET
DTSTART:20251026T010000
END:STANDARD
BEGIN:DAYLIGHT
TZOFFSETFROM:+0100
TZOFFSETTO:+0200
TZNAME:CEST
DTSTART:20260329T010000
END:DAYLIGHT
BEGIN:STANDARD
TZOFFSETFROM:+0200
TZOFFSETTO:+0100
TZNAME:CET
DTSTART:20261025T010000
END:STANDARD
END:VTIMEZONE
BEGIN:VEVENT
DTSTART;TZID=Europe/Madrid:20250608T110000
DTEND;TZID=Europe/Madrid:20250608T203000
DTSTAMP:20260419T214614
CREATED:20250526T172718Z
LAST-MODIFIED:20250526T173533Z
UID:39612-1749380400-1749414600@www.valdeolmos-alalpardo.org
SUMMARY:8 de junio: Maratón Tejeril Solidario - 'Tejemos en público por una enfermedad rara - el Síndrome Nefrótico Infantil'
DESCRIPTION:La Asociación ‘Las Tejedoras del Paeque’ tejen en público por el ‘Síndrome Nefrótico Infantil’\nEl 8 de junio es el día de tejer en público y Las Tejedoras del Paeque han elegido ese día para tejer en el Porche de la Casa de la Cultura de Alalpardo junto a tejedoras de otros municipios de la zona. \nSe teje por una buena causa: recaudar fondos para AESNI\, Asociación Española de Síndrome Nefrótico Infantil. \nHabrá animación infantil\, mago\, paella solidaria y rifas para tejedoras a partir de donaciones de empresas colaboradoras como lanas y otras productos. \n\n8 de junio\nDesde las 11 de la mañana hasta pasadas las 7 de la tarde\nPorche de la Casa de la Cultura de Alalpardo y Sala Al-Artis\nGratuito\nMago y animación infantil\nConferencia\nPaella Solidaria\nRifas para tejedoras\n\nMaratón Tejeril Solidario\nEl acto une un hobby como el tejer punto y/o ganchillo a hablar sobre una afección renal rara llamada Síndrome Nefrótico Infantil y cuya Asociación estará presente. No faltará una Conferencia sobre dicho Síndrome tan poco frecuente y que afecta a los riñones de uno de cada 50.000 niños. Asistirá uno de los pocos médicos que hoy investigan este síndrome. \nPROGRAMA – MARATÓN TEJERIL (5) (1) \nConsulta el Programa
URL:https://www.valdeolmos-alalpardo.org/evento/8-de-junio-maraton-tejeril-solidario-tejemos-en-publico-por-una-enfermedad-rara-el-sindrome-nefrotico-infantil/
LOCATION:Casa de Cultura de Alalpardo\, C/ Ejidos\, 8\, Alalpardo\, Madrid\, 28130\, España
ATTACH;FMTTYPE=image/jpeg:https://www.valdeolmos-alalpardo.org/wp-content/uploads/2025/05/eca7e9f2-77df-46b3-a7d9-d3771c2ad7c1-1.jpg
END:VEVENT
END:VCALENDAR