BEGIN:VCALENDAR
VERSION:2.0
PRODID:-//Ayuntamiento de Valdeolmos-Alalpardo - ECPv6.15.12.2//NONSGML v1.0//EN
CALSCALE:GREGORIAN
METHOD:PUBLISH
X-WR-CALNAME:Ayuntamiento de Valdeolmos-Alalpardo
X-ORIGINAL-URL:https://www.valdeolmos-alalpardo.org
X-WR-CALDESC:Eventos para Ayuntamiento de Valdeolmos-Alalpardo
REFRESH-INTERVAL;VALUE=DURATION:PT1H
X-Robots-Tag:noindex
X-PUBLISHED-TTL:PT1H
BEGIN:VTIMEZONE
TZID:Europe/Madrid
BEGIN:DAYLIGHT
TZOFFSETFROM:+0100
TZOFFSETTO:+0200
TZNAME:CEST
DTSTART:20230326T010000
END:DAYLIGHT
BEGIN:STANDARD
TZOFFSETFROM:+0200
TZOFFSETTO:+0100
TZNAME:CET
DTSTART:20231029T010000
END:STANDARD
BEGIN:DAYLIGHT
TZOFFSETFROM:+0100
TZOFFSETTO:+0200
TZNAME:CEST
DTSTART:20240331T010000
END:DAYLIGHT
BEGIN:STANDARD
TZOFFSETFROM:+0200
TZOFFSETTO:+0100
TZNAME:CET
DTSTART:20241027T010000
END:STANDARD
BEGIN:DAYLIGHT
TZOFFSETFROM:+0100
TZOFFSETTO:+0200
TZNAME:CEST
DTSTART:20250330T010000
END:DAYLIGHT
BEGIN:STANDARD
TZOFFSETFROM:+0200
TZOFFSETTO:+0100
TZNAME:CET
DTSTART:20251026T010000
END:STANDARD
END:VTIMEZONE
BEGIN:VEVENT
DTSTART;TZID=Europe/Madrid:20241019T200000
DTEND;TZID=Europe/Madrid:20241019T210000
DTSTAMP:20260423T002716
CREATED:20240927T185150Z
LAST-MODIFIED:20241011T115854Z
UID:37877-1729368000-1729371600@www.valdeolmos-alalpardo.org
SUMMARY:19 de octubre:  Comedia 'Guapa y la masajista' en Valdeolmos
DESCRIPTION:‘Guapa y la Masajista’ es una comedia y una pieza de clown\n\n\nSe trata de una pieza de clown creada desde la inocencia e ingenua mirada de una payasa en búsqueda del amor. \nAdemás es un viaje emocional\,  una invitación a reír y a sufrir con un personaje lleno de ternura e inocencia. \n\nSábado 19 de octubre\n20:00 horas\nTeatro Estudio Sara Baras\, Calle Olivar 1 en Valdeolmos\nEntrada: 5 euros\nVenta de entradas a partir del 11 de octubre en el Ayuntamiento \n\n  \n\nguapa y la masajista (2) (002)
URL:https://www.valdeolmos-alalpardo.org/evento/19-de-octubre-comedia-guapa-y-la-masajista-en-valdeolmos/
LOCATION:Teatro-Estudio Sara Baras\, C/ Olivar 1\, Valdeolmos\, 28130
ATTACH;FMTTYPE=image/jpeg:https://www.valdeolmos-alalpardo.org/wp-content/uploads/2024/09/guapa-y-la-masajista-2-002.jpg
END:VEVENT
END:VCALENDAR