BEGIN:VCALENDAR
VERSION:2.0
PRODID:-//Ayuntamiento de Valdeolmos-Alalpardo - ECPv6.15.12.2//NONSGML v1.0//EN
CALSCALE:GREGORIAN
METHOD:PUBLISH
X-WR-CALNAME:Ayuntamiento de Valdeolmos-Alalpardo
X-ORIGINAL-URL:https://www.valdeolmos-alalpardo.org
X-WR-CALDESC:Eventos para Ayuntamiento de Valdeolmos-Alalpardo
REFRESH-INTERVAL;VALUE=DURATION:PT1H
X-Robots-Tag:noindex
X-PUBLISHED-TTL:PT1H
BEGIN:VTIMEZONE
TZID:Europe/Madrid
BEGIN:DAYLIGHT
TZOFFSETFROM:+0100
TZOFFSETTO:+0200
TZNAME:CEST
DTSTART:20190331T010000
END:DAYLIGHT
BEGIN:STANDARD
TZOFFSETFROM:+0200
TZOFFSETTO:+0100
TZNAME:CET
DTSTART:20191027T010000
END:STANDARD
BEGIN:DAYLIGHT
TZOFFSETFROM:+0100
TZOFFSETTO:+0200
TZNAME:CEST
DTSTART:20200329T010000
END:DAYLIGHT
BEGIN:STANDARD
TZOFFSETFROM:+0200
TZOFFSETTO:+0100
TZNAME:CET
DTSTART:20201025T010000
END:STANDARD
BEGIN:DAYLIGHT
TZOFFSETFROM:+0100
TZOFFSETTO:+0200
TZNAME:CEST
DTSTART:20210328T010000
END:DAYLIGHT
BEGIN:STANDARD
TZOFFSETFROM:+0200
TZOFFSETTO:+0100
TZNAME:CET
DTSTART:20211031T010000
END:STANDARD
END:VTIMEZONE
BEGIN:VEVENT
DTSTART;TZID=Europe/Madrid:20201114T180000
DTEND;TZID=Europe/Madrid:20201114T193000
DTSTAMP:20260419T143919
CREATED:20201110T130737Z
LAST-MODIFIED:20201110T130737Z
UID:23330-1605376800-1605382200@www.valdeolmos-alalpardo.org
SUMMARY:DINAMIZACIÓN TEATRAL en familia y online
DESCRIPTION:MUNDINOVO\nEsopo y Limeno son contadores de historias. Pero como andan un poco perdidos en sus\ncuentos\, se enredan y no saben cómo seguir. NECESITARÁN TU AYUDA PARA TERMINAR.\nSábado 14 de noviembre a las 17:00 horas\nInscríbete en @aiomanco2016@gmail.com\nOrganiza la Mancomunidad 2016 de Servicios Sociales \nEsopo y Limeno son contadores de historias. Esopo es cuentista y Limeno músico. El problema es que andan siempre un poco perdidos en sus cuentos: se enredan y no saben cómo seguir. \nEsto les pasa porque son muy antiguos\, antiquísimos (llevan contando historias desde que el mundo es mundo) y\, claro\, a veces se lían un poco. ¡Pero tienen un truco!\nComo saben que los niños y las niñas son muy\, pero que muy imaginativos\, cada vez que se enredan les preguntan directamente a ellos y ellas de qué manera debería continuar la historia. \n¡Con asesores así\, es imposible que los cuentos acaben mal! \n 
URL:https://www.valdeolmos-alalpardo.org/evento/dinamizacion-teatral-en-familia-y-online/
LOCATION:Madrid
ATTACH;FMTTYPE=:
END:VEVENT
END:VCALENDAR