BEGIN:VCALENDAR
VERSION:2.0
PRODID:-//Ayuntamiento de Valdeolmos-Alalpardo - ECPv6.15.12.2//NONSGML v1.0//EN
CALSCALE:GREGORIAN
METHOD:PUBLISH
X-WR-CALNAME:Ayuntamiento de Valdeolmos-Alalpardo
X-ORIGINAL-URL:https://www.valdeolmos-alalpardo.org
X-WR-CALDESC:Eventos para Ayuntamiento de Valdeolmos-Alalpardo
REFRESH-INTERVAL;VALUE=DURATION:PT1H
X-Robots-Tag:noindex
X-PUBLISHED-TTL:PT1H
BEGIN:VTIMEZONE
TZID:Europe/Madrid
BEGIN:DAYLIGHT
TZOFFSETFROM:+0100
TZOFFSETTO:+0200
TZNAME:CEST
DTSTART:20210328T010000
END:DAYLIGHT
BEGIN:STANDARD
TZOFFSETFROM:+0200
TZOFFSETTO:+0100
TZNAME:CET
DTSTART:20211031T010000
END:STANDARD
BEGIN:DAYLIGHT
TZOFFSETFROM:+0100
TZOFFSETTO:+0200
TZNAME:CEST
DTSTART:20220327T010000
END:DAYLIGHT
BEGIN:STANDARD
TZOFFSETFROM:+0200
TZOFFSETTO:+0100
TZNAME:CET
DTSTART:20221030T010000
END:STANDARD
BEGIN:DAYLIGHT
TZOFFSETFROM:+0100
TZOFFSETTO:+0200
TZNAME:CEST
DTSTART:20230326T010000
END:DAYLIGHT
BEGIN:STANDARD
TZOFFSETFROM:+0200
TZOFFSETTO:+0100
TZNAME:CET
DTSTART:20231029T010000
END:STANDARD
END:VTIMEZONE
BEGIN:VEVENT
DTSTART;TZID=Europe/Madrid:20220328T180000
DTEND;TZID=Europe/Madrid:20220328T200000
DTSTAMP:20260425T221003
CREATED:20220328T112852Z
LAST-MODIFIED:20220328T112852Z
UID:28775-1648490400-1648497600@www.valdeolmos-alalpardo.org
SUMMARY:30 de marzo: Taller de reproducción de plantas aromáticas para mayores de 16 años
DESCRIPTION:Terminamos marzo con otro Taller de reproducción de plantas aromáticas pero esta vez para mayores de 16 años. \nLa actividad tiene lugar dentro del Proyecto de Dinamización Ambiental.  Será el miércoles 30 de marzo en el Aula de la Casa de la Cultura de Alalpardo y en el vivero municipal. \nEn necesario inscribirse en el 91 6202153. \nSe enseñará a reproducir plantar autóctonas por estaquillas y esquejes: romero\, lavanda\, arce\, sauce\, manzano\, etc. 
URL:https://www.valdeolmos-alalpardo.org/evento/30-de-marzo-taller-de-reproduccion-de-plantas-aromaticas-para-mayores-de-16-anos/
LOCATION:Aula Casa de la Cultura de Alalpardo\, Calle Egidos\, 8\, Alalpardo\, Madrid\, 28130\, España
ATTACH;FMTTYPE=image/jpeg:https://www.valdeolmos-alalpardo.org/wp-content/uploads/2022/03/WhatsApp-Image-2022-03-28-at-1.22.02-PM.jpeg
END:VEVENT
END:VCALENDAR