BEGIN:VCALENDAR
VERSION:2.0
PRODID:-//Ayuntamiento de Valdeolmos-Alalpardo - ECPv6.15.12.2//NONSGML v1.0//EN
CALSCALE:GREGORIAN
METHOD:PUBLISH
X-WR-CALNAME:Ayuntamiento de Valdeolmos-Alalpardo
X-ORIGINAL-URL:https://www.valdeolmos-alalpardo.org
X-WR-CALDESC:Eventos para Ayuntamiento de Valdeolmos-Alalpardo
REFRESH-INTERVAL;VALUE=DURATION:PT1H
X-Robots-Tag:noindex
X-PUBLISHED-TTL:PT1H
BEGIN:VTIMEZONE
TZID:Europe/Madrid
BEGIN:DAYLIGHT
TZOFFSETFROM:+0100
TZOFFSETTO:+0200
TZNAME:CEST
DTSTART:20210328T010000
END:DAYLIGHT
BEGIN:STANDARD
TZOFFSETFROM:+0200
TZOFFSETTO:+0100
TZNAME:CET
DTSTART:20211031T010000
END:STANDARD
BEGIN:DAYLIGHT
TZOFFSETFROM:+0100
TZOFFSETTO:+0200
TZNAME:CEST
DTSTART:20220327T010000
END:DAYLIGHT
BEGIN:STANDARD
TZOFFSETFROM:+0200
TZOFFSETTO:+0100
TZNAME:CET
DTSTART:20221030T010000
END:STANDARD
BEGIN:DAYLIGHT
TZOFFSETFROM:+0100
TZOFFSETTO:+0200
TZNAME:CEST
DTSTART:20230326T010000
END:DAYLIGHT
BEGIN:STANDARD
TZOFFSETFROM:+0200
TZOFFSETTO:+0100
TZNAME:CET
DTSTART:20231029T010000
END:STANDARD
END:VTIMEZONE
BEGIN:VEVENT
DTSTART;TZID=Europe/Madrid:20221007T110000
DTEND;TZID=Europe/Madrid:20221007T133000
DTSTAMP:20260420T123356
CREATED:20220930T162436Z
LAST-MODIFIED:20221003T073449Z
UID:30534-1665140400-1665149400@www.valdeolmos-alalpardo.org
SUMMARY:7 de octubre:  Taller gratuito 'Vivir sin violencia'
DESCRIPTION:Taller gratuito ‘Vivir sin violencia’ en la Sala Al-Artis de la Casa de la Cultura de Alalpardo el 7 de octubre de 11:00 a 13:30 horas.  \n11:00 horas ‘Equipo Mujer Menor\, Comandancia de Madrid\, Guardia Civil. \n11:45 horas: ‘Técnicas de relajación para momentos de crisis’. Con la Psicóloga Raquel Camuñas. \n12:45 horas: ‘Autoestima y sexualidad’ fomentando relaciones saludables’. Con la Psicóloga Aurora López. \nTaller Vivir sin violencia Alalpardo_Portada \nTaller Vivir sin violencia Alalpardo_Programa \n     \n 
URL:https://www.valdeolmos-alalpardo.org/evento/7-de-octubre-taller-gratuito-vivir-sin-violencia/
LOCATION:Sala Al Artis\, Calle Egidos\, 8\, Valdeolmos-Alalpardo\, Madrid\, 28130\, España
ATTACH;FMTTYPE=image/jpeg:https://www.valdeolmos-alalpardo.org/wp-content/uploads/2022/09/22.jpg
END:VEVENT
BEGIN:VEVENT
DTSTART;TZID=Europe/Madrid:20221007T173000
DTEND;TZID=Europe/Madrid:20221007T193000
DTSTAMP:20260420T123356
CREATED:20220928T085812Z
LAST-MODIFIED:20221008T140340Z
UID:30518-1665163800-1665171000@www.valdeolmos-alalpardo.org
SUMMARY:7 de octubre: Taller de cocina 'Hoy cocinas tú'
DESCRIPTION:Taller gratuito para aprender recetas fáciles y rápidas con microondas. \n7 de octubre de 17:30 a 19:30 horas en la Sala de Cristal de la Casa de la Cultura de Alalpardo. \nEs una actividad dirigida a hombres y mujeres. \nSe precisa inscripción previa en el Ayuntamiento. Plazas limitadas. \n  \nHoy cocinas tu valdeolmos (002)-01 \n   
URL:https://www.valdeolmos-alalpardo.org/evento/7-de-octubre-taller-de-cocina-hoy-cocinas-tu/
LOCATION:Sala Cristal Casa Cultura Alalpardo\, C/ Egidos 8\, Alalpardo
ATTACH;FMTTYPE=image/jpeg:https://www.valdeolmos-alalpardo.org/wp-content/uploads/2022/09/310496353_472780574889860_1892358123669804900_n.jpg
END:VEVENT
BEGIN:VEVENT
DTSTART;TZID=Europe/Madrid:20221017T173000
DTEND;TZID=Europe/Madrid:20221017T200000
DTSTAMP:20260420T123356
CREATED:20221014T091549Z
LAST-MODIFIED:20221014T091549Z
UID:30691-1666027800-1666036800@www.valdeolmos-alalpardo.org
SUMMARY:17 de octubre: Taller ¿De quién es tu tiempo?
DESCRIPTION:Taller gratuito dirigido a hombres y mujeres el lunes 17 de octubre de 17:30 a 20:00 horas en la Sala de Cristal de la Casa de la Cultura de Alalpardo.  \nAprendizaje de la gestión del tiempo\, aprender cómo priorizar\, técnicas de organización y de comunicación asertiva\, aprender a dialogar\, técnicas de desactivación: respiración o relajación. \nPlazas limitadas. \nLa actividad está cofinanciada al 50% por el FSE (Fondo Social Europeo) y la Comunidad de Madrid. También organiza la Mancomunidad de Servicios Sociales 2016 a la que pertenece el municipio.  \nInscripciones: Llamar por teléfono al Ayuntamiento http://91 620 21 53 \n \n  \n  \n 
URL:https://www.valdeolmos-alalpardo.org/evento/17-de-octubre-taller-de-quien-es-tu-tiempo/
LOCATION:Sala Cristal Casa Cultura Alalpardo\, C/ Egidos 8\, Alalpardo
ATTACH;FMTTYPE=image/jpeg:https://www.valdeolmos-alalpardo.org/wp-content/uploads/2022/10/WhatsApp-Image-2022-10-14-at-09.10.44.jpeg
END:VEVENT
BEGIN:VEVENT
DTSTART;TZID=Europe/Madrid:20221027T173000
DTEND;TZID=Europe/Madrid:20221027T193000
DTSTAMP:20260420T123356
CREATED:20221026T081215Z
LAST-MODIFIED:20221026T143050Z
UID:30869-1666891800-1666899000@www.valdeolmos-alalpardo.org
SUMMARY:27 de octubre: Taller infantil - Proyecto de Dinamización Ambiental
DESCRIPTION:Taller infantil el 27 de octubre dentro del Proyecto de Dinamización Ambiental. \n\nSe trata de una actividad de 6 a 12 años.\nSe  llevará a cabo en la Vía Verde y el Vivero Municipal de 17:30 a 19:30 horas.\nSe recogerán bellotas y se pondrán a germinar en el vivero municipal. Es necesario llevar una bolsa de tela\, papel de periódico y un tupper o bandeja.\n\n 20 plazas. Es necesario inscribirse en el Ayuntamiento. 
URL:https://www.valdeolmos-alalpardo.org/evento/27-de-octubre-taller-infantil-proyecto-de-dinamizacion-ambiental/
LOCATION:Vivero municipal\, Calle Alcalá 21-27\, Valdeolmos-Alalpardo\, Madrid\, 28130\, España
ATTACH;FMTTYPE=image/jpeg:https://www.valdeolmos-alalpardo.org/wp-content/uploads/2022/10/WhatsApp-Image-2022-10-26-at-09.54.15.jpeg
END:VEVENT
END:VCALENDAR