BEGIN:VCALENDAR
VERSION:2.0
PRODID:-//Ayuntamiento de Valdeolmos-Alalpardo - ECPv6.15.12.2//NONSGML v1.0//EN
CALSCALE:GREGORIAN
METHOD:PUBLISH
X-ORIGINAL-URL:https://www.valdeolmos-alalpardo.org
X-WR-CALDESC:Eventos para Ayuntamiento de Valdeolmos-Alalpardo
REFRESH-INTERVAL;VALUE=DURATION:PT1H
X-Robots-Tag:noindex
X-PUBLISHED-TTL:PT1H
BEGIN:VTIMEZONE
TZID:Europe/Madrid
BEGIN:DAYLIGHT
TZOFFSETFROM:+0100
TZOFFSETTO:+0200
TZNAME:CEST
DTSTART:20210328T010000
END:DAYLIGHT
BEGIN:STANDARD
TZOFFSETFROM:+0200
TZOFFSETTO:+0100
TZNAME:CET
DTSTART:20211031T010000
END:STANDARD
BEGIN:DAYLIGHT
TZOFFSETFROM:+0100
TZOFFSETTO:+0200
TZNAME:CEST
DTSTART:20220327T010000
END:DAYLIGHT
BEGIN:STANDARD
TZOFFSETFROM:+0200
TZOFFSETTO:+0100
TZNAME:CET
DTSTART:20221030T010000
END:STANDARD
BEGIN:DAYLIGHT
TZOFFSETFROM:+0100
TZOFFSETTO:+0200
TZNAME:CEST
DTSTART:20230326T010000
END:DAYLIGHT
BEGIN:STANDARD
TZOFFSETFROM:+0200
TZOFFSETTO:+0100
TZNAME:CET
DTSTART:20231029T010000
END:STANDARD
END:VTIMEZONE
BEGIN:VEVENT
DTSTART;TZID=Europe/Madrid:20220428T173000
DTEND;TZID=Europe/Madrid:20220505T193000
DTSTAMP:20260424T234130
CREATED:20220421T091318Z
LAST-MODIFIED:20220421T091318Z
UID:29041-1651167000-1651779000@www.valdeolmos-alalpardo.org
SUMMARY:28 abril y 5 mayo: Taller Nutrihogar
DESCRIPTION:Acercamiento a las labores relacionadas con la alimentación y distribución de la dieta familiar o personal. \nEl interesante y gratuito Taller sobre nutrición tendrá lugar el jueves 28 de abril y el jueves 5 de mayo en la Casa de la Cultura de Alalpardo. \nHorario: de 17:30 a 19:30 horas. \nInscripciones en el Ayuntamiento hasta el 27 de abril. Plazas limitadas \nOrganiza la Comunidad de Madrid\, el Fondo Social Europeo y la Mancomunidad 2016 de Servicios Sociales. \ntaller NUTRIHOGAR ALALPARDO
URL:https://www.valdeolmos-alalpardo.org/evento/28-abril-y-5-mayo-taller-nutrihogar/
ATTACH;FMTTYPE=image/jpeg:https://www.valdeolmos-alalpardo.org/wp-content/uploads/2022/04/taller-NUTRIHOGAR-ALALPARDO_page-0001-scaled.jpg
END:VEVENT
BEGIN:VEVENT
DTSTART;TZID=Europe/Madrid:20220510T173000
DTEND;TZID=Europe/Madrid:20220510T190000
DTSTAMP:20260424T234130
CREATED:20220421T174702Z
LAST-MODIFIED:20220512T095259Z
UID:29055-1652203800-1652209200@www.valdeolmos-alalpardo.org
SUMMARY:10 de mayo: Taller online para familias
DESCRIPTION:‘Modern Families’ es un Taller online para familias que se realizará el 10 de mayo de 17:30 a 19:00 horas. \nTaller gratuito organizado por la Comunidad de Madrid y la Mancomunidad 2016 de Servicios Sociales. Imprescindible inscripción previa en: \n https://forms.gle/YNevRgDuYo26LHLY9 \nUna vez recibida la solicitud se enviará un enlace para participar en el taller. \nTaller familias ONLINE
URL:https://www.valdeolmos-alalpardo.org/evento/26-de-abril-y-10-de-mayo-taller-online-para-familias/
ATTACH;FMTTYPE=image/jpeg:https://www.valdeolmos-alalpardo.org/wp-content/uploads/2022/04/Taller-familias-ONLINE_page-0001-scaled.jpg
END:VEVENT
END:VCALENDAR