BEGIN:VCALENDAR
VERSION:2.0
PRODID:-//Ayuntamiento de Valdeolmos-Alalpardo - ECPv6.15.12.2//NONSGML v1.0//EN
CALSCALE:GREGORIAN
METHOD:PUBLISH
X-ORIGINAL-URL:https://www.valdeolmos-alalpardo.org
X-WR-CALDESC:Eventos para Ayuntamiento de Valdeolmos-Alalpardo
REFRESH-INTERVAL;VALUE=DURATION:PT1H
X-Robots-Tag:noindex
X-PUBLISHED-TTL:PT1H
BEGIN:VTIMEZONE
TZID:Europe/Madrid
BEGIN:DAYLIGHT
TZOFFSETFROM:+0100
TZOFFSETTO:+0200
TZNAME:CEST
DTSTART:20170326T010000
END:DAYLIGHT
BEGIN:STANDARD
TZOFFSETFROM:+0200
TZOFFSETTO:+0100
TZNAME:CET
DTSTART:20171029T010000
END:STANDARD
BEGIN:DAYLIGHT
TZOFFSETFROM:+0100
TZOFFSETTO:+0200
TZNAME:CEST
DTSTART:20180325T010000
END:DAYLIGHT
BEGIN:STANDARD
TZOFFSETFROM:+0200
TZOFFSETTO:+0100
TZNAME:CET
DTSTART:20181028T010000
END:STANDARD
BEGIN:DAYLIGHT
TZOFFSETFROM:+0100
TZOFFSETTO:+0200
TZNAME:CEST
DTSTART:20190331T010000
END:DAYLIGHT
BEGIN:STANDARD
TZOFFSETFROM:+0200
TZOFFSETTO:+0100
TZNAME:CET
DTSTART:20191027T010000
END:STANDARD
END:VTIMEZONE
BEGIN:VEVENT
DTSTART;TZID=Europe/Madrid:20180609T123000
DTEND;TZID=Europe/Madrid:20180609T143000
DTSTAMP:20260420T212548
CREATED:20180523T102507Z
LAST-MODIFIED:20180525T084818Z
UID:16291-1528547400-1528554600@www.valdeolmos-alalpardo.org
SUMMARY:Taller de HO'OPONOPONO
DESCRIPTION:El sábado 9 de junio se realizará un TALLER DE HO’OPONOPONO en el Aula de la Casa de la Cultura de Alalpardo de 10:30 a 12:30 horas. \nMas información en el cartel pinchando aquí.
URL:https://www.valdeolmos-alalpardo.org/evento/taller-de-hooponopono/
LOCATION:Aula Casa de la Cultura de Alalpardo\, Calle Egidos\, 8\, Alalpardo\, Madrid\, 28130\, España
ATTACH;FMTTYPE=image/jpeg:https://www.valdeolmos-alalpardo.org/wp-content/uploads/Taller-de-Hooponopono-e1527245276808.jpg
END:VEVENT
BEGIN:VEVENT
DTSTART;TZID=Europe/Madrid:20180609T123000
DTEND;TZID=Europe/Madrid:20180609T143000
DTSTAMP:20260420T212548
CREATED:20180523T102507Z
LAST-MODIFIED:20180523T102507Z
UID:23647-1528547400-1528554600@www.valdeolmos-alalpardo.org
SUMMARY:Taller de HO'OPONOPONO
DESCRIPTION:El sábado 9 de junio se realizará un TALLER DE HO’OPONOPONO en el Aula de la Casa de la Cultura de Alalpardo de 10:30 a 12:30 horas. \nMas información en el cartel pinchando aquí.
URL:https://www.valdeolmos-alalpardo.org/evento/taller-de-hooponopono-2/
LOCATION:Aula Casa de la Cultura de Alalpardo\, Calle Egidos\, 8\, Alalpardo\, Madrid\, 28130\, España
ATTACH;FMTTYPE=image/jpeg:https://www.valdeolmos-alalpardo.org/wp-content/uploads/Taller-de-Hooponopono-e1527245276808.jpg
END:VEVENT
END:VCALENDAR