BEGIN:VCALENDAR
VERSION:2.0
PRODID:-//Ayuntamiento de Valdeolmos-Alalpardo - ECPv6.15.12.2//NONSGML v1.0//EN
CALSCALE:GREGORIAN
METHOD:PUBLISH
X-WR-CALNAME:Ayuntamiento de Valdeolmos-Alalpardo
X-ORIGINAL-URL:https://www.valdeolmos-alalpardo.org
X-WR-CALDESC:Eventos para Ayuntamiento de Valdeolmos-Alalpardo
REFRESH-INTERVAL;VALUE=DURATION:PT1H
X-Robots-Tag:noindex
X-PUBLISHED-TTL:PT1H
BEGIN:VTIMEZONE
TZID:Europe/Madrid
BEGIN:DAYLIGHT
TZOFFSETFROM:+0100
TZOFFSETTO:+0200
TZNAME:CEST
DTSTART:20220327T010000
END:DAYLIGHT
BEGIN:STANDARD
TZOFFSETFROM:+0200
TZOFFSETTO:+0100
TZNAME:CET
DTSTART:20221030T010000
END:STANDARD
BEGIN:DAYLIGHT
TZOFFSETFROM:+0100
TZOFFSETTO:+0200
TZNAME:CEST
DTSTART:20230326T010000
END:DAYLIGHT
BEGIN:STANDARD
TZOFFSETFROM:+0200
TZOFFSETTO:+0100
TZNAME:CET
DTSTART:20231029T010000
END:STANDARD
BEGIN:DAYLIGHT
TZOFFSETFROM:+0100
TZOFFSETTO:+0200
TZNAME:CEST
DTSTART:20240331T010000
END:DAYLIGHT
BEGIN:STANDARD
TZOFFSETFROM:+0200
TZOFFSETTO:+0100
TZNAME:CET
DTSTART:20241027T010000
END:STANDARD
END:VTIMEZONE
BEGIN:VEVENT
DTSTART;TZID=Europe/Madrid:20231229T180000
DTEND;TZID=Europe/Madrid:20231229T200000
DTSTAMP:20260424T025034
CREATED:20231204T060025Z
LAST-MODIFIED:20231204T094158Z
UID:35297-1703872800-1703880000@www.valdeolmos-alalpardo.org
SUMMARY:29 de diciembre: Visita del Paje Real y entrega de cartas
DESCRIPTION:Visita del Paje Real y entrega de cartas\nLa visita de Paje Real es siempre un día mágico para los pequeños de la casa. El ayudante de los Reyes Magos visitará la Casa de la Cultura de Alalpardo donde recogerá las cartas de los niños para entregarlas a Melchor\, Gaspar y Baltasar. \n29-12-23_PAJE REAL
URL:https://www.valdeolmos-alalpardo.org/evento/29-de-diciembre-visita-del-paje-real-y-entrega-de-cartas/
LOCATION:Vivero municipal\, Calle Alcalá 21-27\, Valdeolmos-Alalpardo\, Madrid\, 28130\, España
ATTACH;FMTTYPE=image/jpeg:https://www.valdeolmos-alalpardo.org/wp-content/uploads/2023/11/29-12-23_PAJE-REAL_page-0001-1.jpg
END:VEVENT
END:VCALENDAR