BEGIN:VCALENDAR
VERSION:2.0
PRODID:-//Ayuntamiento de Valdeolmos-Alalpardo - ECPv6.15.12.2//NONSGML v1.0//EN
CALSCALE:GREGORIAN
METHOD:PUBLISH
X-ORIGINAL-URL:https://www.valdeolmos-alalpardo.org
X-WR-CALDESC:Eventos para Ayuntamiento de Valdeolmos-Alalpardo
REFRESH-INTERVAL;VALUE=DURATION:PT1H
X-Robots-Tag:noindex
X-PUBLISHED-TTL:PT1H
BEGIN:VTIMEZONE
TZID:Europe/Madrid
BEGIN:DAYLIGHT
TZOFFSETFROM:+0100
TZOFFSETTO:+0200
TZNAME:CEST
DTSTART:20210328T010000
END:DAYLIGHT
BEGIN:STANDARD
TZOFFSETFROM:+0200
TZOFFSETTO:+0100
TZNAME:CET
DTSTART:20211031T010000
END:STANDARD
BEGIN:DAYLIGHT
TZOFFSETFROM:+0100
TZOFFSETTO:+0200
TZNAME:CEST
DTSTART:20220327T010000
END:DAYLIGHT
BEGIN:STANDARD
TZOFFSETFROM:+0200
TZOFFSETTO:+0100
TZNAME:CET
DTSTART:20221030T010000
END:STANDARD
BEGIN:DAYLIGHT
TZOFFSETFROM:+0100
TZOFFSETTO:+0200
TZNAME:CEST
DTSTART:20230326T010000
END:DAYLIGHT
BEGIN:STANDARD
TZOFFSETFROM:+0200
TZOFFSETTO:+0100
TZNAME:CET
DTSTART:20231029T010000
END:STANDARD
END:VTIMEZONE
BEGIN:VEVENT
DTSTART;TZID=Europe/Madrid:20220202T180000
DTEND;TZID=Europe/Madrid:20220202T193000
DTSTAMP:20260425T134824
CREATED:20220201T103144Z
LAST-MODIFIED:20220202T124754Z
UID:28324-1643824800-1643830200@www.valdeolmos-alalpardo.org
SUMMARY:2 de febrero: Taller de reciclaje para niñ@s de 6 a 12 años
DESCRIPTION:Taller de reciclaje para niñ@s de 6 a 12 años en el Aula de la Casa de la Cultura de Alalpardo dentro del Proyecto de Dinamización Ambiental.  \nTaller de una hora y media de duración\, de 18:00 a 19:30 horas\, miércoles 2 de febrero. \nSiguiendo las regla de las 3R\, se reutilizarán residuos domésticos como bricks\, envases\, periódicos o cartón para convertirlos en objetos útiles.  \nEs necesario apuntarse. \nFoto de Freepik.
URL:https://www.valdeolmos-alalpardo.org/evento/2-de-febrero-taller-de-reciclaje-para-nins-de-6-a-12-anos/
LOCATION:Aula Casa de la Cultura de Alalpardo\, Calle Egidos\, 8\, Alalpardo\, Madrid\, 28130\, España
ATTACH;FMTTYPE=image/jpeg:https://www.valdeolmos-alalpardo.org/wp-content/uploads/2022/02/WhatsApp-Image-2022-02-01-at-11.27.50.jpeg
END:VEVENT
END:VCALENDAR