BEGIN:VCALENDAR
VERSION:2.0
PRODID:-//Ayuntamiento de Valdeolmos-Alalpardo - ECPv6.15.12.2//NONSGML v1.0//EN
CALSCALE:GREGORIAN
METHOD:PUBLISH
X-WR-CALNAME:Ayuntamiento de Valdeolmos-Alalpardo
X-ORIGINAL-URL:https://www.valdeolmos-alalpardo.org
X-WR-CALDESC:Eventos para Ayuntamiento de Valdeolmos-Alalpardo
REFRESH-INTERVAL;VALUE=DURATION:PT1H
X-Robots-Tag:noindex
X-PUBLISHED-TTL:PT1H
BEGIN:VTIMEZONE
TZID:Europe/Madrid
BEGIN:DAYLIGHT
TZOFFSETFROM:+0100
TZOFFSETTO:+0200
TZNAME:CEST
DTSTART:20220327T010000
END:DAYLIGHT
BEGIN:STANDARD
TZOFFSETFROM:+0200
TZOFFSETTO:+0100
TZNAME:CET
DTSTART:20221030T010000
END:STANDARD
BEGIN:DAYLIGHT
TZOFFSETFROM:+0100
TZOFFSETTO:+0200
TZNAME:CEST
DTSTART:20230326T010000
END:DAYLIGHT
BEGIN:STANDARD
TZOFFSETFROM:+0200
TZOFFSETTO:+0100
TZNAME:CET
DTSTART:20231029T010000
END:STANDARD
BEGIN:DAYLIGHT
TZOFFSETFROM:+0100
TZOFFSETTO:+0200
TZNAME:CEST
DTSTART:20240331T010000
END:DAYLIGHT
BEGIN:STANDARD
TZOFFSETFROM:+0200
TZOFFSETTO:+0100
TZNAME:CET
DTSTART:20241027T010000
END:STANDARD
END:VTIMEZONE
BEGIN:VEVENT
DTSTART;TZID=Europe/Madrid:20231112T160000
DTEND;TZID=Europe/Madrid:20231112T190000
DTSTAMP:20260421T022927
CREATED:20231110T101047Z
LAST-MODIFIED:20231110T101117Z
UID:35002-1699804800-1699815600@www.valdeolmos-alalpardo.org
SUMMARY:12 de noviembre: Las Tejedoras del Paeque se juntan para tejer
DESCRIPTION:Las Tejedoras del Paeque se juntan para tejer el 12 de noviembre\nSi te gusta hacer punto o ganchillo\, puedes venir una vez al mes a las quedadas de las Tejedoras del Paeque. \n\nDomingo 12 de noviembre\nA partir de las 16:00 horas\nCasa de la Cultura de Alalpardo\nSi no sabes tejer pero te gustaría aprender\, ellas te ayudarán.\nTejen juntas desde antes de la pandemia. Se junta un domingo al mes y desde junio 2023 son la Asociación ‘Las Tejedoras del Paeque’\, de la que también puedes formar parte.\n\nQuedada Tejedoras 12 noviembre
URL:https://www.valdeolmos-alalpardo.org/evento/12-de-noviembre-las-tejedoras-del-paeque-se-juntan-para-tejer/
LOCATION:Casa de Cultura de Alalpardo\, C/ Ejidos\, 8\, Alalpardo\, Madrid\, 28130\, España
ATTACH;FMTTYPE=image/jpeg:https://www.valdeolmos-alalpardo.org/wp-content/uploads/2023/11/f805f911-ba28-40af-b653-ed9f9a1da1e1.jpg
END:VEVENT
END:VCALENDAR