BEGIN:VCALENDAR
VERSION:2.0
PRODID:-//Ayuntamiento de Valdeolmos-Alalpardo - ECPv6.15.12.2//NONSGML v1.0//EN
CALSCALE:GREGORIAN
METHOD:PUBLISH
X-WR-CALNAME:Ayuntamiento de Valdeolmos-Alalpardo
X-ORIGINAL-URL:https://www.valdeolmos-alalpardo.org
X-WR-CALDESC:Eventos para Ayuntamiento de Valdeolmos-Alalpardo
REFRESH-INTERVAL;VALUE=DURATION:PT1H
X-Robots-Tag:noindex
X-PUBLISHED-TTL:PT1H
BEGIN:VTIMEZONE
TZID:Europe/Madrid
BEGIN:DAYLIGHT
TZOFFSETFROM:+0100
TZOFFSETTO:+0200
TZNAME:CEST
DTSTART:20230326T010000
END:DAYLIGHT
BEGIN:STANDARD
TZOFFSETFROM:+0200
TZOFFSETTO:+0100
TZNAME:CET
DTSTART:20231029T010000
END:STANDARD
BEGIN:DAYLIGHT
TZOFFSETFROM:+0100
TZOFFSETTO:+0200
TZNAME:CEST
DTSTART:20240331T010000
END:DAYLIGHT
BEGIN:STANDARD
TZOFFSETFROM:+0200
TZOFFSETTO:+0100
TZNAME:CET
DTSTART:20241027T010000
END:STANDARD
BEGIN:DAYLIGHT
TZOFFSETFROM:+0100
TZOFFSETTO:+0200
TZNAME:CEST
DTSTART:20250330T010000
END:DAYLIGHT
BEGIN:STANDARD
TZOFFSETFROM:+0200
TZOFFSETTO:+0100
TZNAME:CET
DTSTART:20251026T010000
END:STANDARD
END:VTIMEZONE
BEGIN:VEVENT
DTSTART;TZID=Europe/Madrid:20240306T133000
DTEND;TZID=Europe/Madrid:20240306T143000
DTSTAMP:20260421T134008
CREATED:20240303T183915Z
LAST-MODIFIED:20240303T185645Z
UID:36190-1709731800-1709735400@www.valdeolmos-alalpardo.org
SUMMARY:6 de marzo: Jornada de puertas abiertas en la Casa de Niños de Valdeolmos
DESCRIPTION:La Casa de Niños de Valdeolmos te abre sus puertas el 6 de marzo\nConoce el Centro educativo público para niños y niñas de primer ciclo de Educación Infantil (0-3 años) en Valdeolmos\, gestionado por el Ayuntamiento. Es una escuela muy acogedora y familiar. \nJornada de Puertas Abiertas Casa de Niños de Valdeolmos \n\nHorario: De 13:30 a 14:30 horas \n\nPara más información: \n\n91. 620 28 21\ncnvaldeolmos@hotmail.com\n\nPuertas Abiertas Casa Niños Valdeolmos
URL:https://www.valdeolmos-alalpardo.org/evento/6-de-marzo-jornada-de-puertas-abiertas-en-la-casa-de-ninos-de-valdeolmos/
LOCATION:Casa de Niños Valdeolmos\, Calle Subida a la Iglesia 6\, Valdeolmos-Alalpardo (Madrid)\, 28130\, España
ATTACH;FMTTYPE=image/jpeg:https://www.valdeolmos-alalpardo.org/wp-content/uploads/2021/04/fb381ce9-e1cd-454e-a22e-348430b1b0f4.jpg
END:VEVENT
END:VCALENDAR