BEGIN:VCALENDAR
VERSION:2.0
PRODID:-//Ayuntamiento de Valdeolmos-Alalpardo - ECPv6.15.12.2//NONSGML v1.0//EN
CALSCALE:GREGORIAN
METHOD:PUBLISH
X-ORIGINAL-URL:https://www.valdeolmos-alalpardo.org
X-WR-CALDESC:Eventos para Ayuntamiento de Valdeolmos-Alalpardo
REFRESH-INTERVAL;VALUE=DURATION:PT1H
X-Robots-Tag:noindex
X-PUBLISHED-TTL:PT1H
BEGIN:VTIMEZONE
TZID:Europe/Madrid
BEGIN:DAYLIGHT
TZOFFSETFROM:+0100
TZOFFSETTO:+0200
TZNAME:CEST
DTSTART:20180325T010000
END:DAYLIGHT
BEGIN:STANDARD
TZOFFSETFROM:+0200
TZOFFSETTO:+0100
TZNAME:CET
DTSTART:20181028T010000
END:STANDARD
BEGIN:DAYLIGHT
TZOFFSETFROM:+0100
TZOFFSETTO:+0200
TZNAME:CEST
DTSTART:20190331T010000
END:DAYLIGHT
BEGIN:STANDARD
TZOFFSETFROM:+0200
TZOFFSETTO:+0100
TZNAME:CET
DTSTART:20191027T010000
END:STANDARD
BEGIN:DAYLIGHT
TZOFFSETFROM:+0100
TZOFFSETTO:+0200
TZNAME:CEST
DTSTART:20200329T010000
END:DAYLIGHT
BEGIN:STANDARD
TZOFFSETFROM:+0200
TZOFFSETTO:+0100
TZNAME:CET
DTSTART:20201025T010000
END:STANDARD
END:VTIMEZONE
BEGIN:VEVENT
DTSTART;TZID=Europe/Madrid:20190818T110000
DTEND;TZID=Europe/Madrid:20190818T190000
DTSTAMP:20260421T171111
CREATED:20190719T111523Z
LAST-MODIFIED:20190719T130026Z
UID:19560-1566126000-1566154800@www.valdeolmos-alalpardo.org
SUMMARY:36 CARRERA POPULAR VILLA DE ALALPARDO
DESCRIPTION:APUNTATE A LA 36 CARRERA POPULAR VILLA DE ALALPARDO EL 18 DE AGOSTO\n\n36 años lleva corriéndose esta carrera en la Villa de Alalpardo con motivo de las fiestas patronales. \nSe adjunta el recorrido y la distancia de 10\,5 kilómetros. \n¡Apúntate! Inscripción 10 euros por persona. Donativo de 1 euro por cada inscripción para la Asociación Española contra el Cáncer. PINCHA PARA VER EL REGLAMENTO DE LA CARRERA. \n  \n \n \n  \nReglamento 36ª Carrera Popular Villa de Alalpardo (2019)Reglamento 36ª Carrera Popular Villa de Alalpardo (2019)
URL:https://www.valdeolmos-alalpardo.org/evento/36-carrera-popular-villa-alalpardo/
LOCATION:Plaza de Toros de Alalpardo
ATTACH;FMTTYPE=image/jpeg:https://www.valdeolmos-alalpardo.org/wp-content/uploads/IMG-20190712-WA0006.jpg
END:VEVENT
BEGIN:VEVENT
DTSTART;TZID=Europe/Madrid:20190818T110000
DTEND;TZID=Europe/Madrid:20190818T190000
DTSTAMP:20260421T171111
CREATED:20190719T111523Z
LAST-MODIFIED:20190719T111523Z
UID:23772-1566126000-1566154800@www.valdeolmos-alalpardo.org
SUMMARY:36 CARRERA POPULAR VILLA DE ALALPARDO
DESCRIPTION:APUNTATE A LA 36 CARRERA POPULAR VILLA DE ALALPARDO EL 18 DE AGOSTO\n\n36 años lleva corriéndose esta carrera en la Villa de Alalpardo con motivo de las fiestas patronales. \nSe adjunta el recorrido y la distancia de 10\,5 kilómetros. \n¡Apúntate! Inscripción 10 euros por persona. Donativo de 1 euro por cada inscripción para la Asociación Española contra el Cáncer. PINCHA PARA VER EL REGLAMENTO DE LA CARRERA. \n  \n \n \n  \nReglamento 36ª Carrera Popular Villa de Alalpardo (2019)Reglamento 36ª Carrera Popular Villa de Alalpardo (2019)
URL:https://www.valdeolmos-alalpardo.org/evento/36-carrera-popular-villa-alalpardo-2/
LOCATION:Plaza de Toros de Alalpardo
ATTACH;FMTTYPE=image/jpeg:https://www.valdeolmos-alalpardo.org/wp-content/uploads/IMG-20190712-WA0006.jpg
END:VEVENT
END:VCALENDAR