BEGIN:VCALENDAR
VERSION:2.0
PRODID:-//Ayuntamiento de Valdeolmos-Alalpardo - ECPv6.15.12.2//NONSGML v1.0//EN
CALSCALE:GREGORIAN
METHOD:PUBLISH
X-WR-CALNAME:Ayuntamiento de Valdeolmos-Alalpardo
X-ORIGINAL-URL:https://www.valdeolmos-alalpardo.org
X-WR-CALDESC:Eventos para Ayuntamiento de Valdeolmos-Alalpardo
REFRESH-INTERVAL;VALUE=DURATION:PT1H
X-Robots-Tag:noindex
X-PUBLISHED-TTL:PT1H
BEGIN:VTIMEZONE
TZID:Europe/Madrid
BEGIN:DAYLIGHT
TZOFFSETFROM:+0100
TZOFFSETTO:+0200
TZNAME:CEST
DTSTART:20180325T010000
END:DAYLIGHT
BEGIN:STANDARD
TZOFFSETFROM:+0200
TZOFFSETTO:+0100
TZNAME:CET
DTSTART:20181028T010000
END:STANDARD
BEGIN:DAYLIGHT
TZOFFSETFROM:+0100
TZOFFSETTO:+0200
TZNAME:CEST
DTSTART:20190331T010000
END:DAYLIGHT
BEGIN:STANDARD
TZOFFSETFROM:+0200
TZOFFSETTO:+0100
TZNAME:CET
DTSTART:20191027T010000
END:STANDARD
BEGIN:DAYLIGHT
TZOFFSETFROM:+0100
TZOFFSETTO:+0200
TZNAME:CEST
DTSTART:20200329T010000
END:DAYLIGHT
BEGIN:STANDARD
TZOFFSETFROM:+0200
TZOFFSETTO:+0100
TZNAME:CET
DTSTART:20201025T010000
END:STANDARD
END:VTIMEZONE
BEGIN:VEVENT
DTSTART;TZID=Europe/Madrid:20190511T200000
DTEND;TZID=Europe/Madrid:20190511T200000
DTSTAMP:20260423T224955
CREATED:20190429T080223Z
LAST-MODIFIED:20190429T080223Z
UID:23739-1557604800-1557604800@www.valdeolmos-alalpardo.org
SUMMARY:Espectáculo Ecuestre "EL ARTE A CABALLO" de Carmelo Cuevas
DESCRIPTION:Espectáculo Ecuestre «EL ARTE A CABALLO» de Carmelo Cuevas\nEl próximo sábado 11 de mayo disfruta del espectáculo ecuestre «EL ARTE DE ANDALUCÍA A CABALLO» de Carmelo Cuevas. \nPlaza de Toros de Alalpardo 18:00 horas. \nENTRADA LIBRE HASTA COMPLETAR AFORO
URL:https://www.valdeolmos-alalpardo.org/evento/espectaculo-ecuestre-arte-caballo-carmelo-cuevas-2/
LOCATION:Plaza de Toros de Alalpardo
ATTACH;FMTTYPE=image/jpeg:https://www.valdeolmos-alalpardo.org/wp-content/uploads/Cartel-ESPECTÁCULO-ECUESTRE-CARMELO-CUEVAS.jpg
END:VEVENT
BEGIN:VEVENT
DTSTART;TZID=Europe/Madrid:20190511T200000
DTEND;TZID=Europe/Madrid:20190511T200000
DTSTAMP:20260423T224955
CREATED:20190429T080223Z
LAST-MODIFIED:20190430T094201Z
UID:17801-1557604800-1557604800@www.valdeolmos-alalpardo.org
SUMMARY:Espectáculo Ecuestre "EL ARTE A CABALLO" de Carmelo Cuevas
DESCRIPTION:Espectáculo Ecuestre «EL ARTE A CABALLO» de Carmelo Cuevas\nEl próximo sábado 11 de mayo disfruta del espectáculo ecuestre «EL ARTE DE ANDALUCÍA A CABALLO» de Carmelo Cuevas. \nPlaza de Toros de Alalpardo 18:00 horas. \nENTRADA LIBRE HASTA COMPLETAR AFORO
URL:https://www.valdeolmos-alalpardo.org/evento/espectaculo-ecuestre-arte-caballo-carmelo-cuevas/
LOCATION:Plaza de Toros de Alalpardo
ATTACH;FMTTYPE=image/jpeg:https://www.valdeolmos-alalpardo.org/wp-content/uploads/Cartel-ESPECTÁCULO-ECUESTRE-CARMELO-CUEVAS.jpg
END:VEVENT
END:VCALENDAR