BEGIN:VCALENDAR
VERSION:2.0
PRODID:-//Ayuntamiento de Valdeolmos-Alalpardo - ECPv6.15.12.2//NONSGML v1.0//EN
CALSCALE:GREGORIAN
METHOD:PUBLISH
X-ORIGINAL-URL:https://www.valdeolmos-alalpardo.org
X-WR-CALDESC:Eventos para Ayuntamiento de Valdeolmos-Alalpardo
REFRESH-INTERVAL;VALUE=DURATION:PT1H
X-Robots-Tag:noindex
X-PUBLISHED-TTL:PT1H
BEGIN:VTIMEZONE
TZID:Europe/Madrid
BEGIN:DAYLIGHT
TZOFFSETFROM:+0100
TZOFFSETTO:+0200
TZNAME:CEST
DTSTART:20230326T010000
END:DAYLIGHT
BEGIN:STANDARD
TZOFFSETFROM:+0200
TZOFFSETTO:+0100
TZNAME:CET
DTSTART:20231029T010000
END:STANDARD
BEGIN:DAYLIGHT
TZOFFSETFROM:+0100
TZOFFSETTO:+0200
TZNAME:CEST
DTSTART:20240331T010000
END:DAYLIGHT
BEGIN:STANDARD
TZOFFSETFROM:+0200
TZOFFSETTO:+0100
TZNAME:CET
DTSTART:20241027T010000
END:STANDARD
BEGIN:DAYLIGHT
TZOFFSETFROM:+0100
TZOFFSETTO:+0200
TZNAME:CEST
DTSTART:20250330T010000
END:DAYLIGHT
BEGIN:STANDARD
TZOFFSETFROM:+0200
TZOFFSETTO:+0100
TZNAME:CET
DTSTART:20251026T010000
END:STANDARD
END:VTIMEZONE
BEGIN:VEVENT
DTSTART;TZID=Europe/Madrid:20240811T193000
DTEND;TZID=Europe/Madrid:20240811T210000
DTSTAMP:20260426T055237
CREATED:20240807T122215Z
LAST-MODIFIED:20240807T122215Z
UID:37439-1723404600-1723410000@www.valdeolmos-alalpardo.org
SUMMARY:11 de agosto: Novillada sin picadores en Valdeolmos
DESCRIPTION:4 bravos novillos en la novillada de Valdeolmos por las fiestas patronales\n\nEntrada gratuita hasta completar aforo en la Plaza de Toros de Valdeolmos\n19:30 horas\n\nNo te pierdas a los novilleros Alejandro Velasco de la Escuela Taurina Navas del Rey y a Julio Méndez de la Escuela Taurina de Badajoz.  \nValdeolmos
URL:https://www.valdeolmos-alalpardo.org/evento/11-de-agosto-novillada-sin-picadores-en-valdeolmos/
LOCATION:Plaza de toros de Valdeolmos\, C/ de la Fuente\, 32\, Valdeolmos\, 28130
ATTACH;FMTTYPE=image/jpeg:https://www.valdeolmos-alalpardo.org/wp-content/uploads/2024/08/Valdeolmos.jpg
END:VEVENT
BEGIN:VEVENT
DTSTART;TZID=Europe/Madrid:20240818T090000
DTEND;TZID=Europe/Madrid:20240818T143000
DTSTAMP:20260426T055237
CREATED:20240719T075616Z
LAST-MODIFIED:20240719T075728Z
UID:37352-1723971600-1723991400@www.valdeolmos-alalpardo.org
SUMMARY:18 de agosto: Trigésima novena Carrera Popular 'Villa de Alalpardo' - 5 y 10 kilómetros
DESCRIPTION:39 edición de la Carrera Popular ‘Villa de Alalpardo’ el 18 de agosto con salida y en meta en la Plaza de Toros\nHabrá dos recorridos: 5 y 10 kilómetros. Ambos comienzan a las 9:00 horas. Infantil: 10:30 horas \n\nDomingo 18 de agosto\nSalida y meta: Plaza de Toros\nInscripción: 10€ (Donación 1 euro destinado a Asociación Española contra el Cáncer) Niñ@s gratuito\nPremios en metálico por categorías y para ganadores locales (primer puesto masculino y femenino)\nColabora ART Alalpardo Running Team\n\nConsulta el Reglamento.  Ya están abiertas las inscripciones. \nInformación e inscripciones en http://www.timinglap.com \n39ª Carrera Popular Villa de Alalpardo – Cartel \nReglamento 39ª Carrera Popular Villa de Alalpardo (2024)_compressed \n \n 
URL:https://www.valdeolmos-alalpardo.org/evento/18-de-agosto-trigesima-novena-carrera-popular-villa-de-alalpardo-5-y-10-kilometros/
LOCATION:Plaza de Toros de Alalpardo
ATTACH;FMTTYPE=image/jpeg:https://www.valdeolmos-alalpardo.org/wp-content/uploads/2024/07/39a-Carrera-Popular-Villa-de-Alalpardo-Cartel_page-0001-1.jpg
END:VEVENT
BEGIN:VEVENT
DTSTART;TZID=Europe/Madrid:20240825T190000
DTEND;TZID=Europe/Madrid:20240826T210000
DTSTAMP:20260426T055237
CREATED:20240807T172315Z
LAST-MODIFIED:20240807T172351Z
UID:37468-1724612400-1724706000@www.valdeolmos-alalpardo.org
SUMMARY:25 y 26 de agosto: Novilladas sin Picadores en la Plaza de Toros de Alalpardo
DESCRIPTION:6 bravos novillos en cada novillada – 25 y 26 de agosto\n25 de agosto \n\nEntrada gratuita hasta completar aforo en la Plaza de Toros de Alalpardo\n19:00 horas\nNovillos de la Ganadería Ángel Luis Peña\nNo te pierdas a los novilleros Pepe Burdiel\, Javier Cuartero y Jorge Hurtado \n\n26 de agosto \n\nEntrada gratuita hasta completar aforo en la Plaza de Toros de Alalpardo\n19:00 horas\nNovillos de la Ganadería José Escolar\nNo te pierdas a los novilleros Luis Rivero\, Jairo López y Juan Pablo Ibarra\n\n  \n \n 
URL:https://www.valdeolmos-alalpardo.org/evento/25-y-26-de-agosto-novilladas-sin-picadores-en-la-plaza-de-toros-de-alalpardo/
LOCATION:Plaza de Toros de Alalpardo
ATTACH;FMTTYPE=image/jpeg:https://www.valdeolmos-alalpardo.org/wp-content/uploads/2024/08/Alalpardo.jpg
END:VEVENT
END:VCALENDAR