BEGIN:VCALENDAR
VERSION:2.0
PRODID:-//Ayuntamiento de Valdeolmos-Alalpardo - ECPv6.15.12.2//NONSGML v1.0//EN
CALSCALE:GREGORIAN
METHOD:PUBLISH
X-WR-CALNAME:Ayuntamiento de Valdeolmos-Alalpardo
X-ORIGINAL-URL:https://www.valdeolmos-alalpardo.org
X-WR-CALDESC:Eventos para Ayuntamiento de Valdeolmos-Alalpardo
REFRESH-INTERVAL;VALUE=DURATION:PT1H
X-Robots-Tag:noindex
X-PUBLISHED-TTL:PT1H
BEGIN:VTIMEZONE
TZID:Europe/Madrid
BEGIN:DAYLIGHT
TZOFFSETFROM:+0100
TZOFFSETTO:+0200
TZNAME:CEST
DTSTART:20230326T010000
END:DAYLIGHT
BEGIN:STANDARD
TZOFFSETFROM:+0200
TZOFFSETTO:+0100
TZNAME:CET
DTSTART:20231029T010000
END:STANDARD
BEGIN:DAYLIGHT
TZOFFSETFROM:+0100
TZOFFSETTO:+0200
TZNAME:CEST
DTSTART:20240331T010000
END:DAYLIGHT
BEGIN:STANDARD
TZOFFSETFROM:+0200
TZOFFSETTO:+0100
TZNAME:CET
DTSTART:20241027T010000
END:STANDARD
BEGIN:DAYLIGHT
TZOFFSETFROM:+0100
TZOFFSETTO:+0200
TZNAME:CEST
DTSTART:20250330T010000
END:DAYLIGHT
BEGIN:STANDARD
TZOFFSETFROM:+0200
TZOFFSETTO:+0100
TZNAME:CET
DTSTART:20251026T010000
END:STANDARD
END:VTIMEZONE
BEGIN:VEVENT
DTSTART;TZID=Europe/Madrid:20241122T193000
DTEND;TZID=Europe/Madrid:20241122T203000
DTSTAMP:20260419T215344
CREATED:20241111T092055Z
LAST-MODIFIED:20241111T092101Z
UID:38251-1732303800-1732307400@www.valdeolmos-alalpardo.org
SUMMARY:22 de noviembre: Concierto - 'Un viaje musical cautivador'
DESCRIPTION:Concierto con melodías de ambos lados de nuestro océano\nNo te pierdas el viaje musical cautivador de dos grandes músicos con amplias carreras que se unen en un concierto. La emoción está garantizada. \n\nViernes 22 de noviembre\n19:30 horas\nSala Al-Artis –  Casa de Cultura de Alalpardo\, C/ Egidos 8-10\nPrecio: 5 €\nVenta de entradas: En Ayuntamiento y bar Casa de la Cultura desde el 8 de noviembre\n\nLa pianista Coni Lechner ha actuado en las Orquestas Filarmónica de España\, Madrid\, Murcia. Giras internacionales en Francia\, Alemania\, Japón\, Suiza y EEUU. \nEl violinista Thomas Potiron se inició a los 4 años. Primeros premios en Ciudad de Burdeos y Conservatorio de París además de ser titular de la Orquesta Sinfónica Teatro de la Ópera de Madrid. \nCartel_UN VIAJE MUSICAL \n \n  \n  \n 
URL:https://www.valdeolmos-alalpardo.org/evento/22-de-noviembre-concierto-un-viaje-musical-cautivador/
LOCATION:Sala Al Artis\, Calle Egidos\, 8\, Valdeolmos-Alalpardo\, Madrid\, 28130\, España
ATTACH;FMTTYPE=image/jpeg:https://www.valdeolmos-alalpardo.org/wp-content/uploads/2024/11/Cartel_UN-VIAJE-MUSICAL_page-0001.jpg
END:VEVENT
END:VCALENDAR