BEGIN:VCALENDAR
VERSION:2.0
PRODID:-//Ayuntamiento de Valdeolmos-Alalpardo - ECPv6.15.12.2//NONSGML v1.0//EN
CALSCALE:GREGORIAN
METHOD:PUBLISH
X-WR-CALNAME:Ayuntamiento de Valdeolmos-Alalpardo
X-ORIGINAL-URL:https://www.valdeolmos-alalpardo.org
X-WR-CALDESC:Eventos para Ayuntamiento de Valdeolmos-Alalpardo
REFRESH-INTERVAL;VALUE=DURATION:PT1H
X-Robots-Tag:noindex
X-PUBLISHED-TTL:PT1H
BEGIN:VTIMEZONE
TZID:Europe/Madrid
BEGIN:DAYLIGHT
TZOFFSETFROM:+0100
TZOFFSETTO:+0200
TZNAME:CEST
DTSTART:20230326T010000
END:DAYLIGHT
BEGIN:STANDARD
TZOFFSETFROM:+0200
TZOFFSETTO:+0100
TZNAME:CET
DTSTART:20231029T010000
END:STANDARD
BEGIN:DAYLIGHT
TZOFFSETFROM:+0100
TZOFFSETTO:+0200
TZNAME:CEST
DTSTART:20240331T010000
END:DAYLIGHT
BEGIN:STANDARD
TZOFFSETFROM:+0200
TZOFFSETTO:+0100
TZNAME:CET
DTSTART:20241027T010000
END:STANDARD
BEGIN:DAYLIGHT
TZOFFSETFROM:+0100
TZOFFSETTO:+0200
TZNAME:CEST
DTSTART:20250330T010000
END:DAYLIGHT
BEGIN:STANDARD
TZOFFSETFROM:+0200
TZOFFSETTO:+0100
TZNAME:CET
DTSTART:20251026T010000
END:STANDARD
END:VTIMEZONE
BEGIN:VEVENT
DTSTART;TZID=Europe/Madrid:20241213T180000
DTEND;TZID=Europe/Madrid:20241213T193000
DTSTAMP:20260422T075428
CREATED:20241202T094530Z
LAST-MODIFIED:20241202T100517Z
UID:38454-1734112800-1734118200@www.valdeolmos-alalpardo.org
SUMMARY:13 de diciembre: Colocación de los 2 Árboles de Navidad y visita de Papá Noel en Valdeolmos
DESCRIPTION:El 13 de diciembre se colocan los dos Árboles de Navidad tejidos por ‘Las Tejedoras del Paeque’\nLos niños colgarán deseos escritos en los árboles tejidos a crochet por ‘Las Tejedoras del Paeque’. \n\nValdeolmos: Plaza Nacional 18:00 horas\nAlalpardo: C/ Alcalá 1\,  18:00 horas\n\nLos más pequeños además de meter las cartas en el buzón\, recibirán la visita de Papá Noel a las 20:00 horas en el Teatro-Estudio Sara Baras de Valdeolmos. \nÁRBOL DE NAVIDAD Y BUZÓN \n 
URL:https://www.valdeolmos-alalpardo.org/evento/13-de-diciembre-colocacion-de-los-2-arboles-de-navidad-y-visita-de-papa-noel-en-valdeolmos/
LOCATION:Plaza Nacional de Valdeolmos\, Plaza Nacional\, Valdeolmos\, 28130
ATTACH;FMTTYPE=image/jpeg:https://www.valdeolmos-alalpardo.org/wp-content/uploads/2024/12/ARBOL-DE-NAVIDAD-Y-BUZON_page-0001.jpg
END:VEVENT
BEGIN:VEVENT
DTSTART;TZID=Europe/Madrid:20241213T200000
DTEND;TZID=Europe/Madrid:20241213T210000
DTSTAMP:20260422T075428
CREATED:20241204T175232Z
LAST-MODIFIED:20241204T175232Z
UID:38469-1734120000-1734123600@www.valdeolmos-alalpardo.org
SUMMARY:13 de diciembre: Visita de Papá Noel
DESCRIPTION:Papá Noel visita a los niños y niñas del municipio\nVisita especial Ho Ho Ho \n\n13 de diciembre \n20:00 horas\nTeatro Estudio Sara Baras\nEntrada libre \nPara más información: 614168240\nToca preparar las cartas\n\nPapá Noel – Alalpardo 2024
URL:https://www.valdeolmos-alalpardo.org/evento/13-de-diciembre-visita-de-papa-noel/
LOCATION:Teatro-Estudio Sara Baras\, C/ Olivar 1\, Valdeolmos\, 28130
ATTACH;FMTTYPE=image/jpeg:https://www.valdeolmos-alalpardo.org/wp-content/uploads/2024/11/visita-PapaNoel.jpg
END:VEVENT
END:VCALENDAR