BEGIN:VCALENDAR
VERSION:2.0
PRODID:-//Ayuntamiento de Valdeolmos-Alalpardo - ECPv6.15.12.2//NONSGML v1.0//EN
CALSCALE:GREGORIAN
METHOD:PUBLISH
X-WR-CALNAME:Ayuntamiento de Valdeolmos-Alalpardo
X-ORIGINAL-URL:https://www.valdeolmos-alalpardo.org
X-WR-CALDESC:Eventos para Ayuntamiento de Valdeolmos-Alalpardo
REFRESH-INTERVAL;VALUE=DURATION:PT1H
X-Robots-Tag:noindex
X-PUBLISHED-TTL:PT1H
BEGIN:VTIMEZONE
TZID:Europe/Madrid
BEGIN:DAYLIGHT
TZOFFSETFROM:+0100
TZOFFSETTO:+0200
TZNAME:CEST
DTSTART:20230326T010000
END:DAYLIGHT
BEGIN:STANDARD
TZOFFSETFROM:+0200
TZOFFSETTO:+0100
TZNAME:CET
DTSTART:20231029T010000
END:STANDARD
BEGIN:DAYLIGHT
TZOFFSETFROM:+0100
TZOFFSETTO:+0200
TZNAME:CEST
DTSTART:20240331T010000
END:DAYLIGHT
BEGIN:STANDARD
TZOFFSETFROM:+0200
TZOFFSETTO:+0100
TZNAME:CET
DTSTART:20241027T010000
END:STANDARD
BEGIN:DAYLIGHT
TZOFFSETFROM:+0100
TZOFFSETTO:+0200
TZNAME:CEST
DTSTART:20250330T010000
END:DAYLIGHT
BEGIN:STANDARD
TZOFFSETFROM:+0200
TZOFFSETTO:+0100
TZNAME:CET
DTSTART:20251026T010000
END:STANDARD
END:VTIMEZONE
BEGIN:VEVENT
DTSTART;TZID=Europe/Madrid:20240227T093000
DTEND;TZID=Europe/Madrid:20240227T113000
DTSTAMP:20260421T023649
CREATED:20240213T092815Z
LAST-MODIFIED:20240226T085744Z
UID:36025-1709026200-1709033400@www.valdeolmos-alalpardo.org
SUMMARY:27 febrero: Introducción a CHAT-GPT
DESCRIPTION:¿Qué puede ofrecer Chat-GPT a tu negocio?\nTe lo cuenta una experta en Inteligencia Artificial y Growth Marketing \n\n27 de febrero\n9:30 horas\nSala Al-Artis\, Alalpardo\n1 hora de Ponencia y 1 hora de Networking\nGratuito\n\nCharla Chatgpt \n \n 
URL:https://www.valdeolmos-alalpardo.org/evento/27-febrero-introduccion-a-chat-gpt/
LOCATION:Sala Al Artis\, Calle Egidos\, 8\, Valdeolmos-Alalpardo\, Madrid\, 28130\, España
ATTACH;FMTTYPE=image/jpeg:https://www.valdeolmos-alalpardo.org/wp-content/uploads/2024/02/CARTEL_CHARLA-CHATGPT.jpg
END:VEVENT
END:VCALENDAR