BEGIN:VCALENDAR
VERSION:2.0
PRODID:-//Ayuntamiento de Valdeolmos-Alalpardo - ECPv6.15.12.2//NONSGML v1.0//EN
CALSCALE:GREGORIAN
METHOD:PUBLISH
X-WR-CALNAME:Ayuntamiento de Valdeolmos-Alalpardo
X-ORIGINAL-URL:https://www.valdeolmos-alalpardo.org
X-WR-CALDESC:Eventos para Ayuntamiento de Valdeolmos-Alalpardo
REFRESH-INTERVAL;VALUE=DURATION:PT1H
X-Robots-Tag:noindex
X-PUBLISHED-TTL:PT1H
BEGIN:VTIMEZONE
TZID:Europe/Madrid
BEGIN:DAYLIGHT
TZOFFSETFROM:+0100
TZOFFSETTO:+0200
TZNAME:CEST
DTSTART:20200329T010000
END:DAYLIGHT
BEGIN:STANDARD
TZOFFSETFROM:+0200
TZOFFSETTO:+0100
TZNAME:CET
DTSTART:20201025T010000
END:STANDARD
BEGIN:DAYLIGHT
TZOFFSETFROM:+0100
TZOFFSETTO:+0200
TZNAME:CEST
DTSTART:20210328T010000
END:DAYLIGHT
BEGIN:STANDARD
TZOFFSETFROM:+0200
TZOFFSETTO:+0100
TZNAME:CET
DTSTART:20211031T010000
END:STANDARD
BEGIN:DAYLIGHT
TZOFFSETFROM:+0100
TZOFFSETTO:+0200
TZNAME:CEST
DTSTART:20220327T010000
END:DAYLIGHT
BEGIN:STANDARD
TZOFFSETFROM:+0200
TZOFFSETTO:+0100
TZNAME:CET
DTSTART:20221030T010000
END:STANDARD
END:VTIMEZONE
BEGIN:VEVENT
DTSTART;TZID=Europe/Madrid:20210519T093000
DTEND;TZID=Europe/Madrid:20210531T200000
DTSTAMP:20260421T025053
CREATED:20210427T220119Z
LAST-MODIFIED:20210602T143309Z
UID:25500-1621416600-1622491200@www.valdeolmos-alalpardo.org
SUMMARY:Talleres de Prevención de Adicciones en jóvenes a través de Aulas de Ocio
DESCRIPTION:El Ayuntamiento de Valdeolmos-Alalpardo vuelve a sacar 4 jornadas de Prevención de Adicciones para Padres\, se realizarán dos jornadas en mayo y dos en junio en horario de 18:00 a 20:00 horas en la Sala de Cristal de Casa de Cultura Alalpardo.\n     \nLas fechas previstas para la realización de los talleres son las siguientes: \n– 19 mayo – Adicciones a sustancias\, pirámide del consumo y primera parte factores de riesgo y protección \n– 31 mayo – Segunda parte factores de riesgo y protección y  estilos educativos en la familia \n– 14 junio – Resolución de conflictos\, estilos de comunicación \n– 25 junio – Adicción a las tecnologías \nEn paralelo a cada una de las charlas para padres\, se realizará un taller para niños mayores de 10 años. \nTalleres previstos para el mes de mayo: \n– 19 mayo – Bolsas con camisetas recicladas. En colaboración con el Curso de Educación Ambiental en Positivo\, proyecto de participación juvenil y sostenibilidad\, se realizarán bolsas de la compra reciclando camisetas y/o telas para reducir el consumo de bolsas de plástico. \n– 31 mayo – Gymkana de orientación por el municipio. \nDentro de la programación de mayo se incluye una actividad en fin de semana para el día 23 de 9:30 a 17:30 horas\, donde se realizará una ruta de senderismo por los Montes de Patones para mayores de 8 años\, jóvenes y familias. Se realizarán actividades para reconocer ecosistemas y paisajes\, y se visitarán los pueblos de Patones de Arriba y de Abajo. \nEl coste de la actividad es de 5€/persona. \nMáximo 30 plazas. \nSe necesitará llevar mochila\, agua\, comida para todo el día \, ropa y calzado cómodo adaptado a las condiciones meteorológicas. \n¡No te quedes sin plaza! Es necesario inscribirse. \nAbierto el plazo de inscripción desde el 30 de abril presencialmente en el Ayuntamiento de Valdeolmos-Alalpardo o llamando por teléfono al 91 6202153 \nTalleres de prevención MAYO \n 
URL:https://www.valdeolmos-alalpardo.org/evento/4-jornadas-de-prevencion-de-adicciones-para-padres-en-mayo-y-junio/
ATTACH;FMTTYPE=image/jpeg:https://www.valdeolmos-alalpardo.org/wp-content/uploads/2021/04/Talleres-de-prevencion-MAYO_page-0001-1.jpg
END:VEVENT
BEGIN:VEVENT
DTSTART;TZID=Europe/Madrid:20210531T100000
DTEND;TZID=Europe/Madrid:20210531T190000
DTSTAMP:20260421T025053
CREATED:20210520T192631Z
LAST-MODIFIED:20210520T193230Z
UID:25848-1622455200-1622487600@www.valdeolmos-alalpardo.org
SUMMARY:31 de mayo: Día Mundial Sin Tabaco con 2 Conferencias de Prevención Online
DESCRIPTION:Celebramos el Día Mundial Sin Tabaco de la mano de la Asociación Española contra el Cáncer con 2 Conferencias de prevención ‘online’.\nInscríbete para estas dos conferencias: \n\nEscuela de Familias: Encuentro digital destinado a padres y madres sobre el manejo del tabaco y de las nuevas formas de consumo entre jóvenes. 31 de mayo a las 10:00 horas. Online. Para inscripciones\, mandar email con asunto 31+Familia+localidad a madrid@aecc.es\nCharla online\, ‘Deja fuera los malos humos’ dirigida a cualquier persona interesada en dejar de fumar. En la sesión se darán las herramientas necesarias para plantearse dejar de fumar definitivamente.  31 de mayo 17:30 horas. Online. Para inscripciones mandar email con asunto 31M+Tabaco+Localidad a madrid@aecc.es\n\nAmbos encuentros se harán en formato virtual a través de la Plataforma Webex. \nDejando de fumar disminuyen un 30% las posibilidades de tener cáncer.
URL:https://www.valdeolmos-alalpardo.org/evento/31-de-mayo-dia-mundial-sin-tabaco-y-conferencias-de-prevencion-online/
ATTACH;FMTTYPE=image/jpeg:https://www.valdeolmos-alalpardo.org/wp-content/uploads/2021/05/7b007dbd-7948-42a3-898b-87f3eecb3239.jpg
END:VEVENT
END:VCALENDAR