BEGIN:VCALENDAR
VERSION:2.0
PRODID:-//Ayuntamiento de Valdeolmos-Alalpardo - ECPv6.15.12.2//NONSGML v1.0//EN
CALSCALE:GREGORIAN
METHOD:PUBLISH
X-WR-CALNAME:Ayuntamiento de Valdeolmos-Alalpardo
X-ORIGINAL-URL:https://www.valdeolmos-alalpardo.org
X-WR-CALDESC:Eventos para Ayuntamiento de Valdeolmos-Alalpardo
REFRESH-INTERVAL;VALUE=DURATION:PT1H
X-Robots-Tag:noindex
X-PUBLISHED-TTL:PT1H
BEGIN:VTIMEZONE
TZID:Europe/Madrid
BEGIN:DAYLIGHT
TZOFFSETFROM:+0100
TZOFFSETTO:+0200
TZNAME:CEST
DTSTART:20230326T010000
END:DAYLIGHT
BEGIN:STANDARD
TZOFFSETFROM:+0200
TZOFFSETTO:+0100
TZNAME:CET
DTSTART:20231029T010000
END:STANDARD
BEGIN:DAYLIGHT
TZOFFSETFROM:+0100
TZOFFSETTO:+0200
TZNAME:CEST
DTSTART:20240331T010000
END:DAYLIGHT
BEGIN:STANDARD
TZOFFSETFROM:+0200
TZOFFSETTO:+0100
TZNAME:CET
DTSTART:20241027T010000
END:STANDARD
BEGIN:DAYLIGHT
TZOFFSETFROM:+0100
TZOFFSETTO:+0200
TZNAME:CEST
DTSTART:20250330T010000
END:DAYLIGHT
BEGIN:STANDARD
TZOFFSETFROM:+0200
TZOFFSETTO:+0100
TZNAME:CET
DTSTART:20251026T010000
END:STANDARD
END:VTIMEZONE
BEGIN:VEVENT
DTSTART;TZID=Europe/Madrid:20240517T080000
DTEND;TZID=Europe/Madrid:20240519T213000
DTSTAMP:20260420T053228
CREATED:20240516T131611Z
LAST-MODIFIED:20240516T131640Z
UID:36968-1715932800-1716154200@www.valdeolmos-alalpardo.org
SUMMARY:Del 17 al 19 de mayo: 1er Campeonato benéfico contra el cáncer / Tenis-padel
DESCRIPTION:¿Te apuntas al 1er Campeonato benéfico contra el cáncer / Tenis-padel?\n\nDel 17 al 19 de mayo\nCuota 15 euros\nA beneficio de la Asociación española contra el cáncer\nIncluye bocadillo\, bebida y camiseta\nCategorías masculino\, femenino y mixto\nRegístrate en 613018967\n\nTenis y padel AECC
URL:https://www.valdeolmos-alalpardo.org/evento/del-17-al-19-de-mayo-1er-campeonato-benefico-contra-el-cancer-tenis-padel/
LOCATION:Madrid
ATTACH;FMTTYPE=image/jpeg:https://www.valdeolmos-alalpardo.org/wp-content/uploads/2024/05/tenis-y-padel-aecc.jpeg
END:VEVENT
END:VCALENDAR