BEGIN:VCALENDAR
VERSION:2.0
PRODID:-//Ayuntamiento de Valdeolmos-Alalpardo - ECPv6.15.12.2//NONSGML v1.0//EN
CALSCALE:GREGORIAN
METHOD:PUBLISH
X-WR-CALNAME:Ayuntamiento de Valdeolmos-Alalpardo
X-ORIGINAL-URL:https://www.valdeolmos-alalpardo.org
X-WR-CALDESC:Eventos para Ayuntamiento de Valdeolmos-Alalpardo
REFRESH-INTERVAL;VALUE=DURATION:PT1H
X-Robots-Tag:noindex
X-PUBLISHED-TTL:PT1H
BEGIN:VTIMEZONE
TZID:Europe/Madrid
BEGIN:DAYLIGHT
TZOFFSETFROM:+0100
TZOFFSETTO:+0200
TZNAME:CEST
DTSTART:20180325T010000
END:DAYLIGHT
BEGIN:STANDARD
TZOFFSETFROM:+0200
TZOFFSETTO:+0100
TZNAME:CET
DTSTART:20181028T010000
END:STANDARD
BEGIN:DAYLIGHT
TZOFFSETFROM:+0100
TZOFFSETTO:+0200
TZNAME:CEST
DTSTART:20190331T010000
END:DAYLIGHT
BEGIN:STANDARD
TZOFFSETFROM:+0200
TZOFFSETTO:+0100
TZNAME:CET
DTSTART:20191027T010000
END:STANDARD
BEGIN:DAYLIGHT
TZOFFSETFROM:+0100
TZOFFSETTO:+0200
TZNAME:CEST
DTSTART:20200329T010000
END:DAYLIGHT
BEGIN:STANDARD
TZOFFSETFROM:+0200
TZOFFSETTO:+0100
TZNAME:CET
DTSTART:20201025T010000
END:STANDARD
END:VTIMEZONE
BEGIN:VEVENT
DTSTART;TZID=Europe/Madrid:20190612T100000
DTEND;TZID=Europe/Madrid:20190707T015500
DTSTAMP:20260421T062532
CREATED:20190612T125121Z
LAST-MODIFIED:20190612T125121Z
UID:23755-1560333600-1562464500@www.valdeolmos-alalpardo.org
SUMMARY:III CAMPUS TAURINO
DESCRIPTION:DEL 1 AL 6 DE JULIO TENDRA LUGAR EL III CAMPUS TAURINO\nLos alumnos no torean animales\nPor tercer verano consecutivo se llevará a cabo el Campus Taurino organizado por la Escuela de Tauromaquia José Cubero ‘Yiyo’ y el Ayuntamiento de Valdeolmos-Alalpardo. \nSe trata de un campus para niños y niñas de 8 a 14 años del 1 al 6 de julio. Precio: 150 euros. Horario: de 8:00 a 18:30 horas. \nLos alumnos no torearán animales \nPlazas limitadas. Pincha para ver horario de cada día\, instrucciones del Campus y hoja de inscripción. El plazo termina el 27 de junio. \nIII CAMPUS TAURINO \n 
URL:https://www.valdeolmos-alalpardo.org/evento/iii-campus-taurino-2/
LOCATION:Plaza de Toros de Alalpardo
ATTACH;FMTTYPE=image/jpeg:https://www.valdeolmos-alalpardo.org/wp-content/uploads/III-CAMPUS-TAURINO1_page-0001.jpg
END:VEVENT
BEGIN:VEVENT
DTSTART;TZID=Europe/Madrid:20190612T100000
DTEND;TZID=Europe/Madrid:20190707T015500
DTSTAMP:20260421T062532
CREATED:20190612T125121Z
LAST-MODIFIED:20190613T105901Z
UID:18923-1560333600-1562464500@www.valdeolmos-alalpardo.org
SUMMARY:III CAMPUS TAURINO
DESCRIPTION:DEL 1 AL 6 DE JULIO TENDRA LUGAR EL III CAMPUS TAURINO\nLos alumnos no torean animales\nPor tercer verano consecutivo se llevará a cabo el Campus Taurino organizado por la Escuela de Tauromaquia José Cubero ‘Yiyo’ y el Ayuntamiento de Valdeolmos-Alalpardo. \nSe trata de un campus para niños y niñas de 8 a 14 años del 1 al 6 de julio. Precio: 150 euros. Horario: de 8:00 a 18:30 horas. \nLos alumnos no torearán animales \nPlazas limitadas. Pincha para ver horario de cada día\, instrucciones del Campus y hoja de inscripción. El plazo termina el 27 de junio. \nIII CAMPUS TAURINO \n 
URL:https://www.valdeolmos-alalpardo.org/evento/iii-campus-taurino/
LOCATION:Plaza de Toros de Alalpardo
ATTACH;FMTTYPE=image/jpeg:https://www.valdeolmos-alalpardo.org/wp-content/uploads/III-CAMPUS-TAURINO1_page-0001.jpg
END:VEVENT
END:VCALENDAR