BEGIN:VCALENDAR
VERSION:2.0
PRODID:-//Ayuntamiento de Valdeolmos-Alalpardo - ECPv6.15.12.2//NONSGML v1.0//EN
CALSCALE:GREGORIAN
METHOD:PUBLISH
X-WR-CALNAME:Ayuntamiento de Valdeolmos-Alalpardo
X-ORIGINAL-URL:https://www.valdeolmos-alalpardo.org
X-WR-CALDESC:Eventos para Ayuntamiento de Valdeolmos-Alalpardo
REFRESH-INTERVAL;VALUE=DURATION:PT1H
X-Robots-Tag:noindex
X-PUBLISHED-TTL:PT1H
BEGIN:VTIMEZONE
TZID:Europe/Madrid
BEGIN:DAYLIGHT
TZOFFSETFROM:+0100
TZOFFSETTO:+0200
TZNAME:CEST
DTSTART:20240331T010000
END:DAYLIGHT
BEGIN:STANDARD
TZOFFSETFROM:+0200
TZOFFSETTO:+0100
TZNAME:CET
DTSTART:20241027T010000
END:STANDARD
BEGIN:DAYLIGHT
TZOFFSETFROM:+0100
TZOFFSETTO:+0200
TZNAME:CEST
DTSTART:20250330T010000
END:DAYLIGHT
BEGIN:STANDARD
TZOFFSETFROM:+0200
TZOFFSETTO:+0100
TZNAME:CET
DTSTART:20251026T010000
END:STANDARD
BEGIN:DAYLIGHT
TZOFFSETFROM:+0100
TZOFFSETTO:+0200
TZNAME:CEST
DTSTART:20260329T010000
END:DAYLIGHT
BEGIN:STANDARD
TZOFFSETFROM:+0200
TZOFFSETTO:+0100
TZNAME:CET
DTSTART:20261025T010000
END:STANDARD
END:VTIMEZONE
BEGIN:VEVENT
DTSTART;TZID=Europe/Madrid:20250216T100000
DTEND;TZID=Europe/Madrid:20250216T153000
DTSTAMP:20260424T080018
CREATED:20250213T201429Z
LAST-MODIFIED:20250213T201433Z
UID:38927-1739700000-1739719800@www.valdeolmos-alalpardo.org
SUMMARY:16 de febrero: Vuelve la Ruta del Águila para los amantes del MTB
DESCRIPTION:La Ruta del Águila – Copa de Madrid BTT XCM y Copa de Madrid Gravel\nEl domingo 16 de febrero es día de las mountain bikes en el municipio. La plaza de toros es el escenario que acoge la salida y llegada de la prueba. Todos los protagonistas podrán decir que ‘han salido por la puerta grande’. \nEl nombre de la Ruta del Águila se debe a la cantidad y variedad de especies de aves existentes en el entorno de Valdeolmos-Alalpardo\, Fuente El Saz\, Ribatejada\, El Casar\, Serracines y Daganzo\, localidades por las que discurre el recorrido. \n\n10:05   Green Race Gravel Pro 65 km\n10:10    Green Race Open 65 km\n10:30    Green Race Gravel Mini 38 km\n\nInscripciones abiertas \nhttps://www.greenrace.es/ \nConsulta el recorrido \nhttps://www.greenrace.es/web-ruta-del-aguila-recorrido \n  \n  \n¿QUÉ ES?\nGREEN RACE significa aventura\, ocio\, deporte y sostenibilidad. \nGREEN RACE significa desafiarse\, romper fronteras. Pero siempre respetando y mejorando el entorno. \nMODALIDADES Y RECORRIDOS\nGREEN RACE es una carrera para todos\, porque todos tenemos la responsabilidad de cuidar nuestro planeta. \nModalidades y categorías diseñadas para todos los niveles\, adaptadas a cualquier habilidad y resistencia. \nDesde principiantes hasta profesionales\, cada participante encontrará un desafío a su medida mientras disfruta de paisajes impresionantes y recorridos únicos. \n¿Qué modalidad es para ti? \n\nGREEN RACE PRO: Vive la intensidad y la adrenalina de una competición de alto nivel\, diseñada para los más exigentes.\nGREEN RACE EXPERIENCE: Sumérgete en la emoción de la carrera recorriendo el mismo trazado en un formato más relajado.\nGREEN RACE MINI: Rutas de distancia reducida y dificultad moderada.\nGREEN RACE FAMILY: Da tus primeras pedaladas y comparte la experiencia con tu familia en un recorrido pensado para disfrutar juntos.\n\n6 pruebas componen la GREEN RACE-COPA COMUNIDAD DE MADRID. La prueba de Alalpardo es la segunda.
URL:https://www.valdeolmos-alalpardo.org/evento/16-de-febrero-vuelve-la-ruta-del-aguila-para-los-amantes-del-mtb/
LOCATION:Plaza de Toros de Alalpardo
ATTACH;FMTTYPE=image/jpeg:https://www.valdeolmos-alalpardo.org/wp-content/uploads/2025/02/Ruta-Aguila.jpg
END:VEVENT
END:VCALENDAR