BEGIN:VCALENDAR
VERSION:2.0
PRODID:-//Ayuntamiento de Valdeolmos-Alalpardo - ECPv6.15.12.2//NONSGML v1.0//EN
CALSCALE:GREGORIAN
METHOD:PUBLISH
X-WR-CALNAME:Ayuntamiento de Valdeolmos-Alalpardo
X-ORIGINAL-URL:https://www.valdeolmos-alalpardo.org
X-WR-CALDESC:Eventos para Ayuntamiento de Valdeolmos-Alalpardo
REFRESH-INTERVAL;VALUE=DURATION:PT1H
X-Robots-Tag:noindex
X-PUBLISHED-TTL:PT1H
BEGIN:VTIMEZONE
TZID:Europe/Madrid
BEGIN:DAYLIGHT
TZOFFSETFROM:+0100
TZOFFSETTO:+0200
TZNAME:CEST
DTSTART:20180325T010000
END:DAYLIGHT
BEGIN:STANDARD
TZOFFSETFROM:+0200
TZOFFSETTO:+0100
TZNAME:CET
DTSTART:20181028T010000
END:STANDARD
BEGIN:DAYLIGHT
TZOFFSETFROM:+0100
TZOFFSETTO:+0200
TZNAME:CEST
DTSTART:20190331T010000
END:DAYLIGHT
BEGIN:STANDARD
TZOFFSETFROM:+0200
TZOFFSETTO:+0100
TZNAME:CET
DTSTART:20191027T010000
END:STANDARD
BEGIN:DAYLIGHT
TZOFFSETFROM:+0100
TZOFFSETTO:+0200
TZNAME:CEST
DTSTART:20200329T010000
END:DAYLIGHT
BEGIN:STANDARD
TZOFFSETFROM:+0200
TZOFFSETTO:+0100
TZNAME:CET
DTSTART:20201025T010000
END:STANDARD
END:VTIMEZONE
BEGIN:VEVENT
DTSTART;TZID=Europe/Madrid:20191031T210000
DTEND;TZID=Europe/Madrid:20191031T030000
DTSTAMP:20260420T123356
CREATED:20191023T110501Z
LAST-MODIFIED:20191023T110501Z
UID:20534-1572555600-1572490800@www.valdeolmos-alalpardo.org
SUMMARY:Concurso de DISFRACES Y CALABAZAS DECORADAS para un Halloween de miedo
DESCRIPTION:PARA LA NOCHE MÁS TERRORÍFICA DEL AÑO CELEBRAREMOS UN CONCURSO DE DISFRACES Y OTRO DE CALABAZAS DECORADAS ADEMÁS DE UNA FIESTA CON DJ\n  \n \nHALLOWEEN \nSe realizarán 2 concursos a través de INSTAGRAM – CONCURSO DE DISFRACES Y CONCURSO DE CALABAZAS DECORADAS – \nEl ganador de cada concurso recibirá 2 entradas de día completo a PARQUE WARNER para el día 3 de noviembre de 2019. \nPara participar en el CONCURSO DE DISFRACES\, hay que hacer una foto en la Fiesta con DJ de la Casa de la Cultura de Alalpardo\, subirla a INSTAGRAM\, etiquetar al Ayuntamiento de Valdeolmos-Alalpardo\, seguir su página y utilizar el hashtag #HalloweenVA19. Quien más LIKES obtenga será el ganador. \nPara participar en el CONCURSO DE CALABAZAS DECORADAS se deberá entregar el día 30 de octubre la calabaza en el Ayuntamiento. El mismo día de la fiesta se llevarán al teatro de la Casa de Cultura donde quedarán expuestas\, se realizará una foto de cada una de ellas y se subirán a la cuenta de INSTAGRAM del Ayuntamiento. La que más LIKES obtenga será la ganadora. \nLos participantes que no cumplan con todos los requisitos para participar no serán tomados en cuenta para ganadores del premio.
URL:https://www.valdeolmos-alalpardo.org/evento/concurso-disfraces-calabazas-decoradas-halloween-miedo/
LOCATION:Casa de Cultura de Alalpardo\, C/ Ejidos\, 8\, Alalpardo\, Madrid\, 28130\, España
ATTACH;FMTTYPE=image/jpeg:https://www.valdeolmos-alalpardo.org/wp-content/uploads/IMG-20191022-WA0004.jpg
END:VEVENT
BEGIN:VEVENT
DTSTART;TZID=Europe/Madrid:20191031T210000
DTEND;TZID=Europe/Madrid:20191031T030000
DTSTAMP:20260420T123356
CREATED:20191023T110501Z
LAST-MODIFIED:20191023T110501Z
UID:23809-1572555600-1572490800@www.valdeolmos-alalpardo.org
SUMMARY:Concurso de DISFRACES Y CALABAZAS DECORADAS para un Halloween de miedo
DESCRIPTION:PARA LA NOCHE MÁS TERRORÍFICA DEL AÑO CELEBRAREMOS UN CONCURSO DE DISFRACES Y OTRO DE CALABAZAS DECORADAS ADEMÁS DE UNA FIESTA CON DJ\n  \n \nHALLOWEEN \nSe realizarán 2 concursos a través de INSTAGRAM – CONCURSO DE DISFRACES Y CONCURSO DE CALABAZAS DECORADAS – \nEl ganador de cada concurso recibirá 2 entradas de día completo a PARQUE WARNER para el día 3 de noviembre de 2019. \nPara participar en el CONCURSO DE DISFRACES\, hay que hacer una foto en la Fiesta con DJ de la Casa de la Cultura de Alalpardo\, subirla a INSTAGRAM\, etiquetar al Ayuntamiento de Valdeolmos-Alalpardo\, seguir su página y utilizar el hashtag #HalloweenVA19. Quien más LIKES obtenga será el ganador. \nPara participar en el CONCURSO DE CALABAZAS DECORADAS se deberá entregar el día 30 de octubre la calabaza en el Ayuntamiento. El mismo día de la fiesta se llevarán al teatro de la Casa de Cultura donde quedarán expuestas\, se realizará una foto de cada una de ellas y se subirán a la cuenta de INSTAGRAM del Ayuntamiento. La que más LIKES obtenga será la ganadora. \nLos participantes que no cumplan con todos los requisitos para participar no serán tomados en cuenta para ganadores del premio.
URL:https://www.valdeolmos-alalpardo.org/evento/concurso-disfraces-calabazas-decoradas-halloween-miedo-2/
LOCATION:Casa de Cultura de Alalpardo\, C/ Ejidos\, 8\, Alalpardo\, Madrid\, 28130\, España
ATTACH;FMTTYPE=image/jpeg:https://www.valdeolmos-alalpardo.org/wp-content/uploads/IMG-20191022-WA0004.jpg
END:VEVENT
END:VCALENDAR