BEGIN:VCALENDAR
VERSION:2.0
PRODID:-//Ayuntamiento de Valdeolmos-Alalpardo - ECPv6.15.12.2//NONSGML v1.0//EN
CALSCALE:GREGORIAN
METHOD:PUBLISH
X-ORIGINAL-URL:https://www.valdeolmos-alalpardo.org
X-WR-CALDESC:Eventos para Ayuntamiento de Valdeolmos-Alalpardo
REFRESH-INTERVAL;VALUE=DURATION:PT1H
X-Robots-Tag:noindex
X-PUBLISHED-TTL:PT1H
BEGIN:VTIMEZONE
TZID:Europe/Madrid
BEGIN:DAYLIGHT
TZOFFSETFROM:+0100
TZOFFSETTO:+0200
TZNAME:CEST
DTSTART:20220327T010000
END:DAYLIGHT
BEGIN:STANDARD
TZOFFSETFROM:+0200
TZOFFSETTO:+0100
TZNAME:CET
DTSTART:20221030T010000
END:STANDARD
BEGIN:DAYLIGHT
TZOFFSETFROM:+0100
TZOFFSETTO:+0200
TZNAME:CEST
DTSTART:20230326T010000
END:DAYLIGHT
BEGIN:STANDARD
TZOFFSETFROM:+0200
TZOFFSETTO:+0100
TZNAME:CET
DTSTART:20231029T010000
END:STANDARD
BEGIN:DAYLIGHT
TZOFFSETFROM:+0100
TZOFFSETTO:+0200
TZNAME:CEST
DTSTART:20240331T010000
END:DAYLIGHT
BEGIN:STANDARD
TZOFFSETFROM:+0200
TZOFFSETTO:+0100
TZNAME:CET
DTSTART:20241027T010000
END:STANDARD
END:VTIMEZONE
BEGIN:VEVENT
DTSTART;TZID=Europe/Madrid:20230503T090000
DTEND;TZID=Europe/Madrid:20230503T100000
DTSTAMP:20260419T171528
CREATED:20230426T124225Z
LAST-MODIFIED:20230426T124225Z
UID:32898-1683104400-1683108000@www.valdeolmos-alalpardo.org
SUMMARY:3 de mayo: Decreto de convocatoria de Pleno Extraordinario
DESCRIPTION:Decreto de convocatoria de Pleno Extraordinario del 3 de mayo a las 09:00 horas\nSe realizará el sorteo de la asignación de miembros de las mesas electorales para las Elecciones Municipales y Autonómicas del 28 de mayo. \nEstás invitad@ a asistir. También puedes seguir el Pleno en streaming. \n20230426_Resolución_DECRETO 2023-0105 [DECRETO CONVOCATORIA] (3)
URL:https://www.valdeolmos-alalpardo.org/evento/3-de-mayo-decreto-de-convocatoria-de-pleno-extraordinario/
LOCATION:Salón de Plenos del Ayuntamiento de Valdeolmos-Alalpardo\, C/ Alcalá\, 4\, Valdeolmos-Alalpardo\, Madrid\, 28130 \, España
ATTACH;FMTTYPE=image/png:https://www.valdeolmos-alalpardo.org/wp-content/uploads/2023/04/Pleno-extraodinario.png
END:VEVENT
END:VCALENDAR