BEGIN:VCALENDAR
VERSION:2.0
PRODID:-//Ayuntamiento de Valdeolmos-Alalpardo - ECPv6.15.12.2//NONSGML v1.0//EN
CALSCALE:GREGORIAN
METHOD:PUBLISH
X-WR-CALNAME:Ayuntamiento de Valdeolmos-Alalpardo
X-ORIGINAL-URL:https://www.valdeolmos-alalpardo.org
X-WR-CALDESC:Eventos para Ayuntamiento de Valdeolmos-Alalpardo
REFRESH-INTERVAL;VALUE=DURATION:PT1H
X-Robots-Tag:noindex
X-PUBLISHED-TTL:PT1H
BEGIN:VTIMEZONE
TZID:Europe/Madrid
BEGIN:DAYLIGHT
TZOFFSETFROM:+0100
TZOFFSETTO:+0200
TZNAME:CEST
DTSTART:20250330T010000
END:DAYLIGHT
BEGIN:STANDARD
TZOFFSETFROM:+0200
TZOFFSETTO:+0100
TZNAME:CET
DTSTART:20251026T010000
END:STANDARD
BEGIN:DAYLIGHT
TZOFFSETFROM:+0100
TZOFFSETTO:+0200
TZNAME:CEST
DTSTART:20260329T010000
END:DAYLIGHT
BEGIN:STANDARD
TZOFFSETFROM:+0200
TZOFFSETTO:+0100
TZNAME:CET
DTSTART:20261025T010000
END:STANDARD
BEGIN:DAYLIGHT
TZOFFSETFROM:+0100
TZOFFSETTO:+0200
TZNAME:CEST
DTSTART:20270328T010000
END:DAYLIGHT
BEGIN:STANDARD
TZOFFSETFROM:+0200
TZOFFSETTO:+0100
TZNAME:CET
DTSTART:20271031T010000
END:STANDARD
END:VTIMEZONE
BEGIN:VEVENT
DTSTART;TZID=Europe/Madrid:20260326T110000
DTEND;TZID=Europe/Madrid:20260326T130000
DTSTAMP:20260420T210204
CREATED:20260325T093007Z
LAST-MODIFIED:20260325T093007Z
UID:41733-1774522800-1774530000@www.valdeolmos-alalpardo.org
SUMMARY:26 de marzo: Taller sobre 'Mitos y realidades de la conducta suicida'
DESCRIPTION:Guardianes de la esperanza es un Taller de la Mancomunidad 2026 y la Comunidad de Madrid\nTaller online sobre ‘Mitos y realidades de la conducta suicida’ \n\nONLINE\nGratuito\n26 de marzo\nDe 11:00 a 13:00 horas\nInformación e inscripciones: 91 6203842\nbienestaremocional@mancomunidad2016.org\n\n 
URL:https://www.valdeolmos-alalpardo.org/evento/26-de-marzo-taller-sobre-mitos-y-realidades-de-la-conducta-suicida/
ATTACH;FMTTYPE=image/jpeg:https://www.valdeolmos-alalpardo.org/wp-content/uploads/2026/03/55165083253_93a9e4f4e3_c-1.jpg
END:VEVENT
END:VCALENDAR