BEGIN:VCALENDAR
VERSION:2.0
PRODID:-//Ayuntamiento de Valdeolmos-Alalpardo - ECPv6.15.12.2//NONSGML v1.0//EN
CALSCALE:GREGORIAN
METHOD:PUBLISH
X-ORIGINAL-URL:https://www.valdeolmos-alalpardo.org
X-WR-CALDESC:Eventos para Ayuntamiento de Valdeolmos-Alalpardo
REFRESH-INTERVAL;VALUE=DURATION:PT1H
X-Robots-Tag:noindex
X-PUBLISHED-TTL:PT1H
BEGIN:VTIMEZONE
TZID:Europe/Madrid
BEGIN:DAYLIGHT
TZOFFSETFROM:+0100
TZOFFSETTO:+0200
TZNAME:CEST
DTSTART:20220327T010000
END:DAYLIGHT
BEGIN:STANDARD
TZOFFSETFROM:+0200
TZOFFSETTO:+0100
TZNAME:CET
DTSTART:20221030T010000
END:STANDARD
BEGIN:DAYLIGHT
TZOFFSETFROM:+0100
TZOFFSETTO:+0200
TZNAME:CEST
DTSTART:20230326T010000
END:DAYLIGHT
BEGIN:STANDARD
TZOFFSETFROM:+0200
TZOFFSETTO:+0100
TZNAME:CET
DTSTART:20231029T010000
END:STANDARD
BEGIN:DAYLIGHT
TZOFFSETFROM:+0100
TZOFFSETTO:+0200
TZNAME:CEST
DTSTART:20240331T010000
END:DAYLIGHT
BEGIN:STANDARD
TZOFFSETFROM:+0200
TZOFFSETTO:+0100
TZNAME:CET
DTSTART:20241027T010000
END:STANDARD
END:VTIMEZONE
BEGIN:VEVENT
DTSTART;TZID=Europe/Madrid:20230429T200000
DTEND;TZID=Europe/Madrid:20230429T210000
DTSTAMP:20260423T161934
CREATED:20230421T093242Z
LAST-MODIFIED:20230421T093316Z
UID:32865-1682798400-1682802000@www.valdeolmos-alalpardo.org
SUMMARY:29 de abril: Concierto 'Verónica Tello: Una voz inolvidable hacia la cumbre de la lírica'
DESCRIPTION:Concierto lírico en la Sala Al-Artis (Sala de Exposiciones y Conciertos)\nDisfruta de grandes voces el sábado 29 de abril en la Sala Al-Artis a las 20:00 horas. Será un viaje a través de dos grandes voces de la lírica internacional: Verónica y Vittorio. \n\nReservas y retirada de invitaciones: Sede del Ayuntamiento del 24 al 28 de abril. 91 620 21 53\nReserva telefónica y recogida en puerta de la Sala Al-Artis (29 abril) con Antoinette Antón (695 635 879) (18:00-19:45 horas)\n\nConsulta el programa. \nConcierto 29 de abril \n 
URL:https://www.valdeolmos-alalpardo.org/evento/29-de-abril-concierto-veronica-tello-una-voz-inolvidable-hacia-la-cumbre-de-la-lirica/
LOCATION:Sala Al Artis\, Calle Egidos\, 8\, Valdeolmos-Alalpardo\, Madrid\, 28130\, España
ATTACH;FMTTYPE=image/jpeg:https://www.valdeolmos-alalpardo.org/wp-content/uploads/2023/04/Cartel-FINAL-Veronica-21-de-abril-1_page-0001.jpg
END:VEVENT
END:VCALENDAR