BEGIN:VCALENDAR
VERSION:2.0
PRODID:-//Ayuntamiento de Valdeolmos-Alalpardo - ECPv6.15.12.2//NONSGML v1.0//EN
CALSCALE:GREGORIAN
METHOD:PUBLISH
X-ORIGINAL-URL:https://www.valdeolmos-alalpardo.org
X-WR-CALDESC:Eventos para Ayuntamiento de Valdeolmos-Alalpardo
REFRESH-INTERVAL;VALUE=DURATION:PT1H
X-Robots-Tag:noindex
X-PUBLISHED-TTL:PT1H
BEGIN:VTIMEZONE
TZID:Europe/Madrid
BEGIN:DAYLIGHT
TZOFFSETFROM:+0100
TZOFFSETTO:+0200
TZNAME:CEST
DTSTART:20180325T010000
END:DAYLIGHT
BEGIN:STANDARD
TZOFFSETFROM:+0200
TZOFFSETTO:+0100
TZNAME:CET
DTSTART:20181028T010000
END:STANDARD
BEGIN:DAYLIGHT
TZOFFSETFROM:+0100
TZOFFSETTO:+0200
TZNAME:CEST
DTSTART:20190331T010000
END:DAYLIGHT
BEGIN:STANDARD
TZOFFSETFROM:+0200
TZOFFSETTO:+0100
TZNAME:CET
DTSTART:20191027T010000
END:STANDARD
BEGIN:DAYLIGHT
TZOFFSETFROM:+0100
TZOFFSETTO:+0200
TZNAME:CEST
DTSTART:20200329T010000
END:DAYLIGHT
BEGIN:STANDARD
TZOFFSETFROM:+0200
TZOFFSETTO:+0100
TZNAME:CET
DTSTART:20201025T010000
END:STANDARD
END:VTIMEZONE
BEGIN:VEVENT
DTSTART;TZID=Europe/Madrid:20190403T103000
DTEND;TZID=Europe/Madrid:20190429T163000
DTSTAMP:20260420T044215
CREATED:20190403T124900Z
LAST-MODIFIED:20190430T054914Z
UID:17723-1554287400-1556555400@www.valdeolmos-alalpardo.org
SUMMARY:LIBRO DE ABRIL EN LA BIBLIOTECA MUNICIPAL DE ALALPARDO.
DESCRIPTION:LIBRO DE ABRIL EN LA BIBLIOTECA MUNICIPAL DE ALALPARDO.\nTítulo: Bajo un cielo escarlata\nAutor: MARK SULLIVAN\nSINOPSIS DEL LIBRO DE MARZO 2019: \nNovela basada en la verdadera y épica historia de un héroe olvidado de la Segunda Guerra Mundial. \nPino Lella no quiere saber nada de la guerra ni de los nazis. Es un adolescente italiano obsesionado con la música y las chicas\, pero\, en la Milán de 1943\, sus días de inocencia están contados. \nCuando la casa de su familia es destruida por los bombardeos\, Pino se une a una red clandestina que ayuda a los judíos a escapar a través de los Alpes\, y se enamora de la bella y misteriosa Anna. \nCon la intención de protegerlo\, sus padres lo obligan a alistarse en el ejército alemán y con solo 18 años es reclutado como chófer del general Hans Leyers\, la mano derecha de Hitler en Italia y uno de los más poderosos y enigmáticos comandantes del Tercer Reich. \nAunque eso le da la oportunidad de espiar para los aliados dentro del Alto Mando alemán\, Pino habrá de superar los horrores de la guerra y de la ocupación nazi. \nSolo su amor por Anna y el sueño de la vida que compartirán algún día le darán la fuerza y el valor para seguir luchando en secreto. \nA DISPOSICIÓN DE LOS USUARIOS EN LA BIBLIOTECA MUNICIPAL DE ALALPARDO
URL:https://www.valdeolmos-alalpardo.org/evento/libro-abril-biblioteca-municipal-alalpardo/
LOCATION:Biblioteca Pública Municipal de Alalpardo\, Travesía de Alcalá\, Alalpardo\, Madrid\, 28130\, España
ATTACH;FMTTYPE=image/jpeg:https://www.valdeolmos-alalpardo.org/wp-content/uploads/Libro-del-Mes-ABRIL-2019-WP-e1554302831682.jpg
END:VEVENT
BEGIN:VEVENT
DTSTART;TZID=Europe/Madrid:20190403T103000
DTEND;TZID=Europe/Madrid:20190429T163000
DTSTAMP:20260420T044215
CREATED:20190403T124900Z
LAST-MODIFIED:20190403T124900Z
UID:23730-1554287400-1556555400@www.valdeolmos-alalpardo.org
SUMMARY:LIBRO DE ABRIL EN LA BIBLIOTECA MUNICIPAL DE ALALPARDO.
DESCRIPTION:LIBRO DE ABRIL EN LA BIBLIOTECA MUNICIPAL DE ALALPARDO.\nTítulo: Bajo un cielo escarlata\nAutor: MARK SULLIVAN\nSINOPSIS DEL LIBRO DE MARZO 2019: \nNovela basada en la verdadera y épica historia de un héroe olvidado de la Segunda Guerra Mundial. \nPino Lella no quiere saber nada de la guerra ni de los nazis. Es un adolescente italiano obsesionado con la música y las chicas\, pero\, en la Milán de 1943\, sus días de inocencia están contados. \nCuando la casa de su familia es destruida por los bombardeos\, Pino se une a una red clandestina que ayuda a los judíos a escapar a través de los Alpes\, y se enamora de la bella y misteriosa Anna. \nCon la intención de protegerlo\, sus padres lo obligan a alistarse en el ejército alemán y con solo 18 años es reclutado como chófer del general Hans Leyers\, la mano derecha de Hitler en Italia y uno de los más poderosos y enigmáticos comandantes del Tercer Reich. \nAunque eso le da la oportunidad de espiar para los aliados dentro del Alto Mando alemán\, Pino habrá de superar los horrores de la guerra y de la ocupación nazi. \nSolo su amor por Anna y el sueño de la vida que compartirán algún día le darán la fuerza y el valor para seguir luchando en secreto. \nA DISPOSICIÓN DE LOS USUARIOS EN LA BIBLIOTECA MUNICIPAL DE ALALPARDO
URL:https://www.valdeolmos-alalpardo.org/evento/libro-abril-biblioteca-municipal-alalpardo-2/
LOCATION:Biblioteca Pública Municipal de Alalpardo\, Travesía de Alcalá\, Alalpardo\, Madrid\, 28130\, España
ATTACH;FMTTYPE=image/jpeg:https://www.valdeolmos-alalpardo.org/wp-content/uploads/Libro-del-Mes-ABRIL-2019-WP-e1554302831682.jpg
END:VEVENT
END:VCALENDAR