BEGIN:VCALENDAR
VERSION:2.0
PRODID:-//Ayuntamiento de Valdeolmos-Alalpardo - ECPv6.15.12.2//NONSGML v1.0//EN
CALSCALE:GREGORIAN
METHOD:PUBLISH
X-ORIGINAL-URL:https://www.valdeolmos-alalpardo.org
X-WR-CALDESC:Eventos para Ayuntamiento de Valdeolmos-Alalpardo
REFRESH-INTERVAL;VALUE=DURATION:PT1H
X-Robots-Tag:noindex
X-PUBLISHED-TTL:PT1H
BEGIN:VTIMEZONE
TZID:Europe/Madrid
BEGIN:DAYLIGHT
TZOFFSETFROM:+0100
TZOFFSETTO:+0200
TZNAME:CEST
DTSTART:20180325T010000
END:DAYLIGHT
BEGIN:STANDARD
TZOFFSETFROM:+0200
TZOFFSETTO:+0100
TZNAME:CET
DTSTART:20181028T010000
END:STANDARD
BEGIN:DAYLIGHT
TZOFFSETFROM:+0100
TZOFFSETTO:+0200
TZNAME:CEST
DTSTART:20190331T010000
END:DAYLIGHT
BEGIN:STANDARD
TZOFFSETFROM:+0200
TZOFFSETTO:+0100
TZNAME:CET
DTSTART:20191027T010000
END:STANDARD
BEGIN:DAYLIGHT
TZOFFSETFROM:+0100
TZOFFSETTO:+0200
TZNAME:CEST
DTSTART:20200329T010000
END:DAYLIGHT
BEGIN:STANDARD
TZOFFSETFROM:+0200
TZOFFSETTO:+0100
TZNAME:CET
DTSTART:20201025T010000
END:STANDARD
END:VTIMEZONE
BEGIN:VEVENT
DTSTART;TZID=Europe/Madrid:20190301T093000
DTEND;TZID=Europe/Madrid:20190329T153000
DTSTAMP:20260425T150747
CREATED:20190228T114655Z
LAST-MODIFIED:20190228T115504Z
UID:17591-1551432600-1553873400@www.valdeolmos-alalpardo.org
SUMMARY:LIBRO DE MARZO EN LA BIBLIOTECA MUNICIPAL DE ALALPARDO.
DESCRIPTION:LIBRO DE MARZO EN LA BIBLIOTECA MUNICIPAL DE ALALPARDO.\nTítulo: Papel y tinta\nAutor: MARÍA REIG\nSINOPSIS DEL LIBRO DE MARZO 2019: \nLa apasionante historia de una mujer que lucha por rebelarse contra el sistema establecido en el Madrid anterior a la Segunda República. \n¿De qué serías capaz por cumplir tus sueños? \n¿Qué tenía que hacer una mujer para lograr los suyos\nen la España de principios del siglo xx? \nMadrid\, primeras décadas del siglo pasado. Elisa Montero\, aunque de origen humilde\, es criada desde niña por su madrina\, una adinerada y misteriosa mujer perteneciente a la alta burguesía madrileña. La sensación de no pertenecer a ningún lugar y de cierta rebeldía ante los designios que otros han trazado para ella será algo que marcará su vida. \nElisa no solo buscará liberarse de las limitaciones que le imponen su condición de mujer y su posición social para lograr convertirse en periodista\, sino que intentará tomar las riendas de su destino y entregarse al verdadero amor. Como testigo\, la rabiosa y convulsa actualidad de una España entre guerras que la acompañará en su lucha por conocerse a sí misma y sobreponerse a sus propios prejuicios. \nA DISPOSICIÓN DE LOS USUARIOS EN LA BIBLIOTECA MUNICIPAL DE ALALPARDO
URL:https://www.valdeolmos-alalpardo.org/evento/libro-marzo-la-biblioteca-municipal-alalpardo/
LOCATION:Biblioteca Pública Municipal de Alalpardo\, Travesía de Alcalá\, Alalpardo\, Madrid\, 28130\, España
ATTACH;FMTTYPE=image/jpeg:https://www.valdeolmos-alalpardo.org/wp-content/uploads/Libro-del-Mes-MARZO-2019-03-e1551357775663.jpg
END:VEVENT
BEGIN:VEVENT
DTSTART;TZID=Europe/Madrid:20190301T093000
DTEND;TZID=Europe/Madrid:20190329T153000
DTSTAMP:20260425T150747
CREATED:20190228T114655Z
LAST-MODIFIED:20190228T114655Z
UID:23716-1551432600-1553873400@www.valdeolmos-alalpardo.org
SUMMARY:LIBRO DE MARZO EN LA BIBLIOTECA MUNICIPAL DE ALALPARDO.
DESCRIPTION:LIBRO DE MARZO EN LA BIBLIOTECA MUNICIPAL DE ALALPARDO.\nTítulo: Papel y tinta\nAutor: MARÍA REIG\nSINOPSIS DEL LIBRO DE MARZO 2019: \nLa apasionante historia de una mujer que lucha por rebelarse contra el sistema establecido en el Madrid anterior a la Segunda República. \n¿De qué serías capaz por cumplir tus sueños? \n¿Qué tenía que hacer una mujer para lograr los suyos\nen la España de principios del siglo xx? \nMadrid\, primeras décadas del siglo pasado. Elisa Montero\, aunque de origen humilde\, es criada desde niña por su madrina\, una adinerada y misteriosa mujer perteneciente a la alta burguesía madrileña. La sensación de no pertenecer a ningún lugar y de cierta rebeldía ante los designios que otros han trazado para ella será algo que marcará su vida. \nElisa no solo buscará liberarse de las limitaciones que le imponen su condición de mujer y su posición social para lograr convertirse en periodista\, sino que intentará tomar las riendas de su destino y entregarse al verdadero amor. Como testigo\, la rabiosa y convulsa actualidad de una España entre guerras que la acompañará en su lucha por conocerse a sí misma y sobreponerse a sus propios prejuicios. \nA DISPOSICIÓN DE LOS USUARIOS EN LA BIBLIOTECA MUNICIPAL DE ALALPARDO
URL:https://www.valdeolmos-alalpardo.org/evento/libro-marzo-la-biblioteca-municipal-alalpardo-2/
LOCATION:Biblioteca Pública Municipal de Alalpardo\, Travesía de Alcalá\, Alalpardo\, Madrid\, 28130\, España
ATTACH;FMTTYPE=image/jpeg:https://www.valdeolmos-alalpardo.org/wp-content/uploads/Libro-del-Mes-MARZO-2019-03-e1551357775663.jpg
END:VEVENT
END:VCALENDAR