BEGIN:VCALENDAR
VERSION:2.0
PRODID:-//Ayuntamiento de Valdeolmos-Alalpardo - ECPv6.15.12.2//NONSGML v1.0//EN
CALSCALE:GREGORIAN
METHOD:PUBLISH
X-WR-CALNAME:Ayuntamiento de Valdeolmos-Alalpardo
X-ORIGINAL-URL:https://www.valdeolmos-alalpardo.org
X-WR-CALDESC:Eventos para Ayuntamiento de Valdeolmos-Alalpardo
REFRESH-INTERVAL;VALUE=DURATION:PT1H
X-Robots-Tag:noindex
X-PUBLISHED-TTL:PT1H
BEGIN:VTIMEZONE
TZID:Europe/Madrid
BEGIN:DAYLIGHT
TZOFFSETFROM:+0100
TZOFFSETTO:+0200
TZNAME:CEST
DTSTART:20200329T010000
END:DAYLIGHT
BEGIN:STANDARD
TZOFFSETFROM:+0200
TZOFFSETTO:+0100
TZNAME:CET
DTSTART:20201025T010000
END:STANDARD
BEGIN:DAYLIGHT
TZOFFSETFROM:+0100
TZOFFSETTO:+0200
TZNAME:CEST
DTSTART:20210328T010000
END:DAYLIGHT
BEGIN:STANDARD
TZOFFSETFROM:+0200
TZOFFSETTO:+0100
TZNAME:CET
DTSTART:20211031T010000
END:STANDARD
BEGIN:DAYLIGHT
TZOFFSETFROM:+0100
TZOFFSETTO:+0200
TZNAME:CEST
DTSTART:20220327T010000
END:DAYLIGHT
BEGIN:STANDARD
TZOFFSETFROM:+0200
TZOFFSETTO:+0100
TZNAME:CET
DTSTART:20221030T010000
END:STANDARD
END:VTIMEZONE
BEGIN:VEVENT
DTSTART;TZID=Europe/Madrid:20210628T180000
DTEND;TZID=Europe/Madrid:20210628T200000
DTSTAMP:20260423T102636
CREATED:20210621T104849Z
LAST-MODIFIED:20210621T104849Z
UID:26220-1624903200-1624910400@www.valdeolmos-alalpardo.org
SUMMARY:28 junio: Plazas disponibles para el Taller de juegos de mesa
DESCRIPTION:Taller de juegos de mesa para jóvenes de 8 a 16 años\, organizado por  el Proyecto PERSEA de Educación Ambiental del municipio. \nSe realizará  en el Aula de la Casa de la Cultura de Alalpardo el lunes 28 de junio de 18:00 a 20:00 horas. \nTaller gratuito. 15 plazas disponible. Todavía puedes apuntar a tus hij@s
URL:https://www.valdeolmos-alalpardo.org/evento/28-junio-plazas-disponibles-para-el-taller-de-juegos-de-mesa/
LOCATION:Aula Casa de la Cultura de Alalpardo\, Calle Egidos\, 8\, Alalpardo\, Madrid\, 28130\, España
ATTACH;FMTTYPE=image/jpeg:https://www.valdeolmos-alalpardo.org/wp-content/uploads/2021/06/juegos-mesa.jpg
END:VEVENT
END:VCALENDAR