BEGIN:VCALENDAR
VERSION:2.0
PRODID:-//Ayuntamiento de Valdeolmos-Alalpardo - ECPv6.15.12.2//NONSGML v1.0//EN
CALSCALE:GREGORIAN
METHOD:PUBLISH
X-WR-CALNAME:Ayuntamiento de Valdeolmos-Alalpardo
X-ORIGINAL-URL:https://www.valdeolmos-alalpardo.org
X-WR-CALDESC:Eventos para Ayuntamiento de Valdeolmos-Alalpardo
REFRESH-INTERVAL;VALUE=DURATION:PT1H
X-Robots-Tag:noindex
X-PUBLISHED-TTL:PT1H
BEGIN:VTIMEZONE
TZID:Europe/Madrid
BEGIN:DAYLIGHT
TZOFFSETFROM:+0100
TZOFFSETTO:+0200
TZNAME:CEST
DTSTART:20230326T010000
END:DAYLIGHT
BEGIN:STANDARD
TZOFFSETFROM:+0200
TZOFFSETTO:+0100
TZNAME:CET
DTSTART:20231029T010000
END:STANDARD
BEGIN:DAYLIGHT
TZOFFSETFROM:+0100
TZOFFSETTO:+0200
TZNAME:CEST
DTSTART:20240331T010000
END:DAYLIGHT
BEGIN:STANDARD
TZOFFSETFROM:+0200
TZOFFSETTO:+0100
TZNAME:CET
DTSTART:20241027T010000
END:STANDARD
BEGIN:DAYLIGHT
TZOFFSETFROM:+0100
TZOFFSETTO:+0200
TZNAME:CEST
DTSTART:20250330T010000
END:DAYLIGHT
BEGIN:STANDARD
TZOFFSETFROM:+0200
TZOFFSETTO:+0100
TZNAME:CET
DTSTART:20251026T010000
END:STANDARD
END:VTIMEZONE
BEGIN:VEVENT
DTSTART;TZID=Europe/Madrid:20240627T114500
DTEND;TZID=Europe/Madrid:20240627T130000
DTSTAMP:20260424T031002
CREATED:20240527T205508Z
LAST-MODIFIED:20240625T173403Z
UID:37032-1719488700-1719493200@www.valdeolmos-alalpardo.org
SUMMARY:27 de junio: Vuelve el Bibliobús con horario estival
DESCRIPTION:En junio vuelve el Bibliobús al municipio\nEl 13 y 27 de junio vuelve al municipio el Bibliobús. Como siempre\, cargado de revistas\, libros\, cómics\, CD\, y DVD. Te espera en la Calle Alcalá 25 de 11:45 a 13:00 horas con horario estival. \nEntra y te sorprenderás en el autobús convertido en biblioteca móvil. \n \n  \n 
URL:https://www.valdeolmos-alalpardo.org/evento/13-y-27-de-junio-vuelve-el-biblobus-con-horario-estival/
LOCATION:Calle Alcalá 25
ATTACH;FMTTYPE=image/jpeg:https://www.valdeolmos-alalpardo.org/wp-content/uploads/2024/05/bibliobus.jpg
END:VEVENT
END:VCALENDAR