BEGIN:VCALENDAR
VERSION:2.0
PRODID:-//Ayuntamiento de Valdeolmos-Alalpardo - ECPv6.15.12.2//NONSGML v1.0//EN
CALSCALE:GREGORIAN
METHOD:PUBLISH
X-WR-CALNAME:Ayuntamiento de Valdeolmos-Alalpardo
X-ORIGINAL-URL:https://www.valdeolmos-alalpardo.org
X-WR-CALDESC:Eventos para Ayuntamiento de Valdeolmos-Alalpardo
REFRESH-INTERVAL;VALUE=DURATION:PT1H
X-Robots-Tag:noindex
X-PUBLISHED-TTL:PT1H
BEGIN:VTIMEZONE
TZID:Europe/Madrid
BEGIN:DAYLIGHT
TZOFFSETFROM:+0100
TZOFFSETTO:+0200
TZNAME:CEST
DTSTART:20240331T010000
END:DAYLIGHT
BEGIN:STANDARD
TZOFFSETFROM:+0200
TZOFFSETTO:+0100
TZNAME:CET
DTSTART:20241027T010000
END:STANDARD
BEGIN:DAYLIGHT
TZOFFSETFROM:+0100
TZOFFSETTO:+0200
TZNAME:CEST
DTSTART:20250330T010000
END:DAYLIGHT
BEGIN:STANDARD
TZOFFSETFROM:+0200
TZOFFSETTO:+0100
TZNAME:CET
DTSTART:20251026T010000
END:STANDARD
BEGIN:DAYLIGHT
TZOFFSETFROM:+0100
TZOFFSETTO:+0200
TZNAME:CEST
DTSTART:20260329T010000
END:DAYLIGHT
BEGIN:STANDARD
TZOFFSETFROM:+0200
TZOFFSETTO:+0100
TZNAME:CET
DTSTART:20261025T010000
END:STANDARD
END:VTIMEZONE
BEGIN:VEVENT
DTSTART;TZID=Europe/Madrid:20251128T180000
DTEND;TZID=Europe/Madrid:20251128T200000
DTSTAMP:20260426T000314
CREATED:20251124T132643Z
LAST-MODIFIED:20251125T074950Z
UID:40771-1764352800-1764360000@www.valdeolmos-alalpardo.org
SUMMARY:28 de noviembre: Evento cultural sobre la historia de nuestra comarca
DESCRIPTION:Evento cultural sobre la historia de nuestra comarca\n\nViernes 28 de noviembre\n18:00 horas\nEdificio Administrativo de Valdeolmos\, Plaza Nacional 6\n\nMás información en: \nhttp://centrodehistoria-va.blogspot.com \n \n  \n  \n 
URL:https://www.valdeolmos-alalpardo.org/evento/28-de-noviembre-evento-cultural-sobre-la-historia-de-nuestro-municipio/
LOCATION:Edificio Administrativo de Valdeolmos\, Plaza Nacional nº 6\, 28130
ATTACH;FMTTYPE=image/jpeg:https://www.valdeolmos-alalpardo.org/wp-content/uploads/2025/11/Centro-de-Historia-01-scaled-e1763978240985.jpg
END:VEVENT
END:VCALENDAR