BEGIN:VCALENDAR
VERSION:2.0
PRODID:-//Ayuntamiento de Valdeolmos-Alalpardo - ECPv6.15.12.2//NONSGML v1.0//EN
CALSCALE:GREGORIAN
METHOD:PUBLISH
X-WR-CALNAME:Ayuntamiento de Valdeolmos-Alalpardo
X-ORIGINAL-URL:https://www.valdeolmos-alalpardo.org
X-WR-CALDESC:Eventos para Ayuntamiento de Valdeolmos-Alalpardo
REFRESH-INTERVAL;VALUE=DURATION:PT1H
X-Robots-Tag:noindex
X-PUBLISHED-TTL:PT1H
BEGIN:VTIMEZONE
TZID:Europe/Madrid
BEGIN:DAYLIGHT
TZOFFSETFROM:+0100
TZOFFSETTO:+0200
TZNAME:CEST
DTSTART:20220327T010000
END:DAYLIGHT
BEGIN:STANDARD
TZOFFSETFROM:+0200
TZOFFSETTO:+0100
TZNAME:CET
DTSTART:20221030T010000
END:STANDARD
BEGIN:DAYLIGHT
TZOFFSETFROM:+0100
TZOFFSETTO:+0200
TZNAME:CEST
DTSTART:20230326T010000
END:DAYLIGHT
BEGIN:STANDARD
TZOFFSETFROM:+0200
TZOFFSETTO:+0100
TZNAME:CET
DTSTART:20231029T010000
END:STANDARD
BEGIN:DAYLIGHT
TZOFFSETFROM:+0100
TZOFFSETTO:+0200
TZNAME:CEST
DTSTART:20240331T010000
END:DAYLIGHT
BEGIN:STANDARD
TZOFFSETFROM:+0200
TZOFFSETTO:+0100
TZNAME:CET
DTSTART:20241027T010000
END:STANDARD
END:VTIMEZONE
BEGIN:VEVENT
DTSTART;TZID=Europe/Madrid:20230607T180000
DTEND;TZID=Europe/Madrid:20230607T200000
DTSTAMP:20260424T133259
CREATED:20230604T172552Z
LAST-MODIFIED:20230607T123541Z
UID:33291-1686160800-1686168000@www.valdeolmos-alalpardo.org
SUMMARY:7 de junio: Suspendida por lluvia la Fiesta del Verano del Club de Ocio'09
DESCRIPTION:Suspendida por lluvia la Fiesta del Verano del Club de Ocio’09\n \n  \n  \n 
URL:https://www.valdeolmos-alalpardo.org/evento/7-de-junio-el-club-de-ocio09-celebra-su-fiesta-del-verano/
LOCATION:Aula Casa de la Cultura de Alalpardo\, Calle Egidos\, 8\, Alalpardo\, Madrid\, 28130\, España
ATTACH;FMTTYPE=image/jpeg:https://www.valdeolmos-alalpardo.org/wp-content/uploads/2023/06/IMG-20230607-WA0015.jpg
END:VEVENT
BEGIN:VEVENT
DTSTART;TZID=Europe/Madrid:20230614T180000
DTEND;TZID=Europe/Madrid:20230614T200000
DTSTAMP:20260424T133259
CREATED:20230531T100439Z
LAST-MODIFIED:20230531T100439Z
UID:33274-1686765600-1686772800@www.valdeolmos-alalpardo.org
SUMMARY:14 de junio: La Fiesta del Verano - Proyecto de Dinamización Ambiental
DESCRIPTION:Proyecto de Dinamización Ambiental – junio 2023\n\nMiércoles 14 de junio: La Fiesta del Verano en el Aula de la Casa de la Cultura de Alalpardo. Actividad para niñ@s de 6 a 12 años.\n\nDesde octubre del año 2021 el Ayuntamiento de Valdeolmos-Alalpardo viene apostando por la realización de acciones y actividades de marcado contenido ambiental tanto educativas\, como de sensibilización o mejora ambiental dirigidas a diferentes grupos de edades\, así como la intención de implicar al mayor número de vecinos. \nLos objetivos de dicho proyecto son:\n–  La creación de un espacio de encuentro\, formación\, asesoramiento e intercambio de experiencias con temática ambiental.\n–  Fomentar la participación de la población y en especial de los jóvenes.\n–  Fomentar el uso del tiempo de ocio con actividades respetuosas con el medio ambiente.\n–  Concienciar a la población para la mejora de las condiciones del entorno\, reducir los impactos ambientales y trabajar por la sostenibilidad y la biodiversidad. \nPDA_Formulario de Inscripción JUNIO \nPROYECTO DE DINAMIZACIÓN AMBIENTAL_JUNIO 2023
URL:https://www.valdeolmos-alalpardo.org/evento/14-de-junio-la-fiesta-del-verano-proyecto-de-dinamizacion-ambiental/
LOCATION:Aula Casa de la Cultura de Alalpardo\, Calle Egidos\, 8\, Alalpardo\, Madrid\, 28130\, España
ATTACH;FMTTYPE=image/jpeg:https://www.valdeolmos-alalpardo.org/wp-content/uploads/2023/05/PROYECTO-DE-DINAMIZACION-AMBIENTAL_JUNIO-2023-01-scaled.jpg
END:VEVENT
BEGIN:VEVENT
DTSTART;TZID=Europe/Madrid:20230616T180000
DTEND;TZID=Europe/Madrid:20230617T180000
DTSTAMP:20260424T133259
CREATED:20230607T124227Z
LAST-MODIFIED:20230607T124258Z
UID:33314-1686938400-1687024800@www.valdeolmos-alalpardo.org
SUMMARY:16 de junio: Fiesta del Verano + Acampada - Club de Ocio'09
DESCRIPTION:El 16 de junio el Club de Ocio’09 celebra su Fiesta del Verano + Acampada\nLa fiesta del verano tuvo que cancelarse por lluvia el 7 de junio. \nEl agua será el protagonista. Después de mojarnos y cambiarnos de ropa\, dormiremos en el Parque de Nuestra Señora del Rosario viendo las estrellas. \nNo olvides traer ropa de cambio y juegos de agua. Despediremos la temporada a lo grande. \nCO_Formulario de Inscripción JUNIO
URL:https://www.valdeolmos-alalpardo.org/evento/16-de-junio-fiesta-del-verano-acampada-club-de-ocio09/
LOCATION:Aula Casa de la Cultura de Alalpardo\, Calle Egidos\, 8\, Alalpardo\, Madrid\, 28130\, España
ATTACH;FMTTYPE=image/jpeg:https://www.valdeolmos-alalpardo.org/wp-content/uploads/2023/06/IMG-20230607-WA0018.jpg
END:VEVENT
END:VCALENDAR