BEGIN:VCALENDAR
VERSION:2.0
PRODID:-//Ayuntamiento de Valdeolmos-Alalpardo - ECPv6.15.12.2//NONSGML v1.0//EN
CALSCALE:GREGORIAN
METHOD:PUBLISH
X-WR-CALNAME:Ayuntamiento de Valdeolmos-Alalpardo
X-ORIGINAL-URL:https://www.valdeolmos-alalpardo.org
X-WR-CALDESC:Eventos para Ayuntamiento de Valdeolmos-Alalpardo
REFRESH-INTERVAL;VALUE=DURATION:PT1H
X-Robots-Tag:noindex
X-PUBLISHED-TTL:PT1H
BEGIN:VTIMEZONE
TZID:Europe/Madrid
BEGIN:DAYLIGHT
TZOFFSETFROM:+0100
TZOFFSETTO:+0200
TZNAME:CEST
DTSTART:20240331T010000
END:DAYLIGHT
BEGIN:STANDARD
TZOFFSETFROM:+0200
TZOFFSETTO:+0100
TZNAME:CET
DTSTART:20241027T010000
END:STANDARD
BEGIN:DAYLIGHT
TZOFFSETFROM:+0100
TZOFFSETTO:+0200
TZNAME:CEST
DTSTART:20250330T010000
END:DAYLIGHT
BEGIN:STANDARD
TZOFFSETFROM:+0200
TZOFFSETTO:+0100
TZNAME:CET
DTSTART:20251026T010000
END:STANDARD
BEGIN:DAYLIGHT
TZOFFSETFROM:+0100
TZOFFSETTO:+0200
TZNAME:CEST
DTSTART:20260329T010000
END:DAYLIGHT
BEGIN:STANDARD
TZOFFSETFROM:+0200
TZOFFSETTO:+0100
TZNAME:CET
DTSTART:20261025T010000
END:STANDARD
END:VTIMEZONE
BEGIN:VEVENT
DTSTART;TZID=Europe/Madrid:20250221T200000
DTEND;TZID=Europe/Madrid:20250221T210000
DTSTAMP:20260421T032822
CREATED:20250207T172800Z
LAST-MODIFIED:20250207T172800Z
UID:38889-1740168000-1740171600@www.valdeolmos-alalpardo.org
SUMMARY:21 de febrero: Concierto de flamenco y jazz 'ABLA' en Alalpardo
DESCRIPTION:4ª Muestra Internacional de Jazz de Valdeolmos-Alalpardo\n\n\n\nABLA\n21 de febrero\n20:00 horas\nTeatro de Casa de Cultura de Alalpardo\, C/ Egidos 8-10\, Alalpardo\nPrecio entrada: 6€\nEntradas numeradas y a la venta en el Ayuntamiento y en el bar del teatro a partir del 7 de febrero\nAforo 120 butacas\ncartel Alalpardo A3
URL:https://www.valdeolmos-alalpardo.org/evento/21-de-febrero-concierto-de-flamenco-y-jazz-abla-en-alalpardo/
LOCATION:Teatro Casa de la Cultura de Alalpardo\, C/ Carlos Martín Alvárez 6\, Valdeolmos-Alalpardo\, Madrid\, 28130
ATTACH;FMTTYPE=image/jpeg:https://www.valdeolmos-alalpardo.org/wp-content/uploads/2025/02/cartel-Alalpardo-A3_page-0001.jpg
END:VEVENT
END:VCALENDAR