BEGIN:VCALENDAR
VERSION:2.0
PRODID:-//Ayuntamiento de Valdeolmos-Alalpardo - ECPv6.15.12.2//NONSGML v1.0//EN
CALSCALE:GREGORIAN
METHOD:PUBLISH
X-WR-CALNAME:Ayuntamiento de Valdeolmos-Alalpardo
X-ORIGINAL-URL:https://www.valdeolmos-alalpardo.org
X-WR-CALDESC:Eventos para Ayuntamiento de Valdeolmos-Alalpardo
REFRESH-INTERVAL;VALUE=DURATION:PT1H
X-Robots-Tag:noindex
X-PUBLISHED-TTL:PT1H
BEGIN:VTIMEZONE
TZID:Europe/Madrid
BEGIN:DAYLIGHT
TZOFFSETFROM:+0100
TZOFFSETTO:+0200
TZNAME:CEST
DTSTART:20250330T010000
END:DAYLIGHT
BEGIN:STANDARD
TZOFFSETFROM:+0200
TZOFFSETTO:+0100
TZNAME:CET
DTSTART:20251026T010000
END:STANDARD
BEGIN:DAYLIGHT
TZOFFSETFROM:+0100
TZOFFSETTO:+0200
TZNAME:CEST
DTSTART:20260329T010000
END:DAYLIGHT
BEGIN:STANDARD
TZOFFSETFROM:+0200
TZOFFSETTO:+0100
TZNAME:CET
DTSTART:20261025T010000
END:STANDARD
BEGIN:DAYLIGHT
TZOFFSETFROM:+0100
TZOFFSETTO:+0200
TZNAME:CEST
DTSTART:20270328T010000
END:DAYLIGHT
BEGIN:STANDARD
TZOFFSETFROM:+0200
TZOFFSETTO:+0100
TZNAME:CET
DTSTART:20271031T010000
END:STANDARD
END:VTIMEZONE
BEGIN:VEVENT
DTSTART;TZID=Europe/Madrid:20260217T100000
DTEND;TZID=Europe/Madrid:20260217T130000
DTSTAMP:20260421T032849
CREATED:20251217T174619Z
LAST-MODIFIED:20260210T165613Z
UID:41159-1771322400-1771333200@www.valdeolmos-alalpardo.org
SUMMARY:17 de febrero: Llega la Oficina Municipal de Información al Consumidor
DESCRIPTION:OMIC (Oficina Municipal de Información al Consumidor)\nPuede ayudarte con: \n\nTramitación de reclamaciones y denuncias\nArbitrajes de consumo\nConsultas generales sobre derechos y deberes como consumidor\nAsesoramiento especializado en materia de consumo.\n\n \n\nEn el Ayuntamiento\nFebrero: 3\, 9 y 17\nDe 10:00 a 13:00 horas\n\n 
URL:https://www.valdeolmos-alalpardo.org/evento/3-10-y-17-de-febrero-llega-la-oficina-municipal-de-informacion-al-consumidor/
LOCATION:Calle Alcalá 4\, Calle Alcalá 4\, Valdeolmos-Alalpardo\, Madrid\, 28130
ATTACH;FMTTYPE=image/png:https://www.valdeolmos-alalpardo.org/wp-content/uploads/2025/12/Copia-de-Copia-de-Post-de-instagram-dia-mundial-de-la-Tierra_20260203_151651_0000.png
END:VEVENT
END:VCALENDAR