BEGIN:VCALENDAR
VERSION:2.0
PRODID:-//Ayuntamiento de Valdeolmos-Alalpardo - ECPv6.15.12.2//NONSGML v1.0//EN
CALSCALE:GREGORIAN
METHOD:PUBLISH
X-WR-CALNAME:Ayuntamiento de Valdeolmos-Alalpardo
X-ORIGINAL-URL:https://www.valdeolmos-alalpardo.org
X-WR-CALDESC:Eventos para Ayuntamiento de Valdeolmos-Alalpardo
REFRESH-INTERVAL;VALUE=DURATION:PT1H
X-Robots-Tag:noindex
X-PUBLISHED-TTL:PT1H
BEGIN:VTIMEZONE
TZID:Europe/Madrid
BEGIN:DAYLIGHT
TZOFFSETFROM:+0100
TZOFFSETTO:+0200
TZNAME:CEST
DTSTART:20230326T010000
END:DAYLIGHT
BEGIN:STANDARD
TZOFFSETFROM:+0200
TZOFFSETTO:+0100
TZNAME:CET
DTSTART:20231029T010000
END:STANDARD
BEGIN:DAYLIGHT
TZOFFSETFROM:+0100
TZOFFSETTO:+0200
TZNAME:CEST
DTSTART:20240331T010000
END:DAYLIGHT
BEGIN:STANDARD
TZOFFSETFROM:+0200
TZOFFSETTO:+0100
TZNAME:CET
DTSTART:20241027T010000
END:STANDARD
BEGIN:DAYLIGHT
TZOFFSETFROM:+0100
TZOFFSETTO:+0200
TZNAME:CEST
DTSTART:20250330T010000
END:DAYLIGHT
BEGIN:STANDARD
TZOFFSETFROM:+0200
TZOFFSETTO:+0100
TZNAME:CET
DTSTART:20251026T010000
END:STANDARD
END:VTIMEZONE
BEGIN:VEVENT
DTSTART;TZID=Europe/Madrid:20240420T093000
DTEND;TZID=Europe/Madrid:20240420T160000
DTSTAMP:20260420T003731
CREATED:20240416T192944Z
LAST-MODIFIED:20240416T193038Z
UID:36601-1713605400-1713628800@www.valdeolmos-alalpardo.org
SUMMARY:20 de abril: III Campeonato Interautonómico de Fútbol Arquitectónico
DESCRIPTION:III Campeonato Interautonómico de Fútbol Arquitectónico\nEl sábado 20 de abril se disputa en Alalpardo la tercera edición del Campeonato entre Escuelas de Arquitectura: Madrid\, Ciudad Real\, Valencia\, Alicante\, Salamanca. \n\n20 de abril 9:30 horas\nCampo de Fútbol de Alalpardo\, C/ Chopera s/n\nConsulta el cuadro de emparejamientos\nEntrega de Premios a las 15:30 horas\nOrganiza: Arquitectos de Madrid\n\nIII Campeonato Interautonómico de Fútbol Arquitectónico
URL:https://www.valdeolmos-alalpardo.org/evento/20-de-abril-iii-campeonato-interautonomico-de-futbol-arquitectonico/
LOCATION:Campo de Fútbol Municipal de Alalpardo\, Calle Alcalá\, 25\, Alalpardo\, Madrid\, 28130\, España
ATTACH;FMTTYPE=image/jpeg:https://www.valdeolmos-alalpardo.org/wp-content/uploads/2024/04/Futbol-arquitectonico.jpeg
END:VEVENT
END:VCALENDAR