BEGIN:VCALENDAR
VERSION:2.0
PRODID:-//Ayuntamiento de Valdeolmos-Alalpardo - ECPv6.15.12.2//NONSGML v1.0//EN
CALSCALE:GREGORIAN
METHOD:PUBLISH
X-WR-CALNAME:Ayuntamiento de Valdeolmos-Alalpardo
X-ORIGINAL-URL:https://www.valdeolmos-alalpardo.org
X-WR-CALDESC:Eventos para Ayuntamiento de Valdeolmos-Alalpardo
REFRESH-INTERVAL;VALUE=DURATION:PT1H
X-Robots-Tag:noindex
X-PUBLISHED-TTL:PT1H
BEGIN:VTIMEZONE
TZID:Europe/Madrid
BEGIN:DAYLIGHT
TZOFFSETFROM:+0100
TZOFFSETTO:+0200
TZNAME:CEST
DTSTART:20180325T010000
END:DAYLIGHT
BEGIN:STANDARD
TZOFFSETFROM:+0200
TZOFFSETTO:+0100
TZNAME:CET
DTSTART:20181028T010000
END:STANDARD
BEGIN:DAYLIGHT
TZOFFSETFROM:+0100
TZOFFSETTO:+0200
TZNAME:CEST
DTSTART:20190331T010000
END:DAYLIGHT
BEGIN:STANDARD
TZOFFSETFROM:+0200
TZOFFSETTO:+0100
TZNAME:CET
DTSTART:20191027T010000
END:STANDARD
BEGIN:DAYLIGHT
TZOFFSETFROM:+0100
TZOFFSETTO:+0200
TZNAME:CEST
DTSTART:20200329T010000
END:DAYLIGHT
BEGIN:STANDARD
TZOFFSETFROM:+0200
TZOFFSETTO:+0100
TZNAME:CET
DTSTART:20201025T010000
END:STANDARD
END:VTIMEZONE
BEGIN:VEVENT
DTSTART;TZID=Europe/Madrid:20191021T210000
DTEND;TZID=Europe/Madrid:20191021T230000
DTSTAMP:20260422T145757
CREATED:20191018T060035Z
LAST-MODIFIED:20191016T101942Z
UID:20448-1571691600-1571698800@www.valdeolmos-alalpardo.org
SUMMARY:PLENO EXTRAORDINARIO: Sorteo Designación Mesas Electorales Elecciones 10-N
DESCRIPTION:LOS CONCEJALES SE REUNIRÁN EN UN PLENO EXTRAORDINARIO EL DIA 21 DE OCTUBRE\nEl motivo de la Sesión Extraordinaria a la que están convocados todos los Concejales es el sorteo de designación de las Mesas Electorales para las Elecciones Generales del 10-N. \nEl Pleno tendrá lugar el día 21 de octubre a las 19:00 horas en el Salón de Plenos de la Casa Consistorial.  \nPincha para ver el Orden del Día.  \nDECRETO CONVOCATORIA DE SESIÓN EXTRAORDINARIA DE 21 DE OCTUBRE DE 2019
URL:https://www.valdeolmos-alalpardo.org/evento/pleno-extraordinario-sorteo-designacion-mesas-electorales-elecciones-10-n/
LOCATION:Salón de Plenos del Ayuntamiento de Valdeolmos-Alalpardo\, C/ Alcalá\, 4\, Valdeolmos-Alalpardo\, Madrid\, 28130 \, España
ATTACH;FMTTYPE=image/png:https://www.valdeolmos-alalpardo.org/wp-content/uploads/20191016_135054_0000.png
END:VEVENT
BEGIN:VEVENT
DTSTART;TZID=Europe/Madrid:20191021T210000
DTEND;TZID=Europe/Madrid:20191021T230000
DTSTAMP:20260422T145757
CREATED:20191018T060035Z
LAST-MODIFIED:20191018T060035Z
UID:23804-1571691600-1571698800@www.valdeolmos-alalpardo.org
SUMMARY:PLENO EXTRAORDINARIO: Sorteo Designación Mesas Electorales Elecciones 10-N
DESCRIPTION:LOS CONCEJALES SE REUNIRÁN EN UN PLENO EXTRAORDINARIO EL DIA 21 DE OCTUBRE\nEl motivo de la Sesión Extraordinaria a la que están convocados todos los Concejales es el sorteo de designación de las Mesas Electorales para las Elecciones Generales del 10-N. \nEl Pleno tendrá lugar el día 21 de octubre a las 19:00 horas en el Salón de Plenos de la Casa Consistorial.  \nPincha para ver el Orden del Día.  \nDECRETO CONVOCATORIA DE SESIÓN EXTRAORDINARIA DE 21 DE OCTUBRE DE 2019
URL:https://www.valdeolmos-alalpardo.org/evento/pleno-extraordinario-sorteo-designacion-mesas-electorales-elecciones-10-n-2/
LOCATION:Salón de Plenos del Ayuntamiento de Valdeolmos-Alalpardo\, C/ Alcalá\, 4\, Valdeolmos-Alalpardo\, Madrid\, 28130 \, España
ATTACH;FMTTYPE=image/png:https://www.valdeolmos-alalpardo.org/wp-content/uploads/20191016_135054_0000.png
END:VEVENT
END:VCALENDAR