BEGIN:VCALENDAR
VERSION:2.0
PRODID:-//Ayuntamiento de Valdeolmos-Alalpardo - ECPv6.15.12.2//NONSGML v1.0//EN
CALSCALE:GREGORIAN
METHOD:PUBLISH
X-WR-CALNAME:Ayuntamiento de Valdeolmos-Alalpardo
X-ORIGINAL-URL:https://www.valdeolmos-alalpardo.org
X-WR-CALDESC:Eventos para Ayuntamiento de Valdeolmos-Alalpardo
REFRESH-INTERVAL;VALUE=DURATION:PT1H
X-Robots-Tag:noindex
X-PUBLISHED-TTL:PT1H
BEGIN:VTIMEZONE
TZID:Europe/Madrid
BEGIN:DAYLIGHT
TZOFFSETFROM:+0100
TZOFFSETTO:+0200
TZNAME:CEST
DTSTART:20180325T010000
END:DAYLIGHT
BEGIN:STANDARD
TZOFFSETFROM:+0200
TZOFFSETTO:+0100
TZNAME:CET
DTSTART:20181028T010000
END:STANDARD
BEGIN:DAYLIGHT
TZOFFSETFROM:+0100
TZOFFSETTO:+0200
TZNAME:CEST
DTSTART:20190331T010000
END:DAYLIGHT
BEGIN:STANDARD
TZOFFSETFROM:+0200
TZOFFSETTO:+0100
TZNAME:CET
DTSTART:20191027T010000
END:STANDARD
BEGIN:DAYLIGHT
TZOFFSETFROM:+0100
TZOFFSETTO:+0200
TZNAME:CEST
DTSTART:20200329T010000
END:DAYLIGHT
BEGIN:STANDARD
TZOFFSETFROM:+0200
TZOFFSETTO:+0100
TZNAME:CET
DTSTART:20201025T010000
END:STANDARD
END:VTIMEZONE
BEGIN:VEVENT
DTSTART;TZID=Europe/Madrid:20190930T100000
DTEND;TZID=Europe/Madrid:20191007T140000
DTSTAMP:20260421T104622
CREATED:20190930T110813Z
LAST-MODIFIED:20190930T110813Z
UID:23797-1569837600-1570456800@www.valdeolmos-alalpardo.org
SUMMARY:LISTAS ELECTORALES expuestas al público para las Elecciones Generales del 10-N
DESCRIPTION:ESTARÁN EXPUESTAS DEL 30 DE SEPTIEMBRE AL 7 DE OCTUBRE \nSe acercan las Elecciones Generales del 10-N. El 10 de noviembre\, los españoles están llamados a a las urnas. Las Listas Electorales estarán expuestas al público en el Ayuntamiento. 
URL:https://www.valdeolmos-alalpardo.org/evento/20290-2/
LOCATION:Ayuntamiento de Valdeolmos-Alalpardo\, Calle Alcalá 4\, Alalpardo\, Madrid\, 28130\, España
ATTACH;FMTTYPE=image/jpeg:https://www.valdeolmos-alalpardo.org/wp-content/uploads/urna-electoral_1_640x384.jpeg
END:VEVENT
BEGIN:VEVENT
DTSTART;TZID=Europe/Madrid:20190930T100000
DTEND;TZID=Europe/Madrid:20191007T140000
DTSTAMP:20260421T104622
CREATED:20190930T110813Z
LAST-MODIFIED:20191001T053103Z
UID:20290-1569837600-1570456800@www.valdeolmos-alalpardo.org
SUMMARY:LISTAS ELECTORALES expuestas al público para las Elecciones Generales del 10-N
DESCRIPTION:ESTARÁN EXPUESTAS DEL 30 DE SEPTIEMBRE AL 7 DE OCTUBRE \nSe acercan las Elecciones Generales del 10-N. El 10 de noviembre\, los españoles están llamados a a las urnas. Las Listas Electorales estarán expuestas al público en el Ayuntamiento. 
URL:https://www.valdeolmos-alalpardo.org/evento/20290/
LOCATION:Ayuntamiento de Valdeolmos-Alalpardo\, Calle Alcalá 4\, Alalpardo\, Madrid\, 28130\, España
ATTACH;FMTTYPE=image/jpeg:https://www.valdeolmos-alalpardo.org/wp-content/uploads/urna-electoral_1_640x384.jpeg
END:VEVENT
END:VCALENDAR