BEGIN:VCALENDAR
VERSION:2.0
PRODID:-//Ayuntamiento de Valdeolmos-Alalpardo - ECPv6.15.12.2//NONSGML v1.0//EN
CALSCALE:GREGORIAN
METHOD:PUBLISH
X-WR-CALNAME:Ayuntamiento de Valdeolmos-Alalpardo
X-ORIGINAL-URL:https://www.valdeolmos-alalpardo.org
X-WR-CALDESC:Eventos para Ayuntamiento de Valdeolmos-Alalpardo
REFRESH-INTERVAL;VALUE=DURATION:PT1H
X-Robots-Tag:noindex
X-PUBLISHED-TTL:PT1H
BEGIN:VTIMEZONE
TZID:Europe/Madrid
BEGIN:DAYLIGHT
TZOFFSETFROM:+0100
TZOFFSETTO:+0200
TZNAME:CEST
DTSTART:20210328T010000
END:DAYLIGHT
BEGIN:STANDARD
TZOFFSETFROM:+0200
TZOFFSETTO:+0100
TZNAME:CET
DTSTART:20211031T010000
END:STANDARD
BEGIN:DAYLIGHT
TZOFFSETFROM:+0100
TZOFFSETTO:+0200
TZNAME:CEST
DTSTART:20220327T010000
END:DAYLIGHT
BEGIN:STANDARD
TZOFFSETFROM:+0200
TZOFFSETTO:+0100
TZNAME:CET
DTSTART:20221030T010000
END:STANDARD
BEGIN:DAYLIGHT
TZOFFSETFROM:+0100
TZOFFSETTO:+0200
TZNAME:CEST
DTSTART:20230326T010000
END:DAYLIGHT
BEGIN:STANDARD
TZOFFSETFROM:+0200
TZOFFSETTO:+0100
TZNAME:CET
DTSTART:20231029T010000
END:STANDARD
END:VTIMEZONE
BEGIN:VEVENT
DTSTART;TZID=Europe/Madrid:20221106T100000
DTEND;TZID=Europe/Madrid:20221106T170000
DTSTAMP:20260420T230430
CREATED:20221026T181423Z
LAST-MODIFIED:20221026T181748Z
UID:30908-1667728800-1667754000@www.valdeolmos-alalpardo.org
SUMMARY:6 de noviembre: Excursión a caballo en Buitrago de Lozoya - Club de Ocio 09'
DESCRIPTION:Domingo 6 de noviembre: Excursión a caballo en Buitrago de Lozoya – Club de Ocio 09′\nAprender a montar por senderos de montaña además de visitar el pueblo. Imprescindible llevar mochila\, agua\, almuerzo\, ropa y calzado cómodo. \n25 plazas\, inscripción previa. 20 euros. De 10:00 a 17:00 horas. Salida desde el Consultorio Local de Alalpardo. \nEl Ayuntamiento de Valdeolmos-Alalpardo apuesta desde abril de 2022 por la realización de actividades de ocio dirigidas a jóvenes con edades comprendidas entre los 13 y los 18 años.
URL:https://www.valdeolmos-alalpardo.org/evento/6-de-noviembre-excursion-a-caballo-en-buitrago-de-lozoya-club-de-ocio-09/
LOCATION:Consultorio Local de Alalpardo\, Calle de Carlos Martín Álvarez\, 2\, Alalpardo\, Madrid\, 28130\, España
ATTACH;FMTTYPE=image/jpeg:https://www.valdeolmos-alalpardo.org/wp-content/uploads/2022/10/WhatsApp-Image-2022-10-26-at-19.57.43-1.jpeg
END:VEVENT
BEGIN:VEVENT
DTSTART;TZID=Europe/Madrid:20221126T190000
DTEND;TZID=Europe/Madrid:20221126T203000
DTSTAMP:20260420T230430
CREATED:20221025T114815Z
LAST-MODIFIED:20221025T114900Z
UID:30856-1669489200-1669494600@www.valdeolmos-alalpardo.org
SUMMARY:26 de noviembre: Espectáculo de títeres 'La Lámpara Maravillosa'
DESCRIPTION:Espectáculo de títeres para todos los públicos el sábado 26 e noviembre a las 19:00 horas en el Teatro de la Casa de la Cultura de Alalpardo.  \nLa historia trata sobre una niña llamada Nur. Tiene un deseo: que se cure su madre. Pero el deseo no se puede cumplir porque el genio solo puede conceder deseos para la persona que encuentre la lámpara. \nAventuras dignas de las mil y una noches: alfombras voladoras\, dormir en un oasis\, carreras en medio del desierto…Festuc Teatro presenta un espectáculo que habla de los deseos\, la aceptación y el amor. \n\nEntrada 5€\nVenta de entradas en el Bar de la Casa de la Cultura de Alalpardo desde el 18 de noviembre. \n\nPincha para ver un adelanto.  \nhttps://www.youtube.com/watch?v=P9LqZJr3jZw \nLA LÁMPARA MARAVILLOSA
URL:https://www.valdeolmos-alalpardo.org/evento/26-de-noviembre-espectaculo-de-titeres-la-lampara-maravillosa/
LOCATION:Casa de Cultura de Alalpardo\, C/ Ejidos\, 8\, Alalpardo\, Madrid\, 28130\, España
ATTACH;FMTTYPE=image/jpeg:https://www.valdeolmos-alalpardo.org/wp-content/uploads/2022/10/LA-LAMPARA-MARAVILLOSA_page-0001.jpg
END:VEVENT
END:VCALENDAR