BEGIN:VCALENDAR
VERSION:2.0
PRODID:-//Ayuntamiento de Valdeolmos-Alalpardo - ECPv6.15.12.2//NONSGML v1.0//EN
CALSCALE:GREGORIAN
METHOD:PUBLISH
X-WR-CALNAME:Ayuntamiento de Valdeolmos-Alalpardo
X-ORIGINAL-URL:https://www.valdeolmos-alalpardo.org
X-WR-CALDESC:Eventos para Ayuntamiento de Valdeolmos-Alalpardo
REFRESH-INTERVAL;VALUE=DURATION:PT1H
X-Robots-Tag:noindex
X-PUBLISHED-TTL:PT1H
BEGIN:VTIMEZONE
TZID:Europe/Madrid
BEGIN:DAYLIGHT
TZOFFSETFROM:+0100
TZOFFSETTO:+0200
TZNAME:CEST
DTSTART:20210328T010000
END:DAYLIGHT
BEGIN:STANDARD
TZOFFSETFROM:+0200
TZOFFSETTO:+0100
TZNAME:CET
DTSTART:20211031T010000
END:STANDARD
BEGIN:DAYLIGHT
TZOFFSETFROM:+0100
TZOFFSETTO:+0200
TZNAME:CEST
DTSTART:20220327T010000
END:DAYLIGHT
BEGIN:STANDARD
TZOFFSETFROM:+0200
TZOFFSETTO:+0100
TZNAME:CET
DTSTART:20221030T010000
END:STANDARD
BEGIN:DAYLIGHT
TZOFFSETFROM:+0100
TZOFFSETTO:+0200
TZNAME:CEST
DTSTART:20230326T010000
END:DAYLIGHT
BEGIN:STANDARD
TZOFFSETFROM:+0200
TZOFFSETTO:+0100
TZNAME:CET
DTSTART:20231029T010000
END:STANDARD
END:VTIMEZONE
BEGIN:VEVENT
DTSTART;TZID=Europe/Madrid:20221103T173000
DTEND;TZID=Europe/Madrid:20221103T193000
DTSTAMP:20260420T001430
CREATED:20221026T180509Z
LAST-MODIFIED:20221026T180509Z
UID:30905-1667496600-1667503800@www.valdeolmos-alalpardo.org
SUMMARY:3 de noviembre: Títeres Sostenibles - Proyecto de Dinamización Ambiental
DESCRIPTION:Títeres sostenibles el jueves 3 de noviembre dentro del Proyecto de Dinamización Ambiental.\nActividad para niñ@s de entre 6 y 12 años. 20 plazas. Inscripción previa. De 17:30 a 19:30 Sala de Cristal. \nCrea tu propio títere con material reciclado e inventa tu historia. Es necesario llevar envases\, rollos de papel higiénico y/o periódicos o revistas. \n \n 
URL:https://www.valdeolmos-alalpardo.org/evento/3-de-noviembre-titeres-sostenibles-proyecto-de-dinamizacion-ambiental/
LOCATION:Sala Cristal Casa Cultura Alalpardo\, C/ Egidos 8\, Alalpardo
ATTACH;FMTTYPE=image/jpeg:https://www.valdeolmos-alalpardo.org/wp-content/uploads/2022/10/WhatsApp-Image-2022-10-26-at-19.57.43.jpeg
END:VEVENT
BEGIN:VEVENT
DTSTART;TZID=Europe/Madrid:20221117T180000
DTEND;TZID=Europe/Madrid:20221117T200000
DTSTAMP:20260420T001430
CREATED:20221115T074807Z
LAST-MODIFIED:20221115T074807Z
UID:31128-1668708000-1668715200@www.valdeolmos-alalpardo.org
SUMMARY:17 de noviembre: Grupo de Objetivos de Desarrollo Sostenible -  Proyecto de Dinamización Ambiental
DESCRIPTION:17 de noviembre ODS – Grupo de Objetivos de Desarrollo Sostenible dentro del Proyecto de Dinamización Ambiental\nActividad para mayores de edad en el Vivero Municipal dentro del Proyecto de Dinamización Ambiental. 20 plazas. \nEl jueves 17 de noviembre se crearán semilleros. Seguimos cuidando el medio ambiente.  \nGrupo ODS 17 de noviembre
URL:https://www.valdeolmos-alalpardo.org/evento/17-de-noviembre-grupo-de-objetivos-de-desarrollo-sostenible-proyecto-de-dinamizacion-ambiental/
LOCATION:Vivero municipal\, Calle Alcalá 21-27\, Valdeolmos-Alalpardo\, Madrid\, 28130\, España
ATTACH;FMTTYPE=image/png:https://www.valdeolmos-alalpardo.org/wp-content/uploads/2022/11/Grupo-ODS.png
END:VEVENT
BEGIN:VEVENT
DTSTART;TZID=Europe/Madrid:20221124T173000
DTEND;TZID=Europe/Madrid:20221124T193000
DTSTAMP:20260420T001430
CREATED:20221026T142343Z
LAST-MODIFIED:20221128T103038Z
UID:30882-1669311000-1669318200@www.valdeolmos-alalpardo.org
SUMMARY:3\, 17 y 24 noviembre: Proyecto de Dinamización Ambiental
DESCRIPTION:El Proyecto de Dinamización Ambiental tiene 3 citas ineludibles en el mes de noviembre. Siempre en jueves: 3\, 17 y 24. \n\nJueves 3 de noviembre: Títeres sostenibles. Actividad para niñ@s de entre 6 y 12 años. 20 plazas. Inscripción previa. De 17:30 a 19:30 Sala de Cristal.\nJueves 17 de noviembre: Grupo ODS (Objetivos de Desarrollo Sostenible) Preparación de semilleros en el vivero.  Actividad para mayores de 18 años. 20 plazas. 18:00-20:00 horas.\nJueves 24 de noviembre:  Semilleros de encinas.  Puerta de Alcalá y Vivero. 17:30-19:30 horas. Actividad para niñ@s  de entre 6 y 12 años. 20 plazas. Necesario inscribirse.\n\nDA_Formulario de Inscripción NOVIEMBRE \nPROYECTO DE DINAMIZACIÓN AMBIENTAL_NOVIEMBRE \n \n  \n  \nPROYECTO DE DINAMIZACIÓN AMBIENTAL\nDesde octubre del año 2021 el Ayuntamiento de Valdeolmos-Alalpardo viene apostando por la realización de acciones y actividades de marcado contenido ambiental tanto educativas\, como de sensibilización o mejora ambiental dirigidas a diferentes grupos de edades\, así como la intención de implicar al mayor número de vecinos. \nLos objetivos de dicho proyecto son:\n– La creación de un espacio de encuentro\, formación\, asesoramiento e intercambio de experiencias con temática ambiental.\n– Fomentar la participación de la población y en especial de los jóvenes.\n– Fomentar el uso del tiempo de ocio con actividades respetuosas con el medio ambiente.\n– Concienciar a la población para la mejora de las condiciones del entorno\, reducir los impactos ambientales y trabajar por la sostenibilidad y la biodiversidad. \n  \n 
URL:https://www.valdeolmos-alalpardo.org/evento/3-17-y-24-de-noviembre-actividades-proyecto-de-dinamizacion-ambiental/
LOCATION:Sala Cristal Casa Cultura Alalpardo\, C/ Egidos 8\, Alalpardo
ATTACH;FMTTYPE=image/jpeg:https://www.valdeolmos-alalpardo.org/wp-content/uploads/2022/10/PROYECTO-DE-DINAMIZACION-AMBIENTAL_NOVIEMBRE-01-scaled.jpg
END:VEVENT
END:VCALENDAR