BEGIN:VCALENDAR
VERSION:2.0
PRODID:-//Ayuntamiento de Valdeolmos-Alalpardo - ECPv6.15.12.2//NONSGML v1.0//EN
CALSCALE:GREGORIAN
METHOD:PUBLISH
X-WR-CALNAME:Ayuntamiento de Valdeolmos-Alalpardo
X-ORIGINAL-URL:https://www.valdeolmos-alalpardo.org
X-WR-CALDESC:Eventos para Ayuntamiento de Valdeolmos-Alalpardo
REFRESH-INTERVAL;VALUE=DURATION:PT1H
X-Robots-Tag:noindex
X-PUBLISHED-TTL:PT1H
BEGIN:VTIMEZONE
TZID:Europe/Madrid
BEGIN:DAYLIGHT
TZOFFSETFROM:+0100
TZOFFSETTO:+0200
TZNAME:CEST
DTSTART:20210328T010000
END:DAYLIGHT
BEGIN:STANDARD
TZOFFSETFROM:+0200
TZOFFSETTO:+0100
TZNAME:CET
DTSTART:20211031T010000
END:STANDARD
BEGIN:DAYLIGHT
TZOFFSETFROM:+0100
TZOFFSETTO:+0200
TZNAME:CEST
DTSTART:20220327T010000
END:DAYLIGHT
BEGIN:STANDARD
TZOFFSETFROM:+0200
TZOFFSETTO:+0100
TZNAME:CET
DTSTART:20221030T010000
END:STANDARD
BEGIN:DAYLIGHT
TZOFFSETFROM:+0100
TZOFFSETTO:+0200
TZNAME:CEST
DTSTART:20230326T010000
END:DAYLIGHT
BEGIN:STANDARD
TZOFFSETFROM:+0200
TZOFFSETTO:+0100
TZNAME:CET
DTSTART:20231029T010000
END:STANDARD
END:VTIMEZONE
BEGIN:VEVENT
DTSTART;TZID=Europe/Madrid:20220922T180000
DTEND;TZID=Europe/Madrid:20220922T200000
DTSTAMP:20260420T151628
CREATED:20220920T102554Z
LAST-MODIFIED:20220920T224231Z
UID:30456-1663869600-1663876800@www.valdeolmos-alalpardo.org
SUMMARY:22 de septiembre: Reunión Grupo ODS
DESCRIPTION:Actividad para mayores de 18 años dentro del Proyecto de Dinamización Ambiental. Jueves 22 de septiembre de 18:00 a 20:00 horas en el vivero.  \nDentro de la programación prevista para el mes de septiembre el Proyecto de Dinamización Ambiental realizará la primera reunión tras el parón estival en el Vivero Municipal. \nLos asistentes deberán estar allí a las 18:00 horas donde se reencontrará el Grupo de ODS (Objetivos de Desarrollo Sostenible) y se recibirá a los nuevos interesados en formar parte del mismo. \nSe planificarán las acciones a seguir del grupo de consumo\, el vivero y la realización de jornadas enfocadas a las energías alternativas. \nAl ser una actividad para mayores de 18 años no es necesario realizar inscripción previa\, solamente presentarse allí. \n 
URL:https://www.valdeolmos-alalpardo.org/evento/22-de-septiembre-reunion-grupo-ods/
LOCATION:Vivero municipal\, Calle Alcalá 21-27\, Valdeolmos-Alalpardo\, Madrid\, 28130\, España
ATTACH;FMTTYPE=image/jpeg:https://www.valdeolmos-alalpardo.org/wp-content/uploads/2022/09/OK.jpeg
END:VEVENT
BEGIN:VEVENT
DTSTART;TZID=Europe/Madrid:20220922T180100
DTEND;TZID=Europe/Madrid:20220929T200000
DTSTAMP:20260420T151628
CREATED:20220905T131634Z
LAST-MODIFIED:20220920T104719Z
UID:30318-1663869660-1664481600@www.valdeolmos-alalpardo.org
SUMMARY:8\, 22 y 29 de septiembre: Proyecto de Dinamización Ambiental
DESCRIPTION:Vuelve el Proyecto de Dinamización Ambiental en septiembre.  \n\n8 septiembre: Reunión informativa.\n22 septiembre: Vivero. 15 plazas.\n29 septiembre: Taller infantil y Gincana ambiental. 15 plazas.\n\nOrganiza la Concejalía de Medio Ambiente.  \nPROYECTO DE DINAMIZACIÓN AMBIENTAL_SEPTIEMBRE
URL:https://www.valdeolmos-alalpardo.org/evento/8-22-y-29-de-septiembre-proyecto-de-dinamizacion-ambiental/
LOCATION:Madrid
ATTACH;FMTTYPE=image/jpeg:https://www.valdeolmos-alalpardo.org/wp-content/uploads/2022/08/PROYECTO-DE-DINAMIZACION-AMBIENTAL_SEPTIEMBRE_page-0001.jpg
END:VEVENT
BEGIN:VEVENT
DTSTART;TZID=Europe/Madrid:20220929T180000
DTEND;TZID=Europe/Madrid:20220929T200000
DTSTAMP:20260420T151628
CREATED:20220926T154257Z
LAST-MODIFIED:20220926T154257Z
UID:30502-1664474400-1664481600@www.valdeolmos-alalpardo.org
SUMMARY:29 septiembre: Taller infantil y gyncana ambiental
DESCRIPTION:El 29 de septiembre tiene lugar la última de las actividades de septiembre dentro del Proyecto de Dinamización Ambiental.  \n\nSe trata de una actividad para niños y niñas de entre 6 y 12 años-\nSe  llevará a cabo en el Parque de Nuestra Señora del Rosario de 18:00 a 20:00 horas.\n\nSolo hay 15 plazas. Es necesario inscribirse en el Ayuntamiento.  \nPROYECTO DE DINAMIZACIÓN AMBIENTAL\nDesde octubre del año 2021 el Ayuntamiento de Valdeolmos-Alalpardo viene apostando por la realización de acciones y actividades de marcado contenido ambiental tanto educativas\, como de sensibilización o mejora ambiental dirigidas a diferentes grupos de edades\, así como la intención de implicar al mayor número de vecinos. \nLos objetivos de dicho proyecto son:\n– La creación de un espacio de encuentro\, formación\, asesoramiento e intercambio de experiencias con temática ambiental.\n– Fomentar la participación de la población y en especial de los jóvenes.\n– Fomentar el uso del tiempo de ocio con actividades respetuosas con el medio ambiente.\n– Concienciar a la población para la mejora de las condiciones del entorno\, reducir los impactos ambientales y trabajar por la sostenibilidad y la biodiversidad. \n \n 
URL:https://www.valdeolmos-alalpardo.org/evento/29-septiembre-taller-infantil-y-gyncana-ambiental/
LOCATION:Parque Nuestra Señora del Rosario\, Valdeolmos-Alalpardo\, Madrid\, 28130\, España
ATTACH;FMTTYPE=image/jpeg:https://www.valdeolmos-alalpardo.org/wp-content/uploads/2022/09/WhatsApp-Image-2022-09-26-at-13.38.33.jpeg
END:VEVENT
END:VCALENDAR