BEGIN:VCALENDAR
VERSION:2.0
PRODID:-//Ayuntamiento de Valdeolmos-Alalpardo - ECPv6.15.12.2//NONSGML v1.0//EN
CALSCALE:GREGORIAN
METHOD:PUBLISH
X-WR-CALNAME:Ayuntamiento de Valdeolmos-Alalpardo
X-ORIGINAL-URL:https://www.valdeolmos-alalpardo.org
X-WR-CALDESC:Eventos para Ayuntamiento de Valdeolmos-Alalpardo
REFRESH-INTERVAL;VALUE=DURATION:PT1H
X-Robots-Tag:noindex
X-PUBLISHED-TTL:PT1H
BEGIN:VTIMEZONE
TZID:Europe/Madrid
BEGIN:DAYLIGHT
TZOFFSETFROM:+0100
TZOFFSETTO:+0200
TZNAME:CEST
DTSTART:20210328T010000
END:DAYLIGHT
BEGIN:STANDARD
TZOFFSETFROM:+0200
TZOFFSETTO:+0100
TZNAME:CET
DTSTART:20211031T010000
END:STANDARD
BEGIN:DAYLIGHT
TZOFFSETFROM:+0100
TZOFFSETTO:+0200
TZNAME:CEST
DTSTART:20220327T010000
END:DAYLIGHT
BEGIN:STANDARD
TZOFFSETFROM:+0200
TZOFFSETTO:+0100
TZNAME:CET
DTSTART:20221030T010000
END:STANDARD
BEGIN:DAYLIGHT
TZOFFSETFROM:+0100
TZOFFSETTO:+0200
TZNAME:CEST
DTSTART:20230326T010000
END:DAYLIGHT
BEGIN:STANDARD
TZOFFSETFROM:+0200
TZOFFSETTO:+0100
TZNAME:CET
DTSTART:20231029T010000
END:STANDARD
END:VTIMEZONE
BEGIN:VEVENT
DTSTART;TZID=Europe/Madrid:20220504T180000
DTEND;TZID=Europe/Madrid:20220504T200000
DTSTAMP:20260422T040710
CREATED:20220503T112841Z
LAST-MODIFIED:20220503T112841Z
UID:29181-1651687200-1651694400@www.valdeolmos-alalpardo.org
SUMMARY:4 de mayo: 'Plantando nuestro huerto' / Grupo ODS
DESCRIPTION:‘Plantando nuestro huerto’ es una actividad del ODS (Objetivos de Desarrollo Sostenible) para mayores de edad dentro del Proyecto de Dinamización Ambiental \nEl miércoles 4 de mayo se reunirán en el espacio anexo al Vivero municipal para plantar especies obtenidas de semilleros de 18:00 a 20:00 horas.
URL:https://www.valdeolmos-alalpardo.org/evento/4-de-mayo-plantando-nuestro-huerto-grupo-ods/
LOCATION:Vivero municipal\, Calle Alcalá 21-27\, Valdeolmos-Alalpardo\, Madrid\, 28130\, España
ATTACH;FMTTYPE=image/jpeg:https://www.valdeolmos-alalpardo.org/wp-content/uploads/2022/05/WhatsApp-Image-2022-05-03-at-1.21.03-PM.jpeg
END:VEVENT
BEGIN:VEVENT
DTSTART;TZID=Europe/Madrid:20220511T180000
DTEND;TZID=Europe/Madrid:20220511T200000
DTSTAMP:20260422T040710
CREATED:20220510T120433Z
LAST-MODIFIED:20220510T120433Z
UID:29297-1652292000-1652299200@www.valdeolmos-alalpardo.org
SUMMARY:11 de mayo: Plantando nuestro huerto
DESCRIPTION:‘Plantando nuestro huerto’ es una actividad de 6 a 12 años dentro del Proyecto de Dinamización Ambiental \nEl miércoles 11 de mayo se reunirán en el espacio anexo al Vivero municipal para plantar especies obtenidas de semilleros de 18:00 a 20:00 horas. \n15 plazas. Es necesario inscribirse.
URL:https://www.valdeolmos-alalpardo.org/evento/11-de-mayo-plantando-nuestro-huerto/
LOCATION:Vivero municipal\, Calle Alcalá 21-27\, Valdeolmos-Alalpardo\, Madrid\, 28130\, España
ATTACH;FMTTYPE=image/jpeg:https://www.valdeolmos-alalpardo.org/wp-content/uploads/2022/05/WhatsApp-Image-2022-05-10-at-1.58.33-PM.jpeg
END:VEVENT
BEGIN:VEVENT
DTSTART;TZID=Europe/Madrid:20220523T180000
DTEND;TZID=Europe/Madrid:20220523T200000
DTSTAMP:20260422T040710
CREATED:20220427T084951Z
LAST-MODIFIED:20220524T091326Z
UID:29111-1653328800-1653336000@www.valdeolmos-alalpardo.org
SUMMARY:4\, 11 y 25 de mayo: Proyecto de Dinamización Ambiental
DESCRIPTION:Seguimos en mayo con el Proyecto de Dinamización Ambiental plantando en nuestro huerto especies obtenidas de los semilleros además de una gymkana ambiental.  \n4 de mayo: Plantando nuestro huerto. Actividad para mayores de 18 años. \n11 de mayo: Plantando nuestro huerto. Actividad para niñ@s de 6 a 12 años. \n25 de mayo: Gymkana ambiental\, activadda para niñ@s de 6 a 12 años. Por equipos y con pruebas ambientales en las que todos ganan. \n  \nEs necesario inscribirse en el Ayuntamiento.  \nPROYECTO DE DINAMIZACIÓN AMBIENTAL_MAYO \nFormulario de Inscripción MAYO \n   
URL:https://www.valdeolmos-alalpardo.org/evento/4-11-y-25-de-mayo-proyecto-de-dinamizacion-ambiental/
LOCATION:Vivero municipal\, Calle Alcalá 21-27\, Valdeolmos-Alalpardo\, Madrid\, 28130\, España
ATTACH;FMTTYPE=image/jpeg:https://www.valdeolmos-alalpardo.org/wp-content/uploads/2022/04/PROYECTO-DE-DINAMIZACION-AMBIENTAL_MAYO_page-0001.jpg
END:VEVENT
BEGIN:VEVENT
DTSTART;TZID=Europe/Madrid:20220525T180000
DTEND;TZID=Europe/Madrid:20220525T200000
DTSTAMP:20260422T040710
CREATED:20220524T090602Z
LAST-MODIFIED:20220524T090602Z
UID:29485-1653501600-1653508800@www.valdeolmos-alalpardo.org
SUMMARY:25 de mayo: Gymkana ambiental
DESCRIPTION:Gymkana ambiental el 25 de mayo con pruebas por equipos sobre el mantenimiento del vivero. De 18 a 20 horas en el vivero.  \nEs la última actividad en el mes de mayo dentro del Proyecto de Dinamización Ambiental. Dedicada a niñ@s de 6 a 12 años. \nEs necesario inscripción previa en el Ayuntamiento. Hay 15 plazas.  \nGymkana ambiental 25 de mayo \n \n 
URL:https://www.valdeolmos-alalpardo.org/evento/25-de-mayo-gymkana-ambiental/
LOCATION:Vivero municipal\, Calle Alcalá 21-27\, Valdeolmos-Alalpardo\, Madrid\, 28130\, España
ATTACH;FMTTYPE=image/jpeg:https://www.valdeolmos-alalpardo.org/wp-content/uploads/2022/05/WhatsApp-Image-2022-05-24-at-10.58.54-AM.jpeg
END:VEVENT
END:VCALENDAR