BEGIN:VCALENDAR
VERSION:2.0
PRODID:-//Ayuntamiento de Valdeolmos-Alalpardo - ECPv6.15.12.2//NONSGML v1.0//EN
CALSCALE:GREGORIAN
METHOD:PUBLISH
X-WR-CALNAME:Ayuntamiento de Valdeolmos-Alalpardo
X-ORIGINAL-URL:https://www.valdeolmos-alalpardo.org
X-WR-CALDESC:Eventos para Ayuntamiento de Valdeolmos-Alalpardo
REFRESH-INTERVAL;VALUE=DURATION:PT1H
X-Robots-Tag:noindex
X-PUBLISHED-TTL:PT1H
BEGIN:VTIMEZONE
TZID:Europe/Madrid
BEGIN:DAYLIGHT
TZOFFSETFROM:+0100
TZOFFSETTO:+0200
TZNAME:CEST
DTSTART:20210328T010000
END:DAYLIGHT
BEGIN:STANDARD
TZOFFSETFROM:+0200
TZOFFSETTO:+0100
TZNAME:CET
DTSTART:20211031T010000
END:STANDARD
BEGIN:DAYLIGHT
TZOFFSETFROM:+0100
TZOFFSETTO:+0200
TZNAME:CEST
DTSTART:20220327T010000
END:DAYLIGHT
BEGIN:STANDARD
TZOFFSETFROM:+0200
TZOFFSETTO:+0100
TZNAME:CET
DTSTART:20221030T010000
END:STANDARD
BEGIN:DAYLIGHT
TZOFFSETFROM:+0100
TZOFFSETTO:+0200
TZNAME:CEST
DTSTART:20230326T010000
END:DAYLIGHT
BEGIN:STANDARD
TZOFFSETFROM:+0200
TZOFFSETTO:+0100
TZNAME:CET
DTSTART:20231029T010000
END:STANDARD
END:VTIMEZONE
BEGIN:VEVENT
DTSTART;TZID=Europe/Madrid:20220406T180000
DTEND;TZID=Europe/Madrid:20220406T200000
DTSTAMP:20260422T122544
CREATED:20220405T093948Z
LAST-MODIFIED:20220405T094048Z
UID:28924-1649268000-1649275200@www.valdeolmos-alalpardo.org
SUMMARY:6 de abril: Taller de elaboración de jabones II para niñ@s
DESCRIPTION:Segundo Taller de Elaboración de Jabones para niñ@s e 6 a 12 años.  \n6 de abril de 18:00 a 20:00 horas en el vivero municipal. \nEn el Taller dentro del Proyecto de Dinamización Ambiental se utilizará aceite no reciclado\, aromas y colorantes. También se harán tareas de mantenimiento en el vivero.
URL:https://www.valdeolmos-alalpardo.org/evento/6-de-abril-taller-de-elaboracion-de-jabones-ii-para-nins/
LOCATION:Vivero municipal\, Calle Alcalá 21-27\, Valdeolmos-Alalpardo\, Madrid\, 28130\, España
ATTACH;FMTTYPE=image/jpeg:https://www.valdeolmos-alalpardo.org/wp-content/uploads/2022/04/WhatsApp-Image-2022-04-05-at-11.26.16-AM.jpeg
END:VEVENT
BEGIN:VEVENT
DTSTART;TZID=Europe/Madrid:20220406T180000
DTEND;TZID=Europe/Madrid:20220427T200000
DTSTAMP:20260422T122544
CREATED:20220328T090537Z
LAST-MODIFIED:20220328T091851Z
UID:28753-1649268000-1651089600@www.valdeolmos-alalpardo.org
SUMMARY:Abril: Proyecto de Dinamización Ambiental
DESCRIPTION:Proyecto de Dinamización Ambiental en abril\nEl Ayuntamiento de Valdeolmos-Alalpardo\, junto con la Consejería de Educación y Juventud de la Comunidad de Madrid\, viene realizando un Proyecto de Dinamización Ambiental para niños\, jóvenes y adultos del municipio desde octubre de 2021 y duración  hasta junio de 2022. \nDurante el mes de abril continuarán los trabajos en el vivero municipal\, se realizará un segundo taller de elaboración de jabones con aceite de cocina usado y habrá una reunión informativa del Grupo de consumo Alalpardo. \nPlazas preferentes para empadronados. Para confirmar es necesario realizar la inscripción en el Ayuntamiento 91 6202153 \nInscripciones abiertas desde el 31 de marzo. \nPROYECTO DE DINAMIZACIÓN AMBIENTAL_ABRIL \nFormulario de Inscripción ABRIL \n       
URL:https://www.valdeolmos-alalpardo.org/evento/abril-proyecto-de-dinamizacion-ambiental/
LOCATION:Madrid
ATTACH;FMTTYPE=image/jpeg:https://www.valdeolmos-alalpardo.org/wp-content/uploads/2022/03/PROYECTO-DE-DINAMIZACION-AMBIENTAL_ABRIL-1_page-0001.jpg
END:VEVENT
BEGIN:VEVENT
DTSTART;TZID=Europe/Madrid:20220419T180000
DTEND;TZID=Europe/Madrid:20220419T190000
DTSTAMP:20260422T122544
CREATED:20220419T090546Z
LAST-MODIFIED:20220419T090546Z
UID:29011-1650391200-1650394800@www.valdeolmos-alalpardo.org
SUMMARY:20 de abril: Trabajos en el vivero (mayores de 18 años)
DESCRIPTION:El 20 de abril el Grupo ODS  llevará a cabo trabajos en el vivero. Es un actividad para mayores de 18 años. \nDe 18:00 a 19:00 horas. \nEs una actividad dentro del Proyecto de Dinamización Ambiental.  \n 
URL:https://www.valdeolmos-alalpardo.org/evento/20-de-abril-trabajos-en-el-vivero-mayores-de-18-anos/
LOCATION:Vivero municipal\, Calle Alcalá 21-27\, Valdeolmos-Alalpardo\, Madrid\, 28130\, España
ATTACH;FMTTYPE=image/jpeg:https://www.valdeolmos-alalpardo.org/wp-content/uploads/2022/04/fafeed48-5a2a-4ec9-afcf-767c02ff2b9d.jpg
END:VEVENT
BEGIN:VEVENT
DTSTART;TZID=Europe/Madrid:20220427T180000
DTEND;TZID=Europe/Madrid:20220427T200000
DTSTAMP:20260422T122544
CREATED:20220407T104320Z
LAST-MODIFIED:20220407T104320Z
UID:28944-1651082400-1651089600@www.valdeolmos-alalpardo.org
SUMMARY:27 de abril: Taller de elaboración de jabones II para niñ@s
DESCRIPTION:Segundo Taller de Elaboración de Jabones para niñ@s e 6 a 12 años.  \n27 de abril de 18:00 a 20:00 horas en el vivero municipal. Este taller no pudo realizarse el 6 de abril por problemas de la monitora.  \nEn el Taller dentro del Proyecto de Dinamización Ambiental se utilizará aceite no reciclado\, aromas y colorantes. También se harán tareas de mantenimiento en el vivero.
URL:https://www.valdeolmos-alalpardo.org/evento/27-de-abril-taller-de-elaboracion-de-jabones-ii-para-nins/
LOCATION:Vivero municipal\, Calle Alcalá 21-27\, Valdeolmos-Alalpardo\, Madrid\, 28130\, España
ATTACH;FMTTYPE=image/jpeg:https://www.valdeolmos-alalpardo.org/wp-content/uploads/2022/04/ok.jpeg
END:VEVENT
END:VCALENDAR