BEGIN:VCALENDAR
VERSION:2.0
PRODID:-//Ayuntamiento de Valdeolmos-Alalpardo - ECPv6.15.12.2//NONSGML v1.0//EN
CALSCALE:GREGORIAN
METHOD:PUBLISH
X-WR-CALNAME:Ayuntamiento de Valdeolmos-Alalpardo
X-ORIGINAL-URL:https://www.valdeolmos-alalpardo.org
X-WR-CALDESC:Eventos para Ayuntamiento de Valdeolmos-Alalpardo
REFRESH-INTERVAL;VALUE=DURATION:PT1H
X-Robots-Tag:noindex
X-PUBLISHED-TTL:PT1H
BEGIN:VTIMEZONE
TZID:Europe/Madrid
BEGIN:DAYLIGHT
TZOFFSETFROM:+0100
TZOFFSETTO:+0200
TZNAME:CEST
DTSTART:20210328T010000
END:DAYLIGHT
BEGIN:STANDARD
TZOFFSETFROM:+0200
TZOFFSETTO:+0100
TZNAME:CET
DTSTART:20211031T010000
END:STANDARD
BEGIN:DAYLIGHT
TZOFFSETFROM:+0100
TZOFFSETTO:+0200
TZNAME:CEST
DTSTART:20220327T010000
END:DAYLIGHT
BEGIN:STANDARD
TZOFFSETFROM:+0200
TZOFFSETTO:+0100
TZNAME:CET
DTSTART:20221030T010000
END:STANDARD
BEGIN:DAYLIGHT
TZOFFSETFROM:+0100
TZOFFSETTO:+0200
TZNAME:CEST
DTSTART:20230326T010000
END:DAYLIGHT
BEGIN:STANDARD
TZOFFSETFROM:+0200
TZOFFSETTO:+0100
TZNAME:CET
DTSTART:20231029T010000
END:STANDARD
END:VTIMEZONE
BEGIN:VEVENT
DTSTART;TZID=Europe/Madrid:20220506T160000
DTEND;TZID=Europe/Madrid:20220506T173000
DTSTAMP:20260420T144624
CREATED:20220504T084232Z
LAST-MODIFIED:20220504T084232Z
UID:29194-1651852800-1651858200@www.valdeolmos-alalpardo.org
SUMMARY:6 de mayo: Conferencia presencial 'Digitaliza tu negocio'
DESCRIPTION:‘Digitaliza tu negocio: Claves para entender las Redes Sociales’ forma parte del Ciclo de Conferencias Presenciales de la Asociación PAEVA (Pymes\, Autónomos y Emprendedores de Valdeolmos-Alalpardo). \nLa experta Laura Alonso Cabello impartirá la Conferencia gratuita el 6 de mayo a las 16:00 horas en la Sala de Cristal de la Casa de la Cultura de Alalpardo.  \nTe esperamos.
URL:https://www.valdeolmos-alalpardo.org/evento/6-de-mayo-conferencia-presencial-digitaliza-tu-negocio/
LOCATION:Sala Cristal Casa Cultura Alalpardo\, C/ Egidos 8\, Alalpardo
ATTACH;FMTTYPE=image/jpeg:https://www.valdeolmos-alalpardo.org/wp-content/uploads/2022/05/WhatsApp-Image-2022-05-04-at-8.39.09-AM.jpeg
END:VEVENT
END:VCALENDAR