BEGIN:VCALENDAR
VERSION:2.0
PRODID:-//Ayuntamiento de Valdeolmos-Alalpardo - ECPv6.15.12.2//NONSGML v1.0//EN
CALSCALE:GREGORIAN
METHOD:PUBLISH
X-ORIGINAL-URL:https://www.valdeolmos-alalpardo.org
X-WR-CALDESC:Eventos para Ayuntamiento de Valdeolmos-Alalpardo
REFRESH-INTERVAL;VALUE=DURATION:PT1H
X-Robots-Tag:noindex
X-PUBLISHED-TTL:PT1H
BEGIN:VTIMEZONE
TZID:Europe/Madrid
BEGIN:DAYLIGHT
TZOFFSETFROM:+0100
TZOFFSETTO:+0200
TZNAME:CEST
DTSTART:20180325T010000
END:DAYLIGHT
BEGIN:STANDARD
TZOFFSETFROM:+0200
TZOFFSETTO:+0100
TZNAME:CET
DTSTART:20181028T010000
END:STANDARD
BEGIN:DAYLIGHT
TZOFFSETFROM:+0100
TZOFFSETTO:+0200
TZNAME:CEST
DTSTART:20190331T010000
END:DAYLIGHT
BEGIN:STANDARD
TZOFFSETFROM:+0200
TZOFFSETTO:+0100
TZNAME:CET
DTSTART:20191027T010000
END:STANDARD
BEGIN:DAYLIGHT
TZOFFSETFROM:+0100
TZOFFSETTO:+0200
TZNAME:CEST
DTSTART:20200329T010000
END:DAYLIGHT
BEGIN:STANDARD
TZOFFSETFROM:+0200
TZOFFSETTO:+0100
TZNAME:CET
DTSTART:20201025T010000
END:STANDARD
END:VTIMEZONE
BEGIN:VEVENT
DTSTART;TZID=Europe/Madrid:20190209T210000
DTEND;TZID=Europe/Madrid:20190209T223000
DTSTAMP:20260420T002535
CREATED:20190116T100259Z
LAST-MODIFIED:20190129T081647Z
UID:17394-1549746000-1549751400@www.valdeolmos-alalpardo.org
SUMMARY:CONCIERTO DEL AMOR - NIURKA
DESCRIPTION:CONCIERTO DEL AMOR – NIURKA\nEn el marco del día del amor Niurka ofrecerá un espectáculo con canciones románticas de toda la vida. \nContará con invitados de lujo y\, como siempre\, con el inigualable toque caribeño. \n¡No faltéis a la fiesta del amor! \nVenta anticipada desde el 29 de enero en BAR EL PILAR. \nEl precio de la entrada es de 9€ para adultos y 5€ para niños (menores de 12 años)
URL:https://www.valdeolmos-alalpardo.org/evento/concierto-del-amor-niurka/
LOCATION:Casa de Cultura de Alalpardo\, C/ Ejidos\, 8\, Alalpardo\, Madrid\, 28130\, España
ATTACH;FMTTYPE=image/jpeg:https://www.valdeolmos-alalpardo.org/wp-content/uploads/Cartel-Concierto-Niurka-e1547636540266.jpeg
END:VEVENT
BEGIN:VEVENT
DTSTART;TZID=Europe/Madrid:20190209T210000
DTEND;TZID=Europe/Madrid:20190209T223000
DTSTAMP:20260420T002535
CREATED:20190116T100259Z
LAST-MODIFIED:20190116T100259Z
UID:23702-1549746000-1549751400@www.valdeolmos-alalpardo.org
SUMMARY:CONCIERTO DEL AMOR - NIURKA
DESCRIPTION:CONCIERTO DEL AMOR – NIURKA\nEn el marco del día del amor Niurka ofrecerá un espectáculo con canciones románticas de toda la vida. \nContará con invitados de lujo y\, como siempre\, con el inigualable toque caribeño. \n¡No faltéis a la fiesta del amor! \nVenta anticipada desde el 29 de enero en BAR EL PILAR. \nEl precio de la entrada es de 9€ para adultos y 5€ para niños (menores de 12 años)
URL:https://www.valdeolmos-alalpardo.org/evento/concierto-del-amor-niurka-2/
LOCATION:Casa de Cultura de Alalpardo\, C/ Ejidos\, 8\, Alalpardo\, Madrid\, 28130\, España
ATTACH;FMTTYPE=image/jpeg:https://www.valdeolmos-alalpardo.org/wp-content/uploads/Cartel-Concierto-Niurka-e1547636540266.jpeg
END:VEVENT
END:VCALENDAR