BEGIN:VCALENDAR
VERSION:2.0
PRODID:-//Ayuntamiento de Valdeolmos-Alalpardo - ECPv6.15.12.2//NONSGML v1.0//EN
CALSCALE:GREGORIAN
METHOD:PUBLISH
X-WR-CALNAME:Ayuntamiento de Valdeolmos-Alalpardo
X-ORIGINAL-URL:https://www.valdeolmos-alalpardo.org
X-WR-CALDESC:Eventos para Ayuntamiento de Valdeolmos-Alalpardo
REFRESH-INTERVAL;VALUE=DURATION:PT1H
X-Robots-Tag:noindex
X-PUBLISHED-TTL:PT1H
BEGIN:VTIMEZONE
TZID:Europe/Madrid
BEGIN:DAYLIGHT
TZOFFSETFROM:+0100
TZOFFSETTO:+0200
TZNAME:CEST
DTSTART:20220327T010000
END:DAYLIGHT
BEGIN:STANDARD
TZOFFSETFROM:+0200
TZOFFSETTO:+0100
TZNAME:CET
DTSTART:20221030T010000
END:STANDARD
BEGIN:DAYLIGHT
TZOFFSETFROM:+0100
TZOFFSETTO:+0200
TZNAME:CEST
DTSTART:20230326T010000
END:DAYLIGHT
BEGIN:STANDARD
TZOFFSETFROM:+0200
TZOFFSETTO:+0100
TZNAME:CET
DTSTART:20231029T010000
END:STANDARD
BEGIN:DAYLIGHT
TZOFFSETFROM:+0100
TZOFFSETTO:+0200
TZNAME:CEST
DTSTART:20240331T010000
END:DAYLIGHT
BEGIN:STANDARD
TZOFFSETFROM:+0200
TZOFFSETTO:+0100
TZNAME:CET
DTSTART:20241027T010000
END:STANDARD
END:VTIMEZONE
BEGIN:VEVENT
DTSTART;TZID=Europe/Madrid:20231115T173000
DTEND;TZID=Europe/Madrid:20231115T190000
DTSTAMP:20260422T125603
CREATED:20231110T102231Z
LAST-MODIFIED:20231110T102231Z
UID:35012-1700069400-1700074800@www.valdeolmos-alalpardo.org
SUMMARY:15 de noviembre: Premios a los Mejores Estudiantes
DESCRIPTION:14 años lleva el Ayuntamiento premiando y reconociendo el talento y esfuerzo de los estudiantes\nEl acto será el miércoles 15 de noviembre a las 17:30 horas en la Sala Al-Artis de la Casa de la Cultura de Alalpardo. Organiza la Concejalía de Educación. \nEn 2009 empezó el Ayuntamiento de Valdeolmos-Alalpardo a premiar a los MEJORES ESTUDIANTES de los dos colegios del municipio. 6 estudiantes del colegio Ramón Linacero de primero a sexto de Primaria y 12 estudiantes del colegio Arula\, 6 de Primaria\, 4 de la ESO y  2 de Bachillerato.  El Ayuntamiento reconoce el talento y el esfuerzo. \nCartel Premio Mejores Estudiantes
URL:https://www.valdeolmos-alalpardo.org/evento/15-de-noviembre-premios-a-los-mejores-estudiantes/
LOCATION:Sala Al Artis\, Calle Egidos\, 8\, Valdeolmos-Alalpardo\, Madrid\, 28130\, España
ATTACH;FMTTYPE=image/jpeg:https://www.valdeolmos-alalpardo.org/wp-content/uploads/2023/11/Cartel-Premio-Mejores-Estudiantes_page-0001.jpg
END:VEVENT
END:VCALENDAR