BEGIN:VCALENDAR
VERSION:2.0
PRODID:-//Ayuntamiento de Valdeolmos-Alalpardo - ECPv6.15.12.2//NONSGML v1.0//EN
CALSCALE:GREGORIAN
METHOD:PUBLISH
X-WR-CALNAME:Ayuntamiento de Valdeolmos-Alalpardo
X-ORIGINAL-URL:https://www.valdeolmos-alalpardo.org
X-WR-CALDESC:Eventos para Ayuntamiento de Valdeolmos-Alalpardo
REFRESH-INTERVAL;VALUE=DURATION:PT1H
X-Robots-Tag:noindex
X-PUBLISHED-TTL:PT1H
BEGIN:VTIMEZONE
TZID:Europe/Madrid
BEGIN:DAYLIGHT
TZOFFSETFROM:+0100
TZOFFSETTO:+0200
TZNAME:CEST
DTSTART:20170326T010000
END:DAYLIGHT
BEGIN:STANDARD
TZOFFSETFROM:+0200
TZOFFSETTO:+0100
TZNAME:CET
DTSTART:20171029T010000
END:STANDARD
BEGIN:DAYLIGHT
TZOFFSETFROM:+0100
TZOFFSETTO:+0200
TZNAME:CEST
DTSTART:20180325T010000
END:DAYLIGHT
BEGIN:STANDARD
TZOFFSETFROM:+0200
TZOFFSETTO:+0100
TZNAME:CET
DTSTART:20181028T010000
END:STANDARD
BEGIN:DAYLIGHT
TZOFFSETFROM:+0100
TZOFFSETTO:+0200
TZNAME:CEST
DTSTART:20190331T010000
END:DAYLIGHT
BEGIN:STANDARD
TZOFFSETFROM:+0200
TZOFFSETTO:+0100
TZNAME:CET
DTSTART:20191027T010000
END:STANDARD
END:VTIMEZONE
BEGIN:VEVENT
DTSTART;TZID=Europe/Madrid:20181003T103000
DTEND;TZID=Europe/Madrid:20181130T180000
DTSTAMP:20260424T012023
CREATED:20180912T101715Z
LAST-MODIFIED:20180912T101715Z
UID:23667-1538562600-1543600800@www.valdeolmos-alalpardo.org
SUMMARY:CLUB DE LECTURA PARA ADULTOS
DESCRIPTION:Una nueva actividad en la Biblioteca Municipal:\n“El Club de Lectura para Adultos”.\nSe inicia en la Biblioteca una nueva sesión del CLUB DE LECTURA. \nLa próxima reunión del CLUB tendrá lugar el día 21 de noviembre. \nEl turno de mañana será a las 10:30 horas y el de tarde a las 17:30 horas. \nLas personas interesadas pueden apuntarse indicando el turno de preferencia en el correo biblioteca@alalpardo.org o en el teléfono 916202665\, indicando nombre\, apellidos y número de teléfono. \nA partir del miércoles 31 de octubre puede recogerse el libro en la biblioteca. \nPara los que tengan dudas sobre el funcionamiento del Club les aclaramos algunos puntos:  \n\nNo se lee en alto en las sesiones\nNo hay que intervenir forzosamente en los debates\nNo tiene que comprarse el libro cada uno\nNo hay que pagar nada para pertenecer al Club\nSí se lee en casa\, de una forma personal\nSí se puede acudir a las reuniones aunque no haya dado tiempo a leer todo el fragmento marcado\n\nPara cualquier pregunta o aclaración sobre el Club de Lectura o sobre su funcionamiento no dudéis en pasar por la Biblioteca para intentar resolverlas\, o llamando por teléfono al número antes indicado.
URL:https://www.valdeolmos-alalpardo.org/evento/club-lectura-adultos-biblioteca-municipal-2/
LOCATION:Biblioteca Pública Municipal de Alalpardo\, Travesía de Alcalá\, Alalpardo\, Madrid\, 28130\, España
ATTACH;FMTTYPE=image/jpeg:https://www.valdeolmos-alalpardo.org/wp-content/uploads/CLUB-DE-LECTURA.jpg
END:VEVENT
END:VCALENDAR