BEGIN:VCALENDAR
VERSION:2.0
PRODID:-//Ayuntamiento de Valdeolmos-Alalpardo - ECPv6.15.12.2//NONSGML v1.0//EN
CALSCALE:GREGORIAN
METHOD:PUBLISH
X-ORIGINAL-URL:https://www.valdeolmos-alalpardo.org
X-WR-CALDESC:Eventos para Ayuntamiento de Valdeolmos-Alalpardo
REFRESH-INTERVAL;VALUE=DURATION:PT1H
X-Robots-Tag:noindex
X-PUBLISHED-TTL:PT1H
BEGIN:VTIMEZONE
TZID:Europe/Madrid
BEGIN:DAYLIGHT
TZOFFSETFROM:+0100
TZOFFSETTO:+0200
TZNAME:CEST
DTSTART:20220327T010000
END:DAYLIGHT
BEGIN:STANDARD
TZOFFSETFROM:+0200
TZOFFSETTO:+0100
TZNAME:CET
DTSTART:20221030T010000
END:STANDARD
BEGIN:DAYLIGHT
TZOFFSETFROM:+0100
TZOFFSETTO:+0200
TZNAME:CEST
DTSTART:20230326T010000
END:DAYLIGHT
BEGIN:STANDARD
TZOFFSETFROM:+0200
TZOFFSETTO:+0100
TZNAME:CET
DTSTART:20231029T010000
END:STANDARD
BEGIN:DAYLIGHT
TZOFFSETFROM:+0100
TZOFFSETTO:+0200
TZNAME:CEST
DTSTART:20240331T010000
END:DAYLIGHT
BEGIN:STANDARD
TZOFFSETFROM:+0200
TZOFFSETTO:+0100
TZNAME:CET
DTSTART:20241027T010000
END:STANDARD
END:VTIMEZONE
BEGIN:VEVENT
DTSTART;TZID=Europe/Madrid:20230416T080000
DTEND;TZID=Europe/Madrid:20230416T170000
DTSTAMP:20260426T034959
CREATED:20230308T110029Z
LAST-MODIFIED:20230410T065432Z
UID:32382-1681632000-1681664400@www.valdeolmos-alalpardo.org
SUMMARY:16 de abril: X Carrera Madrid en Marcha contra el Cáncer- El Ayuntamiento te lleva gratis en autobús / Videos
DESCRIPTION:10 años cruzando la meta contra el Cáncer\nEl domingo 16 de abril de 2023 volvemos al Paseo de la Castellana para la que será la edición más especial Carrera Madrid Contra el Cáncer\, celebrando10 años corriendo todos juntos contra el cáncer. \nContaremos con dos tradicionales circuitos de 4km y 10km\, con salidas independientes\, además de carreras infantiles y el Espacio de Actividades Familiares en la Plaza del Descubrimiento. \nPuedes inscribirte a través de este enlace: \nhttps://madridenmarchacontraelcancer.org/eventos/x-carrera-madrid-en-marcha-contra-el-cancer/ \nEl Ayuntamiento te lleva gratis en autobús desde Valdeolmos\, Alalpardo y Miraval. Puedes inscribirte a partir del jueves 9 de marzo.  \nEl 30 de marzo es el último día para tramitarlo desde la Sede Local y entregar inscripciones. \nSi entregas el justificante de inscripción en la Sede de la AECC Alalpardo (Calle San Sebastián 1)\, podemos recoger por tí la bolsa con tu dorsal y camiseta. Te la entregaremos el jueves 13 de abril de 14:00 a 17:00 horas. \nhttps://www.youtube.com/watch?v=PP9mkhpqHQU \nhttps://www.youtube.com/watch?v=MAwo4zZquAQ \nCARTA CARRERA 2023-1 \n     \n 
URL:https://www.valdeolmos-alalpardo.org/evento/16-de-abril-x-carrera-madrid-en-marcha-contra-el-cancer-el-ayuntamiento-te-lleva-gratis-en-autobus/
ATTACH;FMTTYPE=image/jpeg:https://www.valdeolmos-alalpardo.org/wp-content/uploads/2023/03/1280x720_AECC.jpg
END:VEVENT
END:VCALENDAR