BEGIN:VCALENDAR
VERSION:2.0
PRODID:-//Ayuntamiento de Valdeolmos-Alalpardo - ECPv6.15.12.2//NONSGML v1.0//EN
CALSCALE:GREGORIAN
METHOD:PUBLISH
X-ORIGINAL-URL:https://www.valdeolmos-alalpardo.org
X-WR-CALDESC:Eventos para Ayuntamiento de Valdeolmos-Alalpardo
REFRESH-INTERVAL;VALUE=DURATION:PT1H
X-Robots-Tag:noindex
X-PUBLISHED-TTL:PT1H
BEGIN:VTIMEZONE
TZID:Europe/Madrid
BEGIN:DAYLIGHT
TZOFFSETFROM:+0100
TZOFFSETTO:+0200
TZNAME:CEST
DTSTART:20240331T010000
END:DAYLIGHT
BEGIN:STANDARD
TZOFFSETFROM:+0200
TZOFFSETTO:+0100
TZNAME:CET
DTSTART:20241027T010000
END:STANDARD
BEGIN:DAYLIGHT
TZOFFSETFROM:+0100
TZOFFSETTO:+0200
TZNAME:CEST
DTSTART:20250330T010000
END:DAYLIGHT
BEGIN:STANDARD
TZOFFSETFROM:+0200
TZOFFSETTO:+0100
TZNAME:CET
DTSTART:20251026T010000
END:STANDARD
BEGIN:DAYLIGHT
TZOFFSETFROM:+0100
TZOFFSETTO:+0200
TZNAME:CEST
DTSTART:20260329T010000
END:DAYLIGHT
BEGIN:STANDARD
TZOFFSETFROM:+0200
TZOFFSETTO:+0100
TZNAME:CET
DTSTART:20261025T010000
END:STANDARD
END:VTIMEZONE
BEGIN:VEVENT
DTSTART;TZID=Europe/Madrid:20250602T100000
DTEND;TZID=Europe/Madrid:20250602T200000
DTSTAMP:20260420T224444
CREATED:20250528T152255Z
LAST-MODIFIED:20250528T152255Z
UID:39627-1748858400-1748894400@www.valdeolmos-alalpardo.org
SUMMARY:Campaña de vacunación antirrábica e identificación animal 2025
DESCRIPTION:Campaña de vacunación antirrábica e identificación animal 2025\nAlalpardo: En la Clínica Veterinaria de Alalpardo durante el mes de junio \n\nHorario normal de la Clínica\n\nMiraval: Administración \n\nSábado 7 de junio de 11:00 a 13:00 horas\n\nValdeolmos: Salón Cultural \n\nDomingo 8 de junio de 11:00 a 13:00 hora\n\nConsulta precios. \n91 6205763 \n660630398 \nCAMPAÑA RABIA 2025 (2) (1)
URL:https://www.valdeolmos-alalpardo.org/evento/campana-de-vacunacion-antirrabica-e-identificacion-animal-2025/
LOCATION:Alalpardo\, Alalpardo\, Valdeolmos-Alalpardo\, Madrid\, 28130\, España
ATTACH;FMTTYPE=image/jpeg:https://www.valdeolmos-alalpardo.org/wp-content/uploads/2025/05/CAMPANA-RABIA-2025-2-1_page-0001.jpg
END:VEVENT
END:VCALENDAR